{"text_format":"1","workbook":"xlsx","n_sheets":23,"sheets":["Welcome","Define PolicyAction","Identify potential effects","Defining the GHG boundary","Estimating baseline effects","Baseline dynamic parameters","Estimate ex ante GHG","Policy dynamic parameters","Monitoring performance","Estimate ex post GHG","Parameters","Uncertainty","Reporting","Lists","lists (2)","Custom Emission Factors","Stationary emission factors","Mobile Emission Factors","Transport Freight","Unit Conversions","Causal Chain","effects data","References"],"not_rendered":{"charts":1,"images":163,"macros":1,"external_links":8,"defined_names":452,"comments":5,"pivot_tables":0},"unopened":[],"bounds":{"document_bytes":16777216,"sheet_cells":100000,"rows_first":2000,"rows_last":500,"rows_between":2000,"halvings":0,"cell_chars":16384,"cell_head_chars":4096},"cells_cut":0,"cells_raw":0,"read":"whole","date_system":"1900"}

{"sheet":"Welcome","index":0,"n_rows":52,"n_cols":18,"rows_kept":52,"cut":false,"hidden":false,"merged":[[25,0,25,8]]}
[]
[]
[]
[]
[]
[]
[]
[]
[]
[]
[null,null,null,null,null,null,null,null,null,null,null,null,null,null,null,null,null,"V1.0"]
[null,"Welcome to the Policy and Action Standard Tool ",null,null,null,null,null,null,null,null,null,null,null,null,null,null,null,"1st December 2016"]
[null,"An accounting and reporting standard for estimating the greenhouse gas effects of policies and actions"]
[]
[]
[]
["The objective of the tool is to help a user estimate the greenhouse gas effect of a policy or action in line with the Policy and Action Standard. "]
["The tabs across the top are organized by chapter to help you with the accounting steps. The reporting requirements are compiled on the final tab,"]
["which can then be printed out as a report. "]
["How to use this tool:"]
["The navigation tabs at the top of each page align with Chapters 5 to 14 in the standard."]
["Navigate through the tabs from left to right filling in the relevant information as you progress."]
["There is the option to print out each page. A summary is provided on the reporting page. "]
[]
["Start by clicking on the 'Define Policy or Action' tab. "]
[]
["This tool is best suited for relatively simple cases. For more complex cases, it may be necessary"]
["to undertake more detailed calculations outside of the tool. In these cases, this tool can be"]
["used to obtain a preliminary estimate of policy impact before doing further calculations."]
[]
["This tool uses macros. These must be enabled in Excel before this tool will function properly. "]
["If macros are disabled on your version of Excel, open a blank Excel worksheet and follow these"]
["instructions.",null,"Save and close Excel then open the PAS Tool Excel file as before."]
["How to use this tool on an Apple/Mac computer: To run this tool on an Apple/Mac computer"]
[" you will first need to install a Windows virtual machine. ",null,null,null,null,null,"Click here for more information."]
["Data entry fields are color-coded as follows to guide you:"]
[null,null,"light blue: numerical or text data entry"]
[null,null,"orange: option selection (dropdown data entry field)"]
[null,null,"light gray: data which you cannot edit on the current page"]
[]
["You can open the relevant chapter of the standard by clicking on the orange buttons on "]
["each page.  Access the chapters which describe the background, concepts and principles below."]
[]
[]
[]
[]
[null,null,null,null,null,null,null,null,null,null,"For further questions about the Policy and Action Standard, please contact David Rich "]
[null,null,null,null,null,null,null,null,null,null,"To report technical problems with this tool, please contact Craig Simmons"]
[]
[]
[]
[null,null,null,null,null,null,null,null,"Designed and built by"]

{"sheet":"Define PolicyAction","index":1,"n_rows":88,"n_cols":6,"rows_kept":88,"cut":false,"hidden":false,"merged":[]}
[]
[]
[]
[]
[]
[]
[]
[]
[null,null,null,"A complete and accurate definition and description of the policy or action is necessary to effectively carry out subsequent steps in the assessment process and to transparently report the results. Users shall clearly define the policy or action (or package of policies/actions) that is assessed.\nTo print this page, click on the 'Print' button. To save this assessment, click on the 'Save' button. "]
[]
[null,"Information to define the policy or action"]
[]
[1,"Policy or action name ",null,"Example policy or action full name"]
[]
[null,"Policy or action short name",null,"Example policy/action short name",null,{"$f":"IF(LEN(policy_action_short_name)> 35, LEN(policy_action_short_name)-35 & \" characters over maximum length\", \"\")","v":""}]
[null,"(maximum 35 characters)"]
[]
[2,"Individual policy/action or a package of related policies or actions?",null,"Package of related policies or actions"]
[]
[3,"List of policies and actions in the package"]
[]
[4,"Type of relationship between the policies and actions in the package",null,"Independent"]
[]
[5,"Description of policy or action"]
[]
[6,"Type of policy or action"]
[]
[7,"Link to further information on type of policy or action"]
[]
[8,"Description of specific interventions "]
[]
[8,"The status of the policy or action",null,"Planned - policy/action option under discussion, but that has not been adopted yet"]
[]
[9,"Date of implementation"]
[]
[10,"Date of completion (if applicable) "]
[]
[11,"Entity or entities implementing the policy or action"]
[]
[12,"Objective(s) of the policy or action"]
[]
[13,"Intended audience(s)"]
[]
[14,"Geographic coverage",null,"\n\n\n "]
[]
[15,"Which sectors, subsectors, and source/sink categories are targeted?"]
[]
[16,"Greenhouse gases targeted (if applicable)"]
[]
[null,"Other related policies or actions"]
[]
[7,"Link to further information on type of policy or action"]
[]
[null,"Assessment information"]
[]
[17,"Is this assessment ex-post, ex-ante or a combination?",null,"Ex-ante"]
[]
[null,"Intended audience(s) for the assessment"]
[]
[null,"Objective(s) of the assessment"]
[]
[null,"The year the assessment was developed"]
[]
[null,"Is this assessment an update of a previous assessment? If so, please provide a link to any previous assessment(s)"]
[]
[null,"Optional information"]
[]
[18,{"$f":"\"Intended level of mitigation to be achieved and/or\" & CHAR(10) & \"target level of key indicators (if applicable)\"","v":"Intended level of mitigation to be achieved and/or\ntarget level of key indicators (if applicable)"}]
[]
[19,{"$f":"\"Title of establishing legislation, regulations,\" & CHAR(10) & \"or other founding documents\"","v":"Title of establishing legislation, regulations,\nor other founding documents"}]
[]
[20,"Monitoring, reporting, and verification procedures"]
[]
[21,"Enforcement mechanisms"]
[]
[22,"Reference to relevant guidance documents"]
[]
[23,"The broader context/significance of the policy/action"]
[]
[24,"Outline of non-GHG effects or co-benefits of the policy or action"]
[]
[25,"Other relevant information"]
[]
[null,"Tool settings"]
[]
[null,"Use additional or dynamic policy parameters or add uncertainty ?",null,"no"]
[null,"(affects the 'Estimate Baseline Emissions ' and "]
[null,"  'Estimate GHG Effects Ex-Ante/Ex-Post' pages)"]

{"sheet":"Identify potential effects","index":2,"n_rows":133,"n_cols":27,"rows_kept":133,"cut":false,"hidden":false,"merged":[[70,5,70,20],[12,3,12,4],[13,3,13,4],[8,3,8,8]]}
[]
[]
[]
[]
[]
[]
[]
[]
[null,null,null,"In order to estimate the GHG effects of the policy or action, you must first understand and describe what these effects are. \nYou can do this either using a table format and/or by mapping the causal chain in a diagram format.  \nTo start with the table format, use the table below to list the potential effects of your policy or action. Be sure to include an indicator type, \neffect name, amd effect short name and identify which previous input, activity, or effect they follow from (in the 'Linked from' column), \notherwise they will not appear in the causal chain. For GHG effects only, also fill out the columns related to jurisdiction, source/sink, and gases \nassociated with the effect.  Examples are provided in the table which can be overwritten. You can add or delete rows as needed."]
[null,null,null,"You can alternate between the table format and the causal chain format by clicking on 'Map GHG effects as causal chain'. "]
[null,null,null,"To start with the causal chain format, click on 'Map GHG effects as causal chain' and edit the causal chain directly. In either case, the table below and the causal chain "]
[null,null,null,"will be automatically updated based on the information you enter.  You can go back and forth to enter information in the table and the causal chain as needed. "]
[null,"Click below to ","Policy/action name",{"$f":"policy_action_name","v":"Example policy or action full name"},null,null,null,null,null,null,null,null,null,null,null,null,null,null,null,null,null,null,null,"GHG and intermediate effects that will be included in causal chain"]
[null,"add or remove","Policy/action short name",{"$f":"IF(policy_action_short_name <>\"\", policy_action_short_name, LEFT(D13,35))","v":"Example policy/action short name"}]
[null,"indicators",null,null,"automatically generate short names","GHG effects only",null,null,"GHG effects only","GHG effects only",null,null,null,"Relevant greenhouse gases (GHG effects only)",null,null,null,null,null,null,null,null,null,"child","effect type",null,"parents"]
["key",null,"Indicator Type","Effect name","Effect short name (max 35 characters)","Jurisdiction","Stage","Linked from","Optional information on type of effect","Source/sink category","Source/sink description (optional)","CO2","CH4","N2O","HFCs","PFCs","SF6","NF3","Other GHGs (please enter details)"]
[{"$f":"LEFT(E17,5) & ROW()","v":"input17"},"delete row","input","example input","input","in-jurisdiction",null,"Example policy/action short name",null,"aluminum production (source)"]
["activ18","delete row","activity","example activity 1","activity 1","in-jurisdiction",null,"input",null,"stationary fossil fuel combustion (source)",null,"yes","yes","yes","no","no","no","no"]
["activ19","delete row","activity","example activity 2","activity 2","in-jurisdiction",null,"input"]
["inter20","delete row","intermediate effect","example intermediate effect 1 (first stage)","intermediate effect 1 (1st stage)","out-of-jurisdiction",null,"activity 1",null,"stationary fossil fuel combustion (source)",null,"yes","yes","yes","no","no","no","no"]
[{"$f":"LEFT(D21,5) & ROW()","v":"examp21"},"delete row","intermediate effect","example intermediate effect 2 (first stage)","intermediate effect 2 (1st stage)","in-jurisdiction","Sixth stage","activity 2",null,"stationary fossil fuel combustion (source)",null,"yes","yes","yes","no","no","no","no"]
[{"$f":"LEFT(E22,5) & ROW()","v":"examp22"},"delete row","GHG effect","example effect 1","example effect 1","in-jurisdiction",null,"intermediate effect 1 (1st stage)",null,"stationary fossil fuel combustion (source)",null,"yes","yes","yes","no","no","no","no"]
[{"$f":"LEFT(E23,5) & ROW()","v":"examp23"},"delete row","GHG effect","example effect 2","example effect 2","in-jurisdiction",null,"intermediate effect 2 (1st stage)",null,"mobile fossil fuel combustion (source)",null,"yes","yes","yes","no","no","no","no"]
[{"$f":"LEFT(E24,5) & ROW()","v":"examp24"},"delete row","non-GHG effect","example non-GHG effect","example non-GHG effect","in-jurisdiction",null,"intermediate effect 2 (1st stage)"]
["xEnd","add row",null,null,null,null,null,null,null,null,null,null,null,null,null,null,null,null,null,null,null,null,null,{"$f":"IF(AND(E25<>\"\", OR(C25=\"intermediate effect\", C25=\"GHG effect\")),E25,\"\")","v":""},{"$f":"IF(X25<>\"\", C25,\"\")","v":""},null,{"$f":"IF(AND(OR(C25=\"intermediate effect\", C25=\"GHG effect\"),  H25<>\"\"),H25,\"\")","v":""}]
[null,null,null,null,null,null,null,null,null,null,null,null,null,null,null,null,null,null,null,null,null,null,null,"","",null,""]
[null,null,null,null,null,null,null,null,null,null,null,null,null,null,null,null,null,null,null,null,null,null,null,"","",null,""]
[null,null,null,null,null,null,null,null,null,null,null,null,null,null,null,null,null,null,null,null,null,null,null,"","",null,""]
[null,null,null,null,null,null,null,null,null,null,null,null,null,null,null,null,null,null,null,null,null,null,null,"","",null,""]
[null,null,null,null,null,null,null,null,null,null,null,null,null,null,null,null,null,null,null,null,null,null,null,"","",null,""]
[null,null,null,null,null,null,null,null,null,null,null,null,null,null,null,null,null,null,null,null,null,null,null,"","",null,""]
[null,null,null,null,null,null,null,null,null,null,null,null,null,null,null,null,null,null,null,null,null,null,null,"","",null,""]
[null,null,null,null,null,null,null,null,null,null,null,null,null,null,null,null,null,null,null,null,null,null,null,"","",null,""]
[null,null,null,null,null,null,null,null,null,null,null,null,null,null,null,null,null,null,null,null,null,null,null,"","",null,""]
[null,null,null,null,null,null,null,null,null,null,null,null,null,null,null,null,null,null,null,null,null,null,null,"","",null,""]
[null,null,null,null,null,null,null,null,null,null,null,null,null,null,null,null,null,null,null,null,null,null,null,"","",null,""]
[null,null,null,null,null,null,null,null,null,null,null,null,null,null,null,null,null,null,null,null,null,null,null,"","",null,""]
[null,null,null,null,null,null,null,null,null,null,null,null,null,null,null,null,null,null,null,null,null,null,null,"","",null,""]
[null,null,null,null,null,null,null,null,null,null,null,null,null,null,null,null,null,null,null,null,null,null,null,"","",null,""]
[null,null,null,null,null,null,null,null,null,null,null,null,null,null,null,null,null,null,null,null,null,null,null,"","",null,""]
[null,null,null,null,null,null,null,null,null,null,null,null,null,null,null,null,null,null,null,null,null,null,null,"","",null,""]
[null,null,null,null,null,null,null,null,null,null,null,null,null,null,null,null,null,null,null,null,null,null,null,"","",null,""]
[null,null,null,null,null,null,null,null,null,null,null,null,null,null,null,null,null,null,null,null,null,null,null,"","",null,""]
[null,null,null,null,null,null,null,null,null,null,null,null,null,null,null,null,null,null,null,null,null,null,null,"","",null,""]
[null,null,null,null,null,null,null,null,null,null,null,null,null,null,null,null,null,null,null,null,null,null,null,"","",null,""]
[null,null,null,null,null,null,null,null,null,null,null,null,null,null,null,null,null,null,null,null,null,null,null,"","",null,""]
[null,null,null,null,null,null,null,null,null,null,null,null,null,null,null,null,null,null,null,null,null,null,null,"","",null,""]
[null,null,null,null,null,null,null,null,null,null,null,null,null,null,null,null,null,null,null,null,null,null,null,"","",null,""]
[null,null,null,null,null,null,null,null,null,null,null,null,null,null,null,null,null,null,null,null,null,null,null,"","",null,""]
[null,null,null,null,null,null,null,null,null,null,null,null,null,null,null,null,null,null,null,null,null,null,null,"","",null,""]
[null,null,null,null,null,null,null,null,null,null,null,null,null,null,null,null,null,null,null,null,null,null,null,"","",null,""]
[null,null,null,null,null,null,null,null,null,null,null,null,null,null,null,null,null,null,null,null,null,null,null,"","",null,""]
[null,null,null,null,null,null,null,null,null,null,null,null,null,null,null,null,null,null,null,null,null,null,null,"","",null,""]
[null,null,null,null,null,null,null,null,null,null,null,null,null,null,null,null,null,null,null,null,null,null,null,"","",null,""]
[null,null,null,null,null,null,null,null,null,null,null,null,null,null,null,null,null,null,null,null,null,null,null,"","",null,""]
[null,null,null,null,null,null,null,null,null,null,null,null,null,null,null,null,null,null,null,null,null,null,null,"","",null,""]
[null,null,null,null,null,null,null,null,null,null,null,null,null,null,null,null,null,null,null,null,null,null,null,"","",null,""]
[null,null,null,null,null,null,null,null,null,null,null,null,null,null,null,null,null,null,null,null,null,null,null,"","",null,""]
[null,null,null,null,null,null,null,null,null,null,null,null,null,null,null,null,null,null,null,null,null,null,null,"","",null,""]
[null,null,null,null,null,null,null,null,null,null,null,null,null,null,null,null,null,null,null,null,null,null,null,"","",null,""]
[null,null,null,null,null,null,null,null,null,null,null,null,null,null,null,null,null,null,null,null,null,null,null,"","",null,""]
[null,null,null,null,null,null,null,null,null,null,null,null,null,null,null,null,null,null,null,null,null,null,null,"","",null,""]
[null,null,null,null,null,null,null,null,null,null,null,null,null,null,null,null,null,null,null,null,null,null,null,"","",null,""]
[null,null,null,null,null,null,null,null,null,null,null,null,null,null,null,null,null,null,null,null,null,null,null,"","",null,""]
[null,null,null,null,null,null,null,null,null,null,null,null,null,null,null,null,null,null,null,null,null,null,null,"","",null,""]
[null,null,null,null,null,null,null,null,null,null,null,null,null,null,null,null,null,null,null,null,null,null,null,"","",null,""]
[null,null,null,null,null,null,null,null,null,null,null,null,null,null,null,null,null,null,null,null,null,null,null,"","",null,""]
[null,null,null,null,null,null,null,null,null,null,null,null,null,null,null,null,null,null,null,null,null,null,null,"","",null,""]
[null,null,null,null,null,null,null,null,null,null,null,null,null,null,null,null,null,null,null,null,null,null,null,"","",null,""]
[null,null,null,null,null,null,null,null,null,null,null,null,null,null,null,null,null,null,null,null,null,null,null,"","",null,""]
[null,null,null,null,null,null,null,null,null,null,null,null,null,null,null,null,null,null,null,null,null,null,null,"","",null,""]
[null,null,null,null,null,null,null,null,null,null,null,null,null,null,null,null,null,null,null,null,null,null,null,"","",null,""]
[null,null,null,null,null,null,null,null,null,null,null,null,null,null,null,null,null,null,null,null,null,null,null,"","",null,""]
[null,null,null,null,null,null,null,null,null,null,null,null,null,null,null,null,null,null,null,null,null,null,null,"","",null,""]
[null,null,null,null,null,null,null,null,null,null,null,null,null,null,null,null,null,null,null,null,null,null,null,"","",null,""]
[null,null,null,null,null,null,null,null,null,null,null,null,null,null,null,null,null,null,null,null,null,null,null,"","",null,""]
[null,null,null,null,null,null,null,null,null,null,null,null,null,null,null,null,null,null,null,null,null,null,null,"","",null,""]
[null,null,null,null,null,null,null,null,null,null,null,null,null,null,null,null,null,null,null,null,null,null,null,"","",null,""]
[null,null,null,null,null,null,null,null,null,null,null,null,null,null,null,null,null,null,null,null,null,null,null,"","",null,""]
[null,null,null,null,null,null,null,null,null,null,null,null,null,null,null,null,null,null,null,null,null,null,null,"","",null,""]
[null,null,null,null,null,null,null,null,null,null,null,null,null,null,null,null,null,null,null,null,null,null,null,"","",null,""]
[null,null,null,null,null,null,null,null,null,null,null,null,null,null,null,null,null,null,null,null,null,null,null,"","",null,""]
[null,null,null,null,null,null,null,null,null,null,null,null,null,null,null,null,null,null,null,null,null,null,null,"","",null,""]
[null,null,null,null,null,null,null,null,null,null,null,null,null,null,null,null,null,null,null,null,null,null,null,"","",null,""]
[null,null,null,null,null,null,null,null,null,null,null,null,null,null,null,null,null,null,null,null,null,null,null,"","",null,""]
[null,null,null,null,null,null,null,null,null,null,null,null,null,null,null,null,null,null,null,null,null,null,null,"","",null,""]
[null,null,null,null,null,null,null,null,null,null,null,null,null,null,null,null,null,null,null,null,null,null,null,"","",null,""]
[null,null,null,null,null,null,null,null,null,null,null,null,null,null,null,null,null,null,null,null,null,null,null,"","",null,""]
[null,null,null,null,null,null,null,null,null,null,null,null,null,null,null,null,null,null,null,null,null,null,null,{"$f":"IF(AND(E89<>\"\", OR(C89=\"intermediate effect\", C89=\"GHG effect\")),E89,\"\")","v":""},{"$f":"IF(X89<>\"\", C89,\"\")","v":""},null,{"$f":"IF(AND(OR(C89=\"intermediate effect\", C89=\"GHG effect\"),  H89<>\"\"),H89,\"\")","v":""}]
[null,null,null,null,null,null,null,null,null,null,null,null,null,null,null,null,null,null,null,null,null,null,null,"","",null,""]
[null,null,null,null,null,null,null,null,null,null,null,null,null,null,null,null,null,null,null,null,null,null,null,"","",null,""]
[null,null,null,null,null,null,null,null,null,null,null,null,null,null,null,null,null,null,null,null,null,null,null,"","",null,""]
[null,null,null,null,null,null,null,null,null,null,null,null,null,null,null,null,null,null,null,null,null,null,null,"","",null,""]
[null,null,null,null,null,null,null,null,null,null,null,null,null,null,null,null,null,null,null,null,null,null,null,"","",null,""]
[null,null,null,null,null,null,null,null,null,null,null,null,null,null,null,null,null,null,null,null,null,null,null,"","",null,""]
[null,null,null,null,null,null,null,null,null,null,null,null,null,null,null,null,null,null,null,null,null,null,null,"","",null,""]
[null,null,null,null,null,null,null,null,null,null,null,null,null,null,null,null,null,null,null,null,null,null,null,"","",null,""]
[null,null,"Policy 2",null,null,null,null,null,null,null,null,null,null,null,null,null,null,null,null,null,null,null,null,"","",null,""]
[null,null,null,null,null,null,null,null,null,null,null,null,null,null,null,null,null,null,null,null,null,null,null,"","",null,""]
[null,null,null,null,null,null,null,null,null,null,null,null,null,null,null,null,null,null,null,null,null,null,null,"","",null,""]
[null,null,null,null,null,null,null,null,null,null,null,null,null,null,null,null,null,null,null,null,null,null,null,"","",null,""]
[null,null,null,null,null,null,null,null,null,null,null,null,null,null,null,null,null,null,null,null,null,null,null,"","",null,""]
[null,null,null,null,null,null,null,null,null,null,null,null,null,null,null,null,null,null,null,null,null,null,null,"","",null,""]
[null,null,null,null,null,null,null,null,null,null,null,null,null,null,null,null,null,null,null,null,null,null,null,"","",null,""]
[null,null,"Action 1",null,null,null,null,null,null,null,null,null,null,null,null,null,null,null,null,null,null,null,null,"","",null,""]
[null,null,null,null,null,null,null,null,null,null,null,null,null,null,null,null,null,null,null,null,null,null,null,"","",null,""]
[null,null,null,null,null,null,null,null,null,null,null,null,null,null,null,null,null,null,null,null,null,null,null,"","",null,""]
[null,null,null,null,null,null,null,null,null,null,null,null,null,null,null,null,null,null,null,null,null,null,null,"","",null,""]
[null,null,null,null,null,null,null,null,null,null,null,null,null,null,null,null,null,null,null,null,null,null,null,"","",null,""]
[null,null,null,null,null,null,null,null,null,null,null,null,null,null,null,null,null,null,null,null,null,null,null,"","",null,""]
[null,null,null,null,null,null,null,null,null,null,null,null,null,null,null,null,null,null,null,null,null,null,null,"","",null,""]
[null,null,null,null,null,null,null,null,null,null,null,null,null,null,null,null,null,null,null,null,null,null,null,"","",null,""]
[null,null,null,null,null,null,null,null,null,null,null,null,null,null,null,null,null,null,null,null,null,null,null,"","",null,""]
[null,null,null,null,null,null,null,null,null,null,null,null,null,null,null,null,null,null,null,null,null,null,null,"","",null,""]
[{"$f":"LEFT(D115,5) & ROW()","v":"New E115"},"GHG effect","New Effect 115","New Effect 115","New Effect 115","Third stage","intermediate 4","[select]","stationary fossil fuel combustion (source)",null,null,null,null,null,null,null,null,null,"delete row"]
[{"$f":"LEFT(D116,5) & ROW()","v":"New E116"},"GHG effect","New Effect 115","New Effect 115","New Effect 115","Second stage","intermediate 3","[select]","stationary fossil fuel combustion (source)",null,null,null,null,null,null,null,null,null,"delete row"]
[{"$f":"LEFT(D117,5) & ROW()","v":"link 117"},"GHG effect","link to intermediate 4","link to i4","link to i4","Third stage","intermediate 4","[select]","stationary fossil fuel combustion (source)",null,null,null,null,null,null,null,null,null,"delete row"]
[null,null,null,null,null,null,null,null,null,null,null,null,null,null,null,null,null,null,null,null,null,null,null,"","",null,""]
[{"$f":"LEFT(E119,5) & ROW()","v":"reduc119"},null,"GHG effect","reduced tailpipe","reduced tailpipe",null,"Fourth stage","emissions per kilometer traveled de",null,null,null,null,"delete row"]
[{"$f":"LEFT(E120,5) & ROW()","v":"reduc120"},null,"GHG effect","reduced tailpipe emissions from cars","reduced tailpipe emissions from car",null,"Fourth stage","emissions per kilometer traveled de",null,null,null,null,"delete row"]
[{"$f":"LEFT(E121,5) & ROW()","v":"Margi121"},null,"GHG effect","Marginal increase in tailpipe emissions from cars","Marginal increase in tailpipe emiss",null,"Fourth stage","consumers drive more",null,null,null,null,"delete row"]
[null,null,null,null,null,null,null,null,null,null,null,null,null,null,null,null,null,null,null,null,null,null,null,"","",null,""]
[null,null,null,null,null,null,null,null,null,null,null,null,null,null,null,null,null,null,null,null,null,null,null,"","",null,""]
[null,null,null,null,null,null,null,null,null,null,null,null,null,null,null,null,null,null,null,null,null,null,null,"","",null,""]
[null,null,null,null,null,null,null,null,null,null,null,null,null,null,null,null,null,null,null,null,null,null,null,"","",null,""]
[null,null,null,null,null,null,null,null,null,null,null,null,null,null,null,null,null,null,null,null,null,null,null,"","",null,""]
[null,null,null,null,null,null,null,null,null,null,null,null,null,null,null,null,null,null,null,null,null,null,null,"","",null,""]
[null,null,null,null,null,null,null,null,null,null,null,null,null,null,null,null,null,null,null,null,null,null,null,"","",null,""]
[null,null,null,null,null,null,null,null,null,null,null,null,null,null,null,null,null,null,null,null,null,null,null,"","",null,""]
[null,null,null,null,null,null,null,null,null,null,null,null,null,null,null,null,null,null,null,null,null,null,null,"","",null,""]
[null,null,null,null,null,null,null,null,null,null,null,null,null,null,null,null,null,null,null,null,null,null,null,"","",null,""]
[null,null,null,null,null,null,null,null,null,null,null,null,null,null,null,null,null,null,null,null,null,null,null,"","",null,""]
[null,null,null,null,null,null,null,null,null,null,null,null,null,null,null,null,null,null,null,null,null,null,null,"","",null,""]

{"sheet":"Defining the GHG boundary","index":3,"n_rows":38,"n_cols":12,"rows_kept":38,"cut":false,"hidden":false,"merged":[[10,6,10,11],[12,2,12,3],[11,2,11,3],[8,2,8,4]]}
[]
[]
[]
[]
[]
[]
[]
[]
[null,null,"This page includes the list of GHG effects, sources/sinks, jurisdiction, and gases from the previous page.  Use this page to to identify which ones are significant and should be included in the  assessment, and which may be excluded from the assessment.\nSelect from the options given in the 'Likelihood of occuring' and 'Relative magnitude' columns to get  a recommended approach.  "]
[null,null,"Then indicate, in the 'Include?' column, whether you want to include the effects in your assessment."]
[null,null,null,null,null,"Describe approach used to \ndetermine the significance \nof GHG effects"," \n  \n  \n"]
[null,{"$f":"'Identify potential effects'!C13","v":"Policy/action name"},{"$f":"policy_action_name","v":"Example policy or action full name"}]
[null,{"$f":"'Identify potential effects'!C14","v":"Policy/action short name"},{"$f":"policy_action_short_name","v":"Example policy/action short name"},null,"GHG assessment period (start year)",2020,{"$f":"IF(assessment_type = combined, \"first year of ex-ante data\", \"\")","v":""},2008]
[null,null,null,null,"GHG assessment period (end year)",2025]
[]
[null,"GHG effect","GHG effect short name","Jurisdiction","Source/Sink Category","Source/sink description (optional)","Relevant GHG","Likelihood of occuring","Relative magnitude","Recommended approach","Include?","Justification for exclusion"]
["examp22","example effect 1","example effect 1","in-jurisdiction","stationary fossil fuel combustion (source)",null,"CO2",null,null,{"$f":"IF(OR(H17=\"\", I17=\"\", H17=\"unknown\", I17=\"unknown\"),\"\",IF(OR(I17=\"Minor\", H17=\"Unlikely\", H17=\"Very unlikely\"),\"May exclude\",\"Should include\"))","v":""},"yes"]
["examp22","example effect 1","example effect 1","in-jurisdiction","stationary fossil fuel combustion (source)",null,"CH4",null,null,{"$f":"IF(OR(H18=\"\", I18=\"\", H18=\"unknown\", I18=\"unknown\"),\"\",IF(OR(I18=\"Minor\", H18=\"Unlikely\", H18=\"Very unlikely\"),\"May exclude\",\"Should include\"))","v":""},"yes"]
["examp22","example effect 1","example effect 1","in-jurisdiction","stationary fossil fuel combustion (source)",null,"N2O",null,null,{"$f":"IF(OR(H19=\"\", I19=\"\", H19=\"unknown\", I19=\"unknown\"),\"\",IF(OR(I19=\"Minor\", H19=\"Unlikely\", H19=\"Very unlikely\"),\"May exclude\",\"Should include\"))","v":""},"yes"]
["examp23","example effect 2","example effect 2","in-jurisdiction","mobile fossil fuel combustion (source)",null,"CO2",null,null,{"$f":"IF(OR(H20=\"\", I20=\"\", H20=\"unknown\", I20=\"unknown\"),\"\",IF(OR(I20=\"Minor\", H20=\"Unlikely\", H20=\"Very unlikely\"),\"May exclude\",\"Should include\"))","v":""},"no"]
["examp23","example effect 2","example effect 2","in-jurisdiction","mobile fossil fuel combustion (source)",null,"CH4",null,null,{"$f":"IF(OR(H21=\"\", I21=\"\", H21=\"unknown\", I21=\"unknown\"),\"\",IF(OR(I21=\"Minor\", H21=\"Unlikely\", H21=\"Very unlikely\"),\"May exclude\",\"Should include\"))","v":""},"no"]
["examp23","example effect 2","example effect 2","in-jurisdiction","mobile fossil fuel combustion (source)",null,"N2O",null,null,{"$f":"IF(OR(H22=\"\", I22=\"\", H22=\"unknown\", I22=\"unknown\"),\"\",IF(OR(I22=\"Minor\", H22=\"Unlikely\", H22=\"Very unlikely\"),\"May exclude\",\"Should include\"))","v":""},"no"]
["xEnd"]
["New E25"]
["New E25"]
["New E25"]
["New E26"]
["New E26"]
["New E26"]
["xEnd"]
["sophi30"]
["xEnd"]
["reduc29"]
["reduc29"]
["reduc30"]
["reduc30"]
["reduc30"]
["xEnd"]

{"sheet":"Estimating baseline effects","index":4,"n_rows":206,"n_cols":349,"rows_kept":206,"cut":false,"hidden":false,"merged":[[8,2,8,4],[38,6,38,8],[39,6,39,8],[40,6,40,9],[30,2,30,8],[32,2,32,8],[34,2,34,8],[36,2,36,8],[16,2,16,8],[18,2,18,8],[20,2,20,8],[22,2,22,8],[26,2,26,8],[28,2,28,8]]}
[]
[]
[]
[]
[]
[]
[]
[]
[null,null,"Estimating the impact of a policy or action requires a reference case or baseline scenario. \nTo enter details of your baseline scenario (e.g. method, assumptions), click on 'Enter baseline scenario description'. \nTo enter your baseline emissions data (e.g. activity data, emission factors), click on 'Enter baseline emissions data'."]
[null,null,"You can also choose which GWP values to use and add your own custom emission factors to the datasets contained with this tool."]
[]
[null,"Selected assessment type ",{"$f":"assessment_type","v":"Ex-ante"}]
[null,null,null,null,null,null,null,null,null,null,null,null,null,null,null,null,null,null,null,null,null,null,null,null,null,null,null,null,null,null,null,null,null,null,null,null,null,null,null,null,null,null,null,null,null,null,null,null,null,null,null,null,null,null,null,null,null,null,null,null,null,null,null,null,null,null,null,null,null,null,null,null,null,null,null,null,null,null,null,null,null,null,null,null,null,null,null,null,null,null,null,null,null,null,null,null,null,null,null,null,null,null,null,null,null,null,null,null,null,null,null,null,null,null,null,null,null,null,null,null,null,null,null,null,null,null,null,null,null,null,null,null,null,null,null,null,null,null,null,null,null,null,null,null,null,null,null,null,null,null,null,null,null,null,null,null,null,null,null,null,null,null,null,null,null,null,null,null,null,null,null,null,null,null,null,null,null,null,null,null,null,null,null,null,null,null,null,null,null,null,null,null,null,null,null,null,null,null,null,null,null,null,null,null,null,null,null,null,null,null,null,null,null,null,null,null,null,null,null,null,null,null,null,null,null,null,null,null,null,null,null,null,null,null,null,null,null,null,null,null,{"$f":"'Baseline dynamic parameters'!L17","v":1000}]
[null,"Type of baseline comparison","scenario method"]
[null,"GWP values","IPCC Fifth Assessment Report"]
[]
[null,"A description of the baseline scenario and justification for why it is considered the most likely scenario"]
[]
[null,"The methodology used to estimate baseline emissions, including the emissions estimation methods"]
[]
[null,"Justification for the choice of whether to develop new baseline assumptions and data or use published baseline assumptions and data"]
[]
[null,"List of policies, actions and projects included in the baseline scenario. Any implemented or adopted policies, actions or projects excluded from the baseline scenario with justification for their exclusion","\n"]
[]
[null,"Desired level of accuracy"]
[]
[null,"Whether the baseline scenario includes any planned policies and if so, which planned policies are included"]
[]
[null,"List of non-policy drivers included in the baseline scenario. Any relevant non-policy drivers excluded from the baseline scenario, with justification for their exclusion"]
[]
[null,"Methodology and assumptions used to estimate baseline values for key parameters"]
[]
[null,"All sources of data used for key parameters, including activity data, emission factors, GWP values, and assumptions"]
[]
[null,"Any potential interactions with other policies and actions and whether and how policy interactions were estimated"]
[]
[null,"Any sources, sinks, or greenhouse gases in the GHG assessment boundary that have not been estimated in the baseline scenario, with justification, and a qualitative description of those sources, sinks, or gases"]
[{"$f":"C38","v":0},null,null,null,null,null,"Instructions:"]
[0,"Cumulative baseline emissions (tCO2e)",{"$f":"SUM(Q41:II41)","v":0},{"$f":" \"(\" & assess_start_year & \" to \" & assess_end_year & \")\"","v":"(2020 to 2025)"},null,null,"Select your activity type, activity sub-type and activity data units from the lists in the columns below. "]
[0,"Sub-total out-of-jurisdiction emissions (tCO2e)",{"$f":"SUMIFS(P45:P206,F45:F206,\"out-of-jurisdiction\")","v":0},null,null,null,"If a relevant existing or custom emission factor is available, you will be able to choose whether, or not, to use it.",null,null,null,null,null,null,null,null,null,"Aggregated annual baseline emissions across all source/sink categories (tCO2e)",null,null,null,null,null,null,null,null,null,null,null,null,null,null,null,null,null,null,null,null,null,null,null,null,null,null,null,null,null,null,null,null,null,null,null,null,null,null,null,null,null,null,null,null,null,null,null,null,null,null,null,null,null,null,null,null,null,null,null,null,null,null,null,null,null,null,null,null,null,null,null,null,null,null,null,null,null,null,null,null,null,null,null,null,null,null,null,null,null,null,null,null,null,null,null,null,null,null,null,null,null,null,null,null,null,null,null,null,null,null,null,null,null,null,null,null,null,null,null,null,null,null,null,null,null,null,null,null,null,null,null,null,null,null,null,null,null,null,null,null,null,null,null,null,null,null,null,null,null,null,null,null,null,null,null,null,null,null,null,null,null,null,null,null,null,null,null,null,null,null,null,null,null,null,null,null,null,null,null,null,null,null,null,null,null,null,null,null,null,null,null,null,null,null,null,null,null,null,null,null,null,null,null,null,null,null,null,null,null,null,null,null,null,null,null,null,null,null,null,null,null,null,null,null,null,null,null,null,null,{"$f":"$Q$45","v":0}]
[0,"Sub-total in-jurisdiction emissions (tCO2e)",{"$f":"SUMIFS(P45:P206,F45:F206,\"in-jurisdiction\")","v":0},null,null,null,"If no relevant emission factor can be found you can add your own by clicking on the button below or entering directly in to the emission factor column.",null,null,null,null,null,null,null,null,null,{"$f":"IF(Q44<>\"\",IF($K$42=\"no\", SUMPRODUCT($J$45:$J$206,$K$45:$K$206,Q45:Q206)/1000,SUMPRODUCT($K$45:$K$206,IM45:IM206)/1000),\"\")","v":0},{"$f":"IF(R44<>\"\",IF($K$42=\"no\", SUMPRODUCT($J$45:$J$206,$K$45:$K$206,R45:R206)/1000,SUMPRODUCT($K$45:$K$206,IN45:IN206)/1000),\"\")","v":0},{"$f":"IF(S44<>\"\",IF($K$42=\"no\", SUMPRODUCT($J$45:$J$206,$K$45:$K$206,S45:S206)/1000,SUMPRODUCT($K$45:$K$206,IO45:IO206)/1000),\"\")","v":0},{"$f":"IF(T44<>\"\",IF($K$42=\"no\", SUMPRODUCT($J$45:$J$206,$K$45:$K$206,T45:T206)/1000,SUMPRODUCT($K$45:$K$206,IP45:IP206)/1000),\"\")","v":0},0,0,"","","","","","","","","","","","","","","","","","","","","","","","","","","","","","","","","","","","","","","","","","","","","","","","","","","","","","","","","","","",{"$f":"IF(CD44<>\"\",IF($K$42=\"no\", SUMPRODUCT($J$45:$J$206,$K$45:$K$206,CD45:CD206)/1000,SUMPRODUCT($K$45:$K$206,KZ45:KZ206)/1000),\"\")","v":""},"","","","","","","","","","","","","","","","","","","","","","","","","","","","","","","","","","","","","",{"$f":"IF(DP44<>\"\",IF($K$42=\"no\", SUMPRODUCT($J$45:$J$206,$K$45:$K$206,DP45:DP206)/1000,SUMPRODUCT($K$45:$K$206,#REF!)/1000),\"\")","v":""},{"$f":"IF(DQ44<>\"\",IF($K$42=\"no\", SUMPRODUCT($J$45:$J$206,$K$45:$K$206,DQ45:DQ206)/1000,SUMPRODUCT($K$45:$K$206,#REF!)/1000),\"\")","v":""},{"$f":"IF(DR44<>\"\",IF($K$42=\"no\", SUMPRODUCT($J$45:$J$206,$K$45:$K$206,DR45:DR206)/1000,SUMPRODUCT($K$45:$K$206,#REF!)/1000),\"\")","v":""},{"$f":"IF(DS44<>\"\",IF($K$42=\"no\", SUMPRODUCT($J$45:$J$206,$K$45:$K$206,DS45:DS206)/1000,SUMPRODUCT($K$45:$K$206,#REF!)/1000),\"\")","v":""},{"$f":"IF(DT44<>\"\",IF($K$42=\"no\", SUMPRODUCT($J$45:$J$206,$K$45:$K$206,DT45:DT206)/1000,SUMPRODUCT($K$45:$K$206,#REF!)/1000),\"\")","v":""},{"$f":"IF(DU44<>\"\",IF($K$42=\"no\", SUMPRODUCT($J$45:$J$206,$K$45:$K$206,DU45:DU206)/1000,SUMPRODUCT($K$45:$K$206,#REF!)/1000),\"\")","v":""},{"$f":"IF(DV44<>\"\",IF($K$42=\"no\", SUMPRODUCT($J$45:$J$206,$K$45:$K$206,DV45:DV206)/1000,SUMPRODUCT($K$45:$K$206,#REF!)/1000),\"\")","v":""},{"$f":"IF(DW44<>\"\",IF($K$42=\"no\", SUMPRODUCT($J$45:$J$206,$K$45:$K$206,DW45:DW206)/1000,SUMPRODUCT($K$45:$K$206,#REF!)/1000),\"\")","v":""},{"$f":"IF(DX44<>\"\",IF($K$42=\"no\", SUMPRODUCT($J$45:$J$206,$K$45:$K$206,DX45:DX206)/1000,SUMPRODUCT($K$45:$K$206,#REF!)/1000),\"\")","v":""},{"$f":"IF(DY44<>\"\",IF($K$42=\"no\", SUMPRODUCT($J$45:$J$206,$K$45:$K$206,DY45:DY206)/1000,SUMPRODUCT($K$45:$K$206,#REF!)/1000),\"\")","v":""},{"$f":"IF(DZ44<>\"\",IF($K$42=\"no\", SUMPRODUCT($J$45:$J$206,$K$45:$K$206,DZ45:DZ206)/1000,SUMPRODUCT($K$45:$K$206,#REF!)/1000),\"\")","v":""},{"$f":"IF(EA44<>\"\",IF($K$42=\"no\", SUMPRODUCT($J$45:$J$206,$K$45:$K$206,EA45:EA206)/1000,SUMPRODUCT($K$45:$K$206,#REF!)/1000),\"\")","v":""},{"$f":"IF(EB44<>\"\",IF($K$42=\"no\", SUMPRODUCT($J$45:$J$206,$K$45:$K$206,EB45:EB206)/1000,SUMPRODUCT($K$45:$K$206,#REF!)/1000),\"\")","v":""},{"$f":"IF(EC44<>\"\",IF($K$42=\"no\", SUMPRODUCT($J$45:$J$206,$K$45:$K$206,EC45:EC206)/1000,SUMPRODUCT($K$45:$K$206,#REF!)/1000),\"\")","v":""},{"$f":"IF(ED44<>\"\",IF($K$42=\"no\", SUMPRODUCT($J$45:$J$206,$K$45:$K$206,ED45:ED206)/1000,SUMPRODUCT($K$45:$K$206,#REF!)/1000),\"\")","v":""},{"$f":"IF(EE44<>\"\",IF($K$42=\"no\", SUMPRODUCT($J$45:$J$206,$K$45:$K$206,EE45:EE206)/1000,SUMPRODUCT($K$45:$K$206,#REF!)/1000),\"\")","v":""},{"$f":"IF(EF44<>\"\",IF($K$42=\"no\", SUMPRODUCT($J$45:$J$206,$K$45:$K$206,EF45:EF206)/1000,SUMPRODUCT($K$45:$K$206,#REF!)/1000),\"\")","v":""},{"$f":"IF(EG44<>\"\",IF($K$42=\"no\", SUMPRODUCT($J$45:$J$206,$K$45:$K$206,EG45:EG206)/1000,SUMPRODUCT($K$45:$K$206,#REF!)/1000),\"\")","v":""},{"$f":"IF(EH44<>\"\",IF($K$42=\"no\", SUMPRODUCT($J$45:$J$206,$K$45:$K$206,EH45:EH206)/1000,SUMPRODUCT($K$45:$K$206,#REF!)/1000),\"\")","v":""},{"$f":"IF(EI44<>\"\",IF($K$42=\"no\", SUMPRODUCT($J$45:$J$206,$K$45:$K$206,EI45:EI206)/1000,SUMPRODUCT($K$45:$K$206,#REF!)/1000),\"\")","v":""},{"$f":"IF(EJ44<>\"\",IF($K$42=\"no\", SUMPRODUCT($J$45:$J$206,$K$45:$K$206,EJ45:EJ206)/1000,SUMPRODUCT($K$45:$K$206,#REF!)/1000),\"\")","v":""},{"$f":"IF(EK44<>\"\",IF($K$42=\"no\", SUMPRODUCT($J$45:$J$206,$K$45:$K$206,EK45:EK206)/1000,SUMPRODUCT($K$45:$K$206,#REF!)/1000),\"\")","v":""},{"$f":"IF(EL44<>\"\",IF($K$42=\"no\", SUMPRODUCT($J$45:$J$206,$K$45:$K$206,EL45:EL206)/1000,SUMPRODUCT($K$45:$K$206,#REF!)/1000),\"\")","v":""},{"$f":"IF(EM44<>\"\",IF($K$42=\"no\", SUMPRODUCT($J$45:$J$206,$K$45:$K$206,EM45:EM206)/1000,SUMPRODUCT($K$45:$K$206,#REF!)/1000),\"\")","v":""},{"$f":"IF(EN44<>\"\",IF($K$42=\"no\", SUMPRODUCT($J$45:$J$206,$K$45:$K$206,EN45:EN206)/1000,SUMPRODUCT($K$45:$K$206,#REF!)/1000),\"\")","v":""},{"$f":"IF(EO44<>\"\",IF($K$42=\"no\", SUMPRODUCT($J$45:$J$206,$K$45:$K$206,EO45:EO206)/1000,SUMPRODUCT($K$45:$K$206,#REF!)/1000),\"\")","v":""},{"$f":"IF(EP44<>\"\",IF($K$42=\"no\", SUMPRODUCT($J$45:$J$206,$K$45:$K$206,EP45:EP206)/1000,SUMPRODUCT($K$45:$K$206,#REF!)/1000),\"\")","v":""},{"$f":"IF(EQ44<>\"\",IF($K$42=\"no\", SUMPRODUCT($J$45:$J$206,$K$45:$K$206,EQ45:EQ206)/1000,SUMPRODUCT($K$45:$K$206,#REF!)/1000),\"\")","v":""},{"$f":"IF(ER44<>\"\",IF($K$42=\"no\", SUMPRODUCT($J$45:$J$206,$K$45:$K$206,ER45:ER206)/1000,SUMPRODUCT($K$45:$K$206,#REF!)/1000),\"\")","v":""},{"$f":"IF(ES44<>\"\",IF($K$42=\"no\", SUMPRODUCT($J$45:$J$206,$K$45:$K$206,ES45:ES206)/1000,SUMPRODUCT($K$45:$K$206,#REF!)/1000),\"\")","v":""},{"$f":"IF(ET44<>\"\",IF($K$42=\"no\", SUMPRODUCT($J$45:$J$206,$K$45:$K$206,ET45:ET206)/1000,SUMPRODUCT($K$45:$K$206,#REF!)/1000),\"\")","v":""},{"$f":"IF(EU44<>\"\",IF($K$42=\"no\", SUMPRODUCT($J$45:$J$206,$K$45:$K$206,EU45:EU206)/1000,SUMPRODUCT($K$45:$K$206,#REF!)/1000),\"\")","v":""},{"$f":"IF(EV44<>\"\",IF($K$42=\"no\", SUMPRODUCT($J$45:$J$206,$K$45:$K$206,EV45:EV206)/1000,SUMPRODUCT($K$45:$K$206,#REF!)/1000),\"\")","v":""},{"$f":"IF(EW44<>\"\",IF($K$42=\"no\", SUMPRODUCT($J$45:$J$206,$K$45:$K$206,EW45:EW206)/1000,SUMPRODUCT($K$45:$K$206,#REF!)/1000),\"\")","v":""},{"$f":"IF(EX44<>\"\",IF($K$42=\"no\", SUMPRODUCT($J$45:$J$206,$K$45:$K$206,EX45:EX206)/1000,SUMPRODUCT($K$45:$K$206,#REF!)/1000),\"\")","v":""},{"$f":"IF(EY44<>\"\",IF($K$42=\"no\", SUMPRODUCT($J$45:$J$206,$K$45:$K$206,EY45:EY206)/1000,SUMPRODUCT($K$45:$K$206,#REF!)/1000),\"\")","v":""},{"$f":"IF(EZ44<>\"\",IF($K$42=\"no\", SUMPRODUCT($J$45:$J$206,$K$45:$K$206,EZ45:EZ206)/1000,SUMPRODUCT($K$45:$K$206,#REF!)/1000),\"\")","v":""},{"$f":"IF(FA44<>\"\",IF($K$42=\"no\", SUMPRODUCT($J$45:$J$206,$K$45:$K$206,FA45:FA206)/1000,SUMPRODUCT($K$45:$K$206,#REF!)/1000),\"\")","v":""},{"$f":"IF(FB44<>\"\",IF($K$42=\"no\", SUMPRODUCT($J$45:$J$206,$K$45:$K$206,FB45:FB206)/1000,SUMPRODUCT($K$45:$K$206,#REF!)/1000),\"\")","v":""},{"$f":"IF(FC44<>\"\",IF($K$42=\"no\", SUMPRODUCT($J$45:$J$206,$K$45:$K$206,FC45:FC206)/1000,SUMPRODUCT($K$45:$K$206,#REF!)/1000),\"\")","v":""},{"$f":"IF(FD44<>\"\",IF($K$42=\"no\", SUMPRODUCT($J$45:$J$206,$K$45:$K$206,FD45:FD206)/1000,SUMPRODUCT($K$45:$K$206,#REF!)/1000),\"\")","v":""},{"$f":"IF(FE44<>\"\",IF($K$42=\"no\", SUMPRODUCT($J$45:$J$206,$K$45:$K$206,FE45:FE206)/1000,SUMPRODUCT($K$45:$K$206,#REF!)/1000),\"\")","v":""},{"$f":"IF(FF44<>\"\",IF($K$42=\"no\", SUMPRODUCT($J$45:$J$206,$K$45:$K$206,FF45:FF206)/1000,SUMPRODUCT($K$45:$K$206,#REF!)/1000),\"\")","v":""},{"$f":"IF(FG44<>\"\",IF($K$42=\"no\", SUMPRODUCT($J$45:$J$206,$K$45:$K$206,FG45:FG206)/1000,SUMPRODUCT($K$45:$K$206,#REF!)/1000),\"\")","v":""},{"$f":"IF(FH44<>\"\",IF($K$42=\"no\", SUMPRODUCT($J$45:$J$206,$K$45:$K$206,FH45:FH206)/1000,SUMPRODUCT($K$45:$K$206,#REF!)/1000),\"\")","v":""},{"$f":"IF(FI44<>\"\",IF($K$42=\"no\", SUMPRODUCT($J$45:$J$206,$K$45:$K$206,FI45:FI206)/1000,SUMPRODUCT($K$45:$K$206,#REF!)/1000),\"\")","v":""},{"$f":"IF(FJ44<>\"\",IF($K$42=\"no\", SUMPRODUCT($J$45:$J$206,$K$45:$K$206,FJ45:FJ206)/1000,SUMPRODUCT($K$45:$K$206,#REF!)/1000),\"\")","v":""},{"$f":"IF(FK44<>\"\",IF($K$42=\"no\", SUMPRODUCT($J$45:$J$206,$K$45:$K$206,FK45:FK206)/1000,SUMPRODUCT($K$45:$K$206,#REF!)/1000),\"\")","v":""},{"$f":"IF(FL44<>\"\",IF($K$42=\"no\", SUMPRODUCT($J$45:$J$206,$K$45:$K$206,FL45:FL206)/1000,SUMPRODUCT($K$45:$K$206,#REF!)/1000),\"\")","v":""},{"$f":"IF(FM44<>\"\",IF($K$42=\"no\", SUMPRODUCT($J$45:$J$206,$K$45:$K$206,FM45:FM206)/1000,SUMPRODUCT($K$45:$K$206,#REF!)/1000),\"\")","v":""},{"$f":"IF(FN44<>\"\",IF($K$42=\"no\", SUMPRODUCT($J$45:$J$206,$K$45:$K$206,FN45:FN206)/1000,SUMPRODUCT($K$45:$K$206,#REF!)/1000),\"\")","v":""},{"$f":"IF(FO44<>\"\",IF($K$42=\"no\", SUMPRODUCT($J$45:$J$206,$K$45:$K$206,FO45:FO206)/1000,SUMPRODUCT($K$45:$K$206,#REF!)/1000),\"\")","v":""},{"$f":"IF(FP44<>\"\",IF($K$42=\"no\", SUMPRODUCT($J$45:$J$206,$K$45:$K$206,FP45:FP206)/1000,SUMPRODUCT($K$45:$K$206,#REF!)/1000),\"\")","v":""},{"$f":"IF(FQ44<>\"\",IF($K$42=\"no\", SUMPRODUCT($J$45:$J$206,$K$45:$K$206,FQ45:FQ206)/1000,SUMPRODUCT($K$45:$K$206,#REF!)/1000),\"\")","v":""},{"$f":"IF(FR44<>\"\",IF($K$42=\"no\", SUMPRODUCT($J$45:$J$206,$K$45:$K$206,FR45:FR206)/1000,SUMPRODUCT($K$45:$K$206,#REF!)/1000),\"\")","v":""},{"$f":"IF(FS44<>\"\",IF($K$42=\"no\", SUMPRODUCT($J$45:$J$206,$K$45:$K$206,FS45:FS206)/1000,SUMPRODUCT($K$45:$K$206,#REF!)/1000),\"\")","v":""},{"$f":"IF(FT44<>\"\",IF($K$42=\"no\", SUMPRODUCT($J$45:$J$206,$K$45:$K$206,FT45:FT206)/1000,SUMPRODUCT($K$45:$K$206,#REF!)/1000),\"\")","v":""},{"$f":"IF(FU44<>\"\",IF($K$42=\"no\", SUMPRODUCT($J$45:$J$206,$K$45:$K$206,FU45:FU206)/1000,SUMPRODUCT($K$45:$K$206,#REF!)/1000),\"\")","v":""},{"$f":"IF(FV44<>\"\",IF($K$42=\"no\", SUMPRODUCT($J$45:$J$206,$K$45:$K$206,FV45:FV206)/1000,SUMPRODUCT($K$45:$K$206,#REF!)/1000),\"\")","v":""},{"$f":"IF(FW44<>\"\",IF($K$42=\"no\", SUMPRODUCT($J$45:$J$206,$K$45:$K$206,FW45:FW206)/1000,SUMPRODUCT($K$45:$K$206,#REF!)/1000),\"\")","v":""},{"$f":"IF(FX44<>\"\",IF($K$42=\"no\", SUMPRODUCT($J$45:$J$206,$K$45:$K$206,FX45:FX206)/1000,SUMPRODUCT($K$45:$K$206,#REF!)/1000),\"\")","v":""},{"$f":"IF(FY44<>\"\",IF($K$42=\"no\", SUMPRODUCT($J$45:$J$206,$K$45:$K$206,FY45:FY206)/1000,SUMPRODUCT($K$45:$K$206,#REF!)/1000),\"\")","v":""},{"$f":"IF(FZ44<>\"\",IF($K$42=\"no\", SUMPRODUCT($J$45:$J$206,$K$45:$K$206,FZ45:FZ206)/1000,SUMPRODUCT($K$45:$K$206,#REF!)/1000),\"\")","v":""},{"$f":"IF(GA44<>\"\",IF($K$42=\"no\", SUMPRODUCT($J$45:$J$206,$K$45:$K$206,GA45:GA206)/1000,SUMPRODUCT($K$45:$K$206,#REF!)/1000),\"\")","v":""},{"$f":"IF(GB44<>\"\",IF($K$42=\"no\", SUMPRODUCT($J$45:$J$206,$K$45:$K$206,GB45:GB206)/1000,SUMPRODUCT($K$45:$K$206,#REF!)/1000),\"\")","v":""},{"$f":"IF(GC44<>\"\",IF($K$42=\"no\", SUMPRODUCT($J$45:$J$206,$K$45:$K$206,GC45:GC206)/1000,SUMPRODUCT($K$45:$K$206,#REF!)/1000),\"\")","v":""},{"$f":"IF(GD44<>\"\",IF($K$42=\"no\", SUMPRODUCT($J$45:$J$206,$K$45:$K$206,GD45:GD206)/1000,SUMPRODUCT($K$45:$K$206,#REF!)/1000),\"\")","v":""},{"$f":"IF(GE44<>\"\",IF($K$42=\"no\", SUMPRODUCT($J$45:$J$206,$K$45:$K$206,GE45:GE206)/1000,SUMPRODUCT($K$45:$K$206,#REF!)/1000),\"\")","v":""},{"$f":"IF(GF44<>\"\",IF($K$42=\"no\", SUMPRODUCT($J$45:$J$206,$K$45:$K$206,GF45:GF206)/1000,SUMPRODUCT($K$45:$K$206,#REF!)/1000),\"\")","v":""},{"$f":"IF(GG44<>\"\",IF($K$42=\"no\", SUMPRODUCT($J$45:$J$206,$K$45:$K$206,GG45:GG206)/1000,SUMPRODUCT($K$45:$K$206,#REF!)/1000),\"\")","v":""},{"$f":"IF(GH44<>\"\",IF($K$42=\"no\", SUMPRODUCT($J$45:$J$206,$K$45:$K$206,GH45:GH206)/1000,SUMPRODUCT($K$45:$K$206,#REF!)/1000),\"\")","v":""},{"$f":"IF(GI44<>\"\",IF($K$42=\"no\", SUMPRODUCT($J$45:$J$206,$K$45:$K$206,GI45:GI206)/1000,SUMPRODUCT($K$45:$K$206,#REF!)/1000),\"\")","v":""},{"$f":"IF(GJ44<>\"\",IF($K$42=\"no\", SUMPRODUCT($J$45:$J$206,$K$45:$K$206,GJ45:GJ206)/1000,SUMPRODUCT($K$45:$K$206,#REF!)/1000),\"\")","v":""},{"$f":"IF(GK44<>\"\",IF($K$42=\"no\", SUMPRODUCT($J$45:$J$206,$K$45:$K$206,GK45:GK206)/1000,SUMPRODUCT($K$45:$K$206,#REF!)/1000),\"\")","v":""},{"$f":"IF(GL44<>\"\",IF($K$42=\"no\", SUMPRODUCT($J$45:$J$206,$K$45:$K$206,GL45:GL206)/1000,SUMPRODUCT($K$45:$K$206,#REF!)/1000),\"\")","v":""},{"$f":"IF(GM44<>\"\",IF($K$42=\"no\", SUMPRODUCT($J$45:$J$206,$K$45:$K$206,GM45:GM206)/1000,SUMPRODUCT($K$45:$K$206,#REF!)/1000),\"\")","v":""},{"$f":"IF(GN44<>\"\",IF($K$42=\"no\", SUMPRODUCT($J$45:$J$206,$K$45:$K$206,GN45:GN206)/1000,SUMPRODUCT($K$45:$K$206,#REF!)/1000),\"\")","v":""},{"$f":"IF(GO44<>\"\",IF($K$42=\"no\", SUMPRODUCT($J$45:$J$206,$K$45:$K$206,GO45:GO206)/1000,SUMPRODUCT($K$45:$K$206,#REF!)/1000),\"\")","v":""},{"$f":"IF(GP44<>\"\",IF($K$42=\"no\", SUMPRODUCT($J$45:$J$206,$K$45:$K$206,GP45:GP206)/1000,SUMPRODUCT($K$45:$K$206,#REF!)/1000),\"\")","v":""},{"$f":"IF(GQ44<>\"\",IF($K$42=\"no\", SUMPRODUCT($J$45:$J$206,$K$45:$K$206,GQ45:GQ206)/1000,SUMPRODUCT($K$45:$K$206,#REF!)/1000),\"\")","v":""},{"$f":"IF(GR44<>\"\",IF($K$42=\"no\", SUMPRODUCT($J$45:$J$206,$K$45:$K$206,GR45:GR206)/1000,SUMPRODUCT($K$45:$K$206,#REF!)/1000),\"\")","v":""},{"$f":"IF(GS44<>\"\",IF($K$42=\"no\", SUMPRODUCT($J$45:$J$206,$K$45:$K$206,GS45:GS206)/1000,SUMPRODUCT($K$45:$K$206,#REF!)/1000),\"\")","v":""},{"$f":"IF(GT44<>\"\",IF($K$42=\"no\", SUMPRODUCT($J$45:$J$206,$K$45:$K$206,GT45:GT206)/1000,SUMPRODUCT($K$45:$K$206,#REF!)/1000),\"\")","v":""},{"$f":"IF(GU44<>\"\",IF($K$42=\"no\", SUMPRODUCT($J$45:$J$206,$K$45:$K$206,GU45:GU206)/1000,SUMPRODUCT($K$45:$K$206,#REF!)/1000),\"\")","v":""},{"$f":"IF(GV44<>\"\",IF($K$42=\"no\", SUMPRODUCT($J$45:$J$206,$K$45:$K$206,GV45:GV206)/1000,SUMPRODUCT($K$45:$K$206,#REF!)/1000),\"\")","v":""},{"$f":"IF(GW44<>\"\",IF($K$42=\"no\", SUMPRODUCT($J$45:$J$206,$K$45:$K$206,GW45:GW206)/1000,SUMPRODUCT($K$45:$K$206,#REF!)/1000),\"\")","v":""},{"$f":"IF(GX44<>\"\",IF($K$42=\"no\", SUMPRODUCT($J$45:$J$206,$K$45:$K$206,GX45:GX206)/1000,SUMPRODUCT($K$45:$K$206,#REF!)/1000),\"\")","v":""},{"$f":"IF(GY44<>\"\",IF($K$42=\"no\", SUMPRODUCT($J$45:$J$206,$K$45:$K$206,GY45:GY206)/1000,SUMPRODUCT($K$45:$K$206,#REF!)/1000),\"\")","v":""},{"$f":"IF(GZ44<>\"\",IF($K$42=\"no\", SUMPRODUCT($J$45:$J$206,$K$45:$K$206,GZ45:GZ206)/1000,SUMPRODUCT($K$45:$K$206,#REF!)/1000),\"\")","v":""},{"$f":"IF(HA44<>\"\",IF($K$42=\"no\", SUMPRODUCT($J$45:$J$206,$K$45:$K$206,HA45:HA206)/1000,SUMPRODUCT($K$45:$K$206,#REF!)/1000),\"\")","v":""},{"$f":"IF(HB44<>\"\",IF($K$42=\"no\", SUMPRODUCT($J$45:$J$206,$K$45:$K$206,HB45:HB206)/1000,SUMPRODUCT($K$45:$K$206,#REF!)/1000),\"\")","v":""},{"$f":"IF(HC44<>\"\",IF($K$42=\"no\", SUMPRODUCT($J$45:$J$206,$K$45:$K$206,HC45:HC206)/1000,SUMPRODUCT($K$45:$K$206,#REF!)/1000),\"\")","v":""},{"$f":"IF(HD44<>\"\",IF($K$42=\"no\", SUMPRODUCT($J$45:$J$206,$K$45:$K$206,HD45:HD206)/1000,SUMPRODUCT($K$45:$K$206,#REF!)/1000),\"\")","v":""},{"$f":"IF(HE44<>\"\",IF($K$42=\"no\", SUMPRODUCT($J$45:$J$206,$K$45:$K$206,HE45:HE206)/1000,SUMPRODUCT($K$45:$K$206,#REF!)/1000),\"\")","v":""},{"$f":"IF(HF44<>\"\",IF($K$42=\"no\", SUMPRODUCT($J$45:$J$206,$K$45:$K$206,HF45:HF206)/1000,SUMPRODUCT($K$45:$K$206,#REF!)/1000),\"\")","v":""},{"$f":"IF(HG44<>\"\",IF($K$42=\"no\", SUMPRODUCT($J$45:$J$206,$K$45:$K$206,HG45:HG206)/1000,SUMPRODUCT($K$45:$K$206,#REF!)/1000),\"\")","v":""},{"$f":"IF(HH44<>\"\",IF($K$42=\"no\", SUMPRODUCT($J$45:$J$206,$K$45:$K$206,HH45:HH206)/1000,SUMPRODUCT($K$45:$K$206,#REF!)/1000),\"\")","v":""},{"$f":"IF(HI44<>\"\",IF($K$42=\"no\", SUMPRODUCT($J$45:$J$206,$K$45:$K$206,HI45:HI206)/1000,SUMPRODUCT($K$45:$K$206,#REF!)/1000),\"\")","v":""},{"$f":"IF(HJ44<>\"\",IF($K$42=\"no\", SUMPRODUCT($J$45:$J$206,$K$45:$K$206,HJ45:HJ206)/1000,SUMPRODUCT($K$45:$K$206,#REF!)/1000),\"\")","v":""},{"$f":"IF(HK44<>\"\",IF($K$42=\"no\", SUMPRODUCT($J$45:$J$206,$K$45:$K$206,HK45:HK206)/1000,SUMPRODUCT($K$45:$K$206,#REF!)/1000),\"\")","v":""},{"$f":"IF(HL44<>\"\",IF($K$42=\"no\", SUMPRODUCT($J$45:$J$206,$K$45:$K$206,HL45:HL206)/1000,SUMPRODUCT($K$45:$K$206,#REF!)/1000),\"\")","v":""},{"$f":"IF(HM44<>\"\",IF($K$42=\"no\", SUMPRODUCT($J$45:$J$206,$K$45:$K$206,HM45:HM206)/1000,SUMPRODUCT($K$45:$K$206,#REF!)/1000),\"\")","v":""},{"$f":"IF(HN44<>\"\",IF($K$42=\"no\", SUMPRODUCT($J$45:$J$206,$K$45:$K$206,HN45:HN206)/1000,SUMPRODUCT($K$45:$K$206,#REF!)/1000),\"\")","v":""},{"$f":"IF(HO44<>\"\",IF($K$42=\"no\", SUMPRODUCT($J$45:$J$206,$K$45:$K$206,HO45:HO206)/1000,SUMPRODUCT($K$45:$K$206,#REF!)/1000),\"\")","v":""},{"$f":"IF(HP44<>\"\",IF($K$42=\"no\", SUMPRODUCT($J$45:$J$206,$K$45:$K$206,HP45:HP206)/1000,SUMPRODUCT($K$45:$K$206,#REF!)/1000),\"\")","v":""},{"$f":"IF(HQ44<>\"\",IF($K$42=\"no\", SUMPRODUCT($J$45:$J$206,$K$45:$K$206,HQ45:HQ206)/1000,SUMPRODUCT($K$45:$K$206,#REF!)/1000),\"\")","v":""},{"$f":"IF(HR44<>\"\",IF($K$42=\"no\", SUMPRODUCT($J$45:$J$206,$K$45:$K$206,HR45:HR206)/1000,SUMPRODUCT($K$45:$K$206,#REF!)/1000),\"\")","v":""},{"$f":"IF(HS44<>\"\",IF($K$42=\"no\", SUMPRODUCT($J$45:$J$206,$K$45:$K$206,HS45:HS206)/1000,SUMPRODUCT($K$45:$K$206,#REF!)/1000),\"\")","v":""},{"$f":"IF(HT44<>\"\",IF($K$42=\"no\", SUMPRODUCT($J$45:$J$206,$K$45:$K$206,HT45:HT206)/1000,SUMPRODUCT($K$45:$K$206,#REF!)/1000),\"\")","v":""},{"$f":"IF(HU44<>\"\",IF($K$42=\"no\", SUMPRODUCT($J$45:$J$206,$K$45:$K$206,HU45:HU206)/1000,SUMPRODUCT($K$45:$K$206,#REF!)/1000),\"\")","v":""},{"$f":"IF(HV44<>\"\",IF($K$42=\"no\", SUMPRODUCT($J$45:$J$206,$K$45:$K$206,HV45:HV206)/1000,SUMPRODUCT($K$45:$K$206,#REF!)/1000),\"\")","v":""},{"$f":"IF(HW44<>\"\",IF($K$42=\"no\", SUMPRODUCT($J$45:$J$206,$K$45:$K$206,HW45:HW206)/1000,SUMPRODUCT($K$45:$K$206,#REF!)/1000),\"\")","v":""},{"$f":"IF(HX44<>\"\",IF($K$42=\"no\", SUMPRODUCT($J$45:$J$206,$K$45:$K$206,HX45:HX206)/1000,SUMPRODUCT($K$45:$K$206,#REF!)/1000),\"\")","v":""},{"$f":"IF(HY44<>\"\",IF($K$42=\"no\", SUMPRODUCT($J$45:$J$206,$K$45:$K$206,HY45:HY206)/1000,SUMPRODUCT($K$45:$K$206,#REF!)/1000),\"\")","v":""},{"$f":"IF(HZ44<>\"\",IF($K$42=\"no\", SUMPRODUCT($J$45:$J$206,$K$45:$K$206,HZ45:HZ206)/1000,SUMPRODUCT($K$45:$K$206,#REF!)/1000),\"\")","v":""},{"$f":"IF(IA44<>\"\",IF($K$42=\"no\", SUMPRODUCT($J$45:$J$206,$K$45:$K$206,IA45:IA206)/1000,SUMPRODUCT($K$45:$K$206,#REF!)/1000),\"\")","v":""},{"$f":"IF(IB44<>\"\",IF($K$42=\"no\", SUMPRODUCT($J$45:$J$206,$K$45:$K$206,IB45:IB206)/1000,SUMPRODUCT($K$45:$K$206,#REF!)/1000),\"\")","v":""},{"$f":"IF(IC44<>\"\",IF($K$42=\"no\", SUMPRODUCT($J$45:$J$206,$K$45:$K$206,IC45:IC206)/1000,SUMPRODUCT($K$45:$K$206,#REF!)/1000),\"\")","v":""},{"$f":"IF(ID44<>\"\",IF($K$42=\"no\", SUMPRODUCT($J$45:$J$206,$K$45:$K$206,ID45:ID206)/1000,SUMPRODUCT($K$45:$K$206,#REF!)/1000),\"\")","v":""},{"$f":"IF(IE44<>\"\",IF($K$42=\"no\", SUMPRODUCT($J$45:$J$206,$K$45:$K$206,IE45:IE206)/1000,SUMPRODUCT($K$45:$K$206,#REF!)/1000),\"\")","v":""},{"$f":"IF(IF44<>\"\",IF($K$42=\"no\", SUMPRODUCT($J$45:$J$206,$K$45:$K$206,IF45:IF206)/1000,SUMPRODUCT($K$45:$K$206,#REF!)/1000),\"\")","v":""},{"$f":"IF(IG44<>\"\",IF($K$42=\"no\", SUMPRODUCT($J$45:$J$206,$K$45:$K$206,IG45:IG206)/1000,SUMPRODUCT($K$45:$K$206,#REF!)/1000),\"\")","v":""},{"$f":"IF(IH44<>\"\",IF($K$42=\"no\", SUMPRODUCT($J$45:$J$206,$K$45:$K$206,IH45:IH206)/1000,SUMPRODUCT($K$45:$K$206,#REF!)/1000),\"\")","v":""},{"$f":"IF(II44<>\"\",IF($K$42=\"no\", SUMPRODUCT($J$45:$J$206,$K$45:$K$206,II45:II206)/1000,SUMPRODUCT($K$45:$K$206,#REF!)/1000),\"\")","v":""},null,null,null,{"$f":"'Baseline dynamic parameters'!$L$17","v":1000}]
[0,"Sub-total unknown jurisdiction emissions (tCO2e)",{"$f":"SUMIFS(P45:P206,F45:F206,\"\")","v":0},null,null,null,null,null,null,"Use additional/dynamic parameters?",{"$f":"use_base_dynamic_parameters","v":"no"},null,null,null,null,null,null,null,null,null,null,null,null,null,null,null,null,null,null,null,null,null,null,null,null,null,null,null,null,null,null,null,null,null,null,null,null,null,null,null,null,null,null,null,null,null,null,null,null,null,null,null,null,null,null,null,null,null,null,null,null,null,null,null,null,null,null,null,null,null,null,null,null,null,null,null,null,null,null,null,null,null,null,null,null,null,null,null,null,null,null,null,null,null,null,null,null,null,null,null,null,null,null,null,null,null,null,null,null,null,null,null,null,null,null,null,null,null,null,null,null,null,null,null,null,null,null,null,null,null,null,null,null,null,null,null,null,null,null,null,null,null,null,null,null,null,null,null,null,null,null,null,null,null,null,null,null,null,null,null,null,null,null,null,null,null,null,null,null,null,null,null,null,null,null,null,null,null,null,null,null,null,null,null,null,null,null,null,null,null,null,null,null,null,null,null,null,null,null,null,null,null,null,null,null,null,null,null,null,null,null,null,null,null,null,null,null,null,null,null,null,null,null,null,null,null,null,null,null,null,null,null,null,null,null,"Custom parameter values"]
[0,"Included GHG effects and relevant GHG",null,null,null,null,null,null,null,null,null,null,null,null,null,null,"Activity data (the level of activity or emissions in the baseline scenario NOT the change in activity or emissions). Note: if you have pre-calculated your emissions, you can set the emission factor to '1' and enter the emissions (in kg) directly below. ",null,null,null,null,null,null,null,null,null,null,null,null,null,null,null,null,null,null,null,null,null,null,null,null,null,null,null,null,null,null,null,null,null,null,null,null,null,null,null,null,null,null,null,null,null,null,null,null,null,null,null,null,null,null,null,null,null,null,null,null,null,null,null,null,null,null,null,null,null,null,null,null,null,null,null,null,null,null,null,null,null,null,null,null,null,null,null,null,null,null,null,null,null,null,null,null,null,null,null,null,null,null,null,null,null,null,null,null,null,null,null,null,null,null,null,null,null,null,null,null,null,null,null,null,null,null,null,null,null,null,null,null,null,null,null,null,null,null,null,null,null,null,null,null,null,null,null,null,null,null,null,null,null,null,null,null,null,null,null,null,null,null,null,null,null,null,null,null,null,null,null,null,null,null,null,null,null,null,null,null,null,null,null,null,null,null,null,null,null,null,null,null,null,null,null,null,null,null,null,null,null,null,null,null,null,null,null,null,null,null,null,null,null,null,null,null,null,null,null,null,null,null,null,null,null,null,null,null,null,1,2,3,4,5,6,7,8,9,10,11,12,13,14,15,16,17,18,19,20,21,22,23,24,25,26,27,28,29,30,31,32,33,34,35,36,37,38,39,40,41,42,43,44,45,46,47,48,49,50,51,52,53,54,55,56,57,58,59,60,61,62,63,64,65,66,67,68,69,70,71,72,73,74,75,76,77,78,79,80,81,82,83,84,85,86,87,88,89,90,91,92,93,94,95,96,97,98,99,100,{"$f":"'Baseline dynamic parameters'!DI12","v":""},{"$f":"'Baseline dynamic parameters'!DJ12","v":""},{"$f":"'Baseline dynamic parameters'!DK12","v":""}]
["Source/Sink Category","GHG effect","Source/Sink Category","Source/sink description","Relevant GHG","Jurisdiction","Activity type","Activity sub-type","Activity data units ","Emission factor (kg GHG per unit)","GWP","Emission factor source","Activity data source","Assumptions for parameter values","CP3 default","Cumulative emissions by source/gas (tCO2e)",2020,2021,2022,2023,2024,2025,null,null,null,null,null,null,null,null,null,null,null,null,null,null,null,null,null,null,null,null,null,null,null,null,null,null,null,null,null,null,null,null,null,null,null,null,null,null,null,null,null,null,null,null,null,null,null,null,null,null,null,null,null,null,null,null,null,null,null,null,null,null,null,null,null,null,null,null,null,null,null,null,null,null,null,null,null,null,null,null,null,null,null,null,null,null,null,null,null,null,null,null,null,null,null,null,null,null,null,null,null,null,null,null,null,null,null,null,null,null,null,null,null,null,null,null,null,null,null,null,null,null,null,null,null,null,null,null,null,null,null,null,null,null,null,null,null,null,null,null,null,null,null,null,null,null,null,null,null,null,null,null,null,null,null,null,null,null,null,null,null,null,null,null,null,null,null,null,null,null,null,null,null,null,null,null,null,null,null,null,null,null,null,null,null,null,null,null,null,null,null,null,null,null,null,null,null,null,null,null,null,null,null,null,null,null,null,null,null,null,null,null,null,null,null,null,null,null,null,null,null,null,null,null,2020,2021,2022,2023,2024,2025,2026,2027,2028,2029,2030,2012,2013,2014,2015,2013,2014,2015,2018,2019,2020,2021,2022,2023,2024,2025,2026,2027,2028,2029,2030]
[null,"example effect 1","stationary fossil fuel combustion (source)",null,"CO2","in-jurisdiction",null,null,null,1000,{"$f":"IF(C15='Custom Emission Factors'!B7,HLOOKUP(E45,GWP_master_table,2,FALSE),HLOOKUP(E45,GWP_master_table,3,FALSE))","v":1},"undefined","[empty]",null,1,{"$f":"IF(B45<>\"\",IF($K$42=\"no\",J45*K45*SUM(Q45:II45)/1000, SUM(IM45:RD45)*K45/1000), \"\")","v":0},null,null,null,null,null,null,null,null,null,null,null,null,null,null,null,null,null,null,null,null,null,null,null,null,null,null,null,null,null,null,null,null,null,null,null,null,null,null,null,null,null,null,null,null,null,null,null,null,null,null,null,null,null,null,null,null,null,null,null,null,null,null,null,null,null,null,null,null,null,null,null,null,null,null,null,null,null,null,null,null,null,null,null,null,null,null,null,null,null,null,null,null,null,null,null,null,null,null,null,null,null,null,null,null,null,null,null,null,null,null,null,null,null,null,null,null,null,null,null,null,null,null,null,null,null,null,null,null,null,null,null,null,null,null,null,null,null,null,null,null,null,null,null,null,null,null,null,null,null,null,null,null,null,null,null,null,null,null,null,null,null,null,null,null,null,null,null,null,null,null,null,null,null,null,null,null,null,null,null,null,null,null,null,null,null,null,null,null,null,null,null,null,null,null,null,null,null,null,null,null,null,null,null,null,null,null,null,null,null,null,null,null,null,null,null,null,null,null,null,null,null,null,null,null,null,null,null,null,null,null,{"$f":"'Baseline dynamic parameters'!$L$17*$Q$45","v":0},{"$f":"'Baseline dynamic parameters'!$M$17*$R$45","v":0},{"$f":"'Baseline dynamic parameters'!$N$17*$S$45","v":0},{"$f":"'Baseline dynamic parameters'!$O$17*$T$45","v":0},{"$f":"'Baseline dynamic parameters'!$P$17*$U$45","v":0},{"$f":"'Baseline dynamic parameters'!$Q$17*$V$45","v":0},{"$f":"'Baseline dynamic parameters'!$R$17*$W$45","v":0},{"$f":"'Baseline dynamic parameters'!$S$17*$X$45","v":0},{"$f":"'Baseline dynamic parameters'!$T$17*$Y$45","v":0},{"$f":"'Baseline dynamic parameters'!$U$17*$Z$45","v":0},{"$f":"'Baseline dynamic parameters'!$V$17*$AA$45","v":0}]
[null,"example effect 1","stationary fossil fuel combustion (source)",null,"CH4","in-jurisdiction",null,null,null,0,{"$f":"IF(C15='Custom Emission Factors'!B7,HLOOKUP(E46,GWP_master_table,2,FALSE),HLOOKUP(E46,GWP_master_table,3,FALSE))","v":28},"[empty]","[empty]",null,1,{"$f":"IF(B46<>\"\",IF($K$42=\"no\",J46*K46*SUM(Q46:II46)/1000, SUM(IM46:RD46)*K46/1000), \"\")","v":0},null,null,null,null,null,null,null,null,null,null,null,null,null,null,null,null,null,null,null,null,null,null,null,null,null,null,null,null,null,null,null,null,null,null,null,null,null,null,null,null,null,null,null,null,null,null,null,null,null,null,null,null,null,null,null,null,null,null,null,null,null,null,null,null,null,null,null,null,null,null,null,null,null,null,null,null,null,null,null,null,null,null,null,null,null,null,null,null,null,null,null,null,null,null,null,null,null,null,null,null,null,null,null,null,null,null,null,null,null,null,null,null,null,null,null,null,null,null,null,null,null,null,null,null,null,null,null,null,null,null,null,null,null,null,null,null,null,null,null,null,null,null,null,null,null,null,null,null,null,null,null,null,null,null,null,null,null,null,null,null,null,null,null,null,null,null,null,null,null,null,null,null,null,null,null,null,null,null,null,null,null,null,null,null,null,null,null,null,null,null,null,null,null,null,null,null,null,null,null,null,null,null,null,null,null,null,null,null,null,null,null,null,null,null,null,null,null,null,null,null,null,null,null,null,null,null,null,null,null,null,{"$f":"'Baseline dynamic parameters'!$L$22*$Q$46","v":0},{"$f":"'Baseline dynamic parameters'!$M$22*$R$46","v":0},{"$f":"'Baseline dynamic parameters'!$N$22*$S$46","v":0},{"$f":"'Baseline dynamic parameters'!$O$22*$T$46","v":0},{"$f":"'Baseline dynamic parameters'!$P$22*$U$46","v":0},{"$f":"'Baseline dynamic parameters'!$Q$22*$V$46","v":0},{"$f":"'Baseline dynamic parameters'!$R$22*$W$46","v":0},{"$f":"'Baseline dynamic parameters'!$S$22*$X$46","v":0},{"$f":"'Baseline dynamic parameters'!$T$22*$Y$46","v":0},{"$f":"'Baseline dynamic parameters'!$U$22*$Z$46","v":0},{"$f":"'Baseline dynamic parameters'!$V$22*$AA$46","v":0}]
[null,"example effect 1","stationary fossil fuel combustion (source)",null,"N2O","in-jurisdiction",null,null,null,0,{"$f":"IF(C15='Custom Emission Factors'!B7,HLOOKUP(E47,GWP_master_table,2,FALSE),HLOOKUP(E47,GWP_master_table,3,FALSE))","v":265},"[empty]","[empty]",null,1,{"$f":"IF(B47<>\"\",IF($K$42=\"no\",J47*K47*SUM(Q47:II47)/1000, SUM(IM47:RD47)*K47/1000), \"\")","v":0},null,null,null,null,null,null,null,null,null,null,null,null,null,null,null,null,null,null,null,null,null,null,null,null,null,null,null,null,null,null,null,null,null,null,null,null,null,null,null,null,null,null,null,null,null,null,null,null,null,null,null,null,null,null,null,null,null,null,null,null,null,null,null,null,null,null,null,null,null,null,null,null,null,null,null,null,null,null,null,null,null,null,null,null,null,null,null,null,null,null,null,null,null,null,null,null,null,null,null,null,null,null,null,null,null,null,null,null,null,null,null,null,null,null,null,null,null,null,null,null,null,null,null,null,null,null,null,null,null,null,null,null,null,null,null,null,null,null,null,null,null,null,null,null,null,null,null,null,null,null,null,null,null,null,null,null,null,null,null,null,null,null,null,null,null,null,null,null,null,null,null,null,null,null,null,null,null,null,null,null,null,null,null,null,null,null,null,null,null,null,null,null,null,null,null,null,null,null,null,null,null,null,null,null,null,null,null,null,null,null,null,null,null,null,null,null,null,null,null,null,null,null,null,null,null,null,null,null,null,null,{"$f":"'Baseline dynamic parameters'!$L$27*$Q$47","v":0},{"$f":"'Baseline dynamic parameters'!$M$27*$R$47","v":0},{"$f":"'Baseline dynamic parameters'!$N$27*$S$47","v":0},{"$f":"'Baseline dynamic parameters'!$O$27*$T$47","v":0},{"$f":"'Baseline dynamic parameters'!$P$27*$U$47","v":0},{"$f":"'Baseline dynamic parameters'!$Q$27*$V$47","v":0},{"$f":"'Baseline dynamic parameters'!$R$27*$W$47","v":0},{"$f":"'Baseline dynamic parameters'!$S$27*$X$47","v":0},{"$f":"'Baseline dynamic parameters'!$T$27*$Y$47","v":0},{"$f":"'Baseline dynamic parameters'!$U$27*$Z$47","v":0},{"$f":"'Baseline dynamic parameters'!$V$27*$AA$47","v":0}]
["xEnd",null,null,null,null,null,null,null,null,null,null,null,null,null,null,null,null,null,null,null,null,null,null,null,null,null,null,null,null,null,null,null,null,null,null,null,null,null,null,null,null,null,null,null,null,null,null,null,null,null,null,null,null,null,null,null,null,null,null,null,null,null,null,null,null,null,null,null,null,null,null,null,null,null,null,null,null,null,null,null,null,null,null,null,null,null,null,null,null,null,null,null,null,null,null,null,null,null,null,null,null,null,null,null,null,null,null,null,null,null,null,null,null,null,null,null,null,null,null,null,null,null,null,null,null,null,null,null,null,null,null,null,null,null,null,null,null,null,null,null,null,null,null,null,null,null,null,null,null,null,null,null,null,null,null,null,null,null,null,null,null,null,null,null,null,null,null,null,null,null,null,null,null,null,null,null,null,null,null,null,null,null,null,null,null,null,null,null,null,null,null,null,null,null,null,null,null,null,null,null,null,null,null,null,null,null,null,null,null,null,null,null,null,null,null,null,null,null,null,null,null,null,null,null,null,null,null,null,null,null,null,null,null,null,null,null,null,null,null,null,null,null,null,null,null,null,{"$f":"'Baseline dynamic parameters'!$L$32*$Q$48","v":0},{"$f":"'Baseline dynamic parameters'!$M$32*$R$48","v":0},{"$f":"'Baseline dynamic parameters'!$N$32*$S$48","v":0},{"$f":"'Baseline dynamic parameters'!$O$32*$T$48","v":0},{"$f":"'Baseline dynamic parameters'!$P$32*$U$48","v":0},{"$f":"'Baseline dynamic parameters'!$Q$32*$V$48","v":0},{"$f":"'Baseline dynamic parameters'!$R$32*$W$48","v":0},{"$f":"'Baseline dynamic parameters'!$S$32*$X$48","v":0},{"$f":"'Baseline dynamic parameters'!$T$32*$Y$48","v":0},{"$f":"'Baseline dynamic parameters'!$U$32*$Z$48","v":0},{"$f":"'Baseline dynamic parameters'!$V$32*$AA$48","v":0}]
[null,null,null,null,null,null,null,null,null,null,null,null,null,null,null,null,null,null,null,null,null,null,null,null,null,null,null,null,null,null,null,null,null,null,null,null,null,null,null,null,null,null,null,null,null,null,null,null,null,null,null,null,null,null,null,null,null,null,null,null,null,null,null,null,null,null,null,null,null,null,null,null,null,null,null,null,null,null,null,null,null,null,null,null,null,null,null,null,null,null,null,null,null,null,null,null,null,null,null,null,null,null,null,null,null,null,null,null,null,null,null,null,null,null,null,null,null,null,null,null,null,null,null,null,null,null,null,null,null,null,null,null,null,null,null,null,null,null,null,null,null,null,null,null,null,null,null,null,null,null,null,null,null,null,null,null,null,null,null,null,null,null,null,null,null,null,null,null,null,null,null,null,null,null,null,null,null,null,null,null,null,null,null,null,null,null,null,null,null,null,null,null,null,null,null,null,null,null,null,null,null,null,null,null,null,null,null,null,null,null,null,null,null,null,null,null,null,null,null,null,null,null,null,null,null,null,null,null,null,null,null,null,null,null,null,null,null,null,null,null,null,null,null,null,null,null,{"$f":"'Baseline dynamic parameters'!$L$37*$Q$49","v":0},{"$f":"'Baseline dynamic parameters'!$M$37*$R$49","v":0},{"$f":"'Baseline dynamic parameters'!$N$37*$S$49","v":0},{"$f":"'Baseline dynamic parameters'!$O$37*$T$49","v":0},{"$f":"'Baseline dynamic parameters'!$P$37*$U$49","v":0},{"$f":"'Baseline dynamic parameters'!$Q$37*$V$49","v":0},{"$f":"'Baseline dynamic parameters'!$R$37*$W$49","v":0},{"$f":"'Baseline dynamic parameters'!$S$37*$X$49","v":0},{"$f":"'Baseline dynamic parameters'!$T$37*$Y$49","v":0},{"$f":"'Baseline dynamic parameters'!$U$37*$Z$49","v":0},{"$f":"'Baseline dynamic parameters'!$V$37*$AA$49","v":0}]
[null,null,null,null,null,null,null,null,null,null,null,null,null,null,null,null,null,null,null,null,null,null,null,null,null,null,null,null,null,null,null,null,null,null,null,null,null,null,null,null,null,null,null,null,null,null,null,null,null,null,null,null,null,null,null,null,null,null,null,null,null,null,null,null,null,null,null,null,null,null,null,null,null,null,null,null,null,null,null,null,null,null,null,null,null,null,null,null,null,null,null,null,null,null,null,null,null,null,null,null,null,null,null,null,null,null,null,null,null,null,null,null,null,null,null,null,null,null,null,null,null,null,null,null,null,null,null,null,null,null,null,null,null,null,null,null,null,null,null,null,null,null,null,null,null,null,null,null,null,null,null,null,null,null,null,null,null,null,null,null,null,null,null,null,null,null,null,null,null,null,null,null,null,null,null,null,null,null,null,null,null,null,null,null,null,null,null,null,null,null,null,null,null,null,null,null,null,null,null,null,null,null,null,null,null,null,null,null,null,null,null,null,null,null,null,null,null,null,null,null,null,null,null,null,null,null,null,null,null,null,null,null,null,null,null,null,null,null,null,null,null,null,null,null,null,null,{"$f":"'Baseline dynamic parameters'!$L$42*$Q$50","v":0},{"$f":"'Baseline dynamic parameters'!$M$42*$R$50","v":0},{"$f":"'Baseline dynamic parameters'!$N$42*$S$50","v":0},{"$f":"'Baseline dynamic parameters'!$O$42*$T$50","v":0},{"$f":"'Baseline dynamic parameters'!$P$42*$U$50","v":0},{"$f":"'Baseline dynamic parameters'!$Q$42*$V$50","v":0},{"$f":"'Baseline dynamic parameters'!$R$42*$W$50","v":0},{"$f":"'Baseline dynamic parameters'!$S$42*$X$50","v":0},{"$f":"'Baseline dynamic parameters'!$T$42*$Y$50","v":0},{"$f":"'Baseline dynamic parameters'!$U$42*$Z$50","v":0},{"$f":"'Baseline dynamic parameters'!$V$42*$AA$50","v":0}]
["xEnd",null,null,null,null,null,null,null,null,null,null,null,null,null,null,null,null,null,null,null,null,null,null,null,null,null,null,null,null,null,null,null,null,null,null,null,null,null,null,null,null,null,null,null,null,null,null,null,null,null,null,null,null,null,null,null,null,null,null,null,null,null,null,null,null,null,null,null,null,null,null,null,null,null,null,null,null,null,null,null,null,null,null,null,null,null,null,null,null,null,null,null,null,null,null,null,null,null,null,null,null,null,null,null,null,null,null,null,null,null,null,null,null,null,null,null,null,null,null,null,null,null,null,null,null,null,null,null,null,null,null,null,null,null,null,null,null,null,null,null,null,null,null,null,null,null,null,null,null,null,null,null,null,null,null,null,null,null,null,null,null,null,null,null,null,null,null,null,null,null,null,null,null,null,null,null,null,null,null,null,null,null,null,null,null,null,null,null,null,null,null,null,null,null,null,null,null,null,null,null,null,null,null,null,null,null,null,null,null,null,null,null,null,null,null,null,null,null,null,null,null,null,null,null,null,null,null,null,null,null,null,null,null,null,null,null,null,null,null,null,null,null,null,null,null,null,{"$f":"'Baseline dynamic parameters'!$L$47*$Q$51","v":0},{"$f":"'Baseline dynamic parameters'!$M$47*$R$51","v":0},{"$f":"'Baseline dynamic parameters'!$N$47*$S$51","v":0},{"$f":"'Baseline dynamic parameters'!$O$47*$T$51","v":0},{"$f":"'Baseline dynamic parameters'!$P$47*$U$51","v":0},{"$f":"'Baseline dynamic parameters'!$Q$47*$V$51","v":0},{"$f":"'Baseline dynamic parameters'!$R$47*$W$51","v":0},{"$f":"'Baseline dynamic parameters'!$S$47*$X$51","v":0},{"$f":"'Baseline dynamic parameters'!$T$47*$Y$51","v":0},{"$f":"'Baseline dynamic parameters'!$U$47*$Z$51","v":0},{"$f":"'Baseline dynamic parameters'!$V$47*$AA$51","v":0}]
[null,null,null,null,null,null,null,null,null,null,null,null,null,null,null,null,null,null,null,null,null,null,null,null,null,null,null,null,null,null,null,null,null,null,null,null,null,null,null,null,null,null,null,null,null,null,null,null,null,null,null,null,null,null,null,null,null,null,null,null,null,null,null,null,null,null,null,null,null,null,null,null,null,null,null,null,null,null,null,null,null,null,null,null,null,null,null,null,null,null,null,null,null,null,null,null,null,null,null,null,null,null,null,null,null,null,null,null,null,null,null,null,null,null,null,null,null,null,null,null,null,null,null,null,null,null,null,null,null,null,null,null,null,null,null,null,null,null,null,null,null,null,null,null,null,null,null,null,null,null,null,null,null,null,null,null,null,null,null,null,null,null,null,null,null,null,null,null,null,null,null,null,null,null,null,null,null,null,null,null,null,null,null,null,null,null,null,null,null,null,null,null,null,null,null,null,null,null,null,null,null,null,null,null,null,null,null,null,null,null,null,null,null,null,null,null,null,null,null,null,null,null,null,null,null,null,null,null,null,null,null,null,null,null,null,null,null,null,null,null,null,null,null,null,null,null,{"$f":"'Baseline dynamic parameters'!$L$52*$Q$52","v":0},{"$f":"'Baseline dynamic parameters'!$M$52*$R$52","v":0},{"$f":"'Baseline dynamic parameters'!$N$52*$S$52","v":0},{"$f":"'Baseline dynamic parameters'!$O$52*$T$52","v":0},{"$f":"'Baseline dynamic parameters'!$P$52*$U$52","v":0},{"$f":"'Baseline dynamic parameters'!$Q$52*$V$52","v":0},{"$f":"'Baseline dynamic parameters'!$R$52*$W$52","v":0},{"$f":"'Baseline dynamic parameters'!$S$52*$X$52","v":0},{"$f":"'Baseline dynamic parameters'!$T$52*$Y$52","v":0},{"$f":"'Baseline dynamic parameters'!$U$52*$Z$52","v":0},{"$f":"'Baseline dynamic parameters'!$V$52*$AA$52","v":0}]
[null,null,null,null,null,null,null,null,null,null,null,null,null,null,null,null,null,null,null,null,null,null,null,null,null,null,null,null,null,null,null,null,null,null,null,null,null,null,null,null,null,null,null,null,null,null,null,null,null,null,null,null,null,null,null,null,null,null,null,null,null,null,null,null,null,null,null,null,null,null,null,null,null,null,null,null,null,null,null,null,null,null,null,null,null,null,null,null,null,null,null,null,null,null,null,null,null,null,null,null,null,null,null,null,null,null,null,null,null,null,null,null,null,null,null,null,null,null,null,null,null,null,null,null,null,null,null,null,null,null,null,null,null,null,null,null,null,null,null,null,null,null,null,null,null,null,null,null,null,null,null,null,null,null,null,null,null,null,null,null,null,null,null,null,null,null,null,null,null,null,null,null,null,null,null,null,null,null,null,null,null,null,null,null,null,null,null,null,null,null,null,null,null,null,null,null,null,null,null,null,null,null,null,null,null,null,null,null,null,null,null,null,null,null,null,null,null,null,null,null,null,null,null,null,null,null,null,null,null,null,null,null,null,null,null,null,null,null,null,null,null,null,null,null,null,null,{"$f":"'Baseline dynamic parameters'!$L$57*$Q$53","v":0},{"$f":"'Baseline dynamic parameters'!$M$57*$R$53","v":0},{"$f":"'Baseline dynamic parameters'!$N$57*$S$53","v":0},{"$f":"'Baseline dynamic parameters'!$O$57*$T$53","v":0},{"$f":"'Baseline dynamic parameters'!$P$57*$U$53","v":0},{"$f":"'Baseline dynamic parameters'!$Q$57*$V$53","v":0},{"$f":"'Baseline dynamic parameters'!$R$57*$W$53","v":0},{"$f":"'Baseline dynamic parameters'!$S$57*$X$53","v":0},{"$f":"'Baseline dynamic parameters'!$T$57*$Y$53","v":0},{"$f":"'Baseline dynamic parameters'!$U$57*$Z$53","v":0},{"$f":"'Baseline dynamic parameters'!$V$57*$AA$53","v":0}]
[null,null,null,null,null,null,null,null,null,null,null,null,null,null,null,null,null,null,null,null,null,null,null,null,null,null,null,null,null,null,null,null,null,null,null,null,null,null,null,null,null,null,null,null,null,null,null,null,null,null,null,null,null,null,null,null,null,null,null,null,null,null,null,null,null,null,null,null,null,null,null,null,null,null,null,null,null,null,null,null,null,null,null,null,null,null,null,null,null,null,null,null,null,null,null,null,null,null,null,null,null,null,null,null,null,null,null,null,null,null,null,null,null,null,null,null,null,null,null,null,null,null,null,null,null,null,null,null,null,null,null,null,null,null,null,null,null,null,null,null,null,null,null,null,null,null,null,null,null,null,null,null,null,null,null,null,null,null,null,null,null,null,null,null,null,null,null,null,null,null,null,null,null,null,null,null,null,null,null,null,null,null,null,null,null,null,null,null,null,null,null,null,null,null,null,null,null,null,null,null,null,null,null,null,null,null,null,null,null,null,null,null,null,null,null,null,null,null,null,null,null,null,null,null,null,null,null,null,null,null,null,null,null,null,null,null,null,null,null,null,null,null,null,null,null,null,{"$f":"'Baseline dynamic parameters'!$L$62*$Q$54","v":0},{"$f":"'Baseline dynamic parameters'!$M$62*$R$54","v":0},{"$f":"'Baseline dynamic parameters'!$N$62*$S$54","v":0},{"$f":"'Baseline dynamic parameters'!$O$62*$T$54","v":0},{"$f":"'Baseline dynamic parameters'!$P$62*$U$54","v":0},{"$f":"'Baseline dynamic parameters'!$Q$62*$V$54","v":0},{"$f":"'Baseline dynamic parameters'!$R$62*$W$54","v":0},{"$f":"'Baseline dynamic parameters'!$S$62*$X$54","v":0},{"$f":"'Baseline dynamic parameters'!$T$62*$Y$54","v":0},{"$f":"'Baseline dynamic parameters'!$U$62*$Z$54","v":0},{"$f":"'Baseline dynamic parameters'!$V$62*$AA$54","v":0}]
[null,null,null,null,null,null,null,null,null,null,null,null,null,null,null,null,null,null,null,null,null,null,null,null,null,null,null,null,null,null,null,null,null,null,null,null,null,null,null,null,null,null,null,null,null,null,null,null,null,null,null,null,null,null,null,null,null,null,null,null,null,null,null,null,null,null,null,null,null,null,null,null,null,null,null,null,null,null,null,null,null,null,null,null,null,null,null,null,null,null,null,null,null,null,null,null,null,null,null,null,null,null,null,null,null,null,null,null,null,null,null,null,null,null,null,null,null,null,null,null,null,null,null,null,null,null,null,null,null,null,null,null,null,null,null,null,null,null,null,null,null,null,null,null,null,null,null,null,null,null,null,null,null,null,null,null,null,null,null,null,null,null,null,null,null,null,null,null,null,null,null,null,null,null,null,null,null,null,null,null,null,null,null,null,null,null,null,null,null,null,null,null,null,null,null,null,null,null,null,null,null,null,null,null,null,null,null,null,null,null,null,null,null,null,null,null,null,null,null,null,null,null,null,null,null,null,null,null,null,null,null,null,null,null,null,null,null,null,null,null,null,null,null,null,null,null,{"$f":"'Baseline dynamic parameters'!$L$67*$Q$55","v":0},{"$f":"'Baseline dynamic parameters'!$M$67*$R$55","v":0},{"$f":"'Baseline dynamic parameters'!$N$67*$S$55","v":0},{"$f":"'Baseline dynamic parameters'!$O$67*$T$55","v":0},{"$f":"'Baseline dynamic parameters'!$P$67*$U$55","v":0},{"$f":"'Baseline dynamic parameters'!$Q$67*$V$55","v":0},{"$f":"'Baseline dynamic parameters'!$R$67*$W$55","v":0},{"$f":"'Baseline dynamic parameters'!$S$67*$X$55","v":0},{"$f":"'Baseline dynamic parameters'!$T$67*$Y$55","v":0},{"$f":"'Baseline dynamic parameters'!$U$67*$Z$55","v":0},{"$f":"'Baseline dynamic parameters'!$V$67*$AA$55","v":0}]
[null,null,null,null,null,null,null,null,null,null,null,null,null,null,null,null,null,null,null,null,null,null,null,null,null,null,null,null,null,null,null,null,null,null,null,null,null,null,null,null,null,null,null,null,null,null,null,null,null,null,null,null,null,null,null,null,null,null,null,null,null,null,null,null,null,null,null,null,null,null,null,null,null,null,null,null,null,null,null,null,null,null,null,null,null,null,null,null,null,null,null,null,null,null,null,null,null,null,null,null,null,null,null,null,null,null,null,null,null,null,null,null,null,null,null,null,null,null,null,null,null,null,null,null,null,null,null,null,null,null,null,null,null,null,null,null,null,null,null,null,null,null,null,null,null,null,null,null,null,null,null,null,null,null,null,null,null,null,null,null,null,null,null,null,null,null,null,null,null,null,null,null,null,null,null,null,null,null,null,null,null,null,null,null,null,null,null,null,null,null,null,null,null,null,null,null,null,null,null,null,null,null,null,null,null,null,null,null,null,null,null,null,null,null,null,null,null,null,null,null,null,null,null,null,null,null,null,null,null,null,null,null,null,null,null,null,null,null,null,null,null,null,null,null,null,null,{"$f":"'Baseline dynamic parameters'!$L$72*$Q$56","v":0},{"$f":"'Baseline dynamic parameters'!$M$72*$R$56","v":0},{"$f":"'Baseline dynamic parameters'!$N$72*$S$56","v":0},{"$f":"'Baseline dynamic parameters'!$O$72*$T$56","v":0},{"$f":"'Baseline dynamic parameters'!$P$72*$U$56","v":0},{"$f":"'Baseline dynamic parameters'!$Q$72*$V$56","v":0},{"$f":"'Baseline dynamic parameters'!$R$72*$W$56","v":0},{"$f":"'Baseline dynamic parameters'!$S$72*$X$56","v":0},{"$f":"'Baseline dynamic parameters'!$T$72*$Y$56","v":0},{"$f":"'Baseline dynamic parameters'!$U$72*$Z$56","v":0},{"$f":"'Baseline dynamic parameters'!$V$72*$AA$56","v":0}]
[]
["xEnd"]
[0]
[0]
[0]
[0]
[0]
[0]
[0]
[0]
[0]
[0]
[0]
[0]
[0]
[0]
[0]
[0]
[0]
[0]
[0]
[0]
[0]
[0]
[0]
[0]
[0]
[0]
[0]
[0]
[0]
[0]
[0]
[0]
[0]
[{"$f":"C92","v":0}]
[0]
[0]
[0]
[0]
[0]
[0]
[0]
[0]
[0]
[0]
[0]
[0]
[0]
[0]
[0]
[0]
[0]
[0]
[0]
[0]
[0]
[0]
[0]
[0]
[0]
[0]
[0]
[0]
[0]
[0]
[0]
[0]
[0]
[0]
[0]
[0]
[0]
[0]
[0]
[0]
[0]
[0]
[0]
[0]
[0]
[0]
[0]
[0]
[0]
[0]
[0]
[0]
[0]
[0]
[0]
[0]
[0]
[0]
[0]
[0]
[0]
[0]
[0]
[{"$f":"C156","v":0}]
[0]
[0]
[0]
[0]
[0]
[0]
[0]
[0]
[0]
[0]
[0]
[0]
[0]
[0]
[0]
[0]
[0]
[0]
[0]
[0]
[0]
[0]
[0]
[0]
[0]
[0]
[0]
[0]
[0]
[0]
[0]
[0]
[0]
[0]
[0]
[0]
[0]
[0]
[0]
[0]
[0]
[0]
[0]
[0]
[0]
[0]
[0]
[0]
[0]
[0]

{"sheet":"Baseline dynamic parameters","index":5,"n_rows":305,"n_cols":240,"rows_kept":305,"cut":false,"hidden":false,"merged":[]}
[null,null,null,null,null,null,null,null,null,null,null,null,null,1,1,1]
[]
[]
[]
[]
[]
[]
[]
[]
[null,"On this page you can set up dynamic values for ",null,null,null,"Note that custom parameters MUST default to 1 when they are not being used",null,null,null,"Note: this data is used on the"]
[null,"the parameters in your baseline emissions scenario",null,null,null,"Note: Emissions are calculated using the formula: activity data x CP1 x CP2 x CP3 X EF X GWP",null,null,null,"results & uncertainty page"]
[null,{"$f":"'Estimating baseline effects'!B44","v":"GHG effect"},{"$f":"'Estimating baseline effects'!C44","v":"Source/Sink Category"},"Reference",{"$f":"'Estimating baseline effects'!E44","v":"Relevant GHG"},"Parameter Name","Parameter Description","Default Emission Factor Value","Use default value?","uncertainty - lower bound","uncertainty - upper bound",{"$f":"IF('Estimating baseline effects'!Q44<>\"\",'Estimating baseline effects'!Q44,\"\")","v":2020},{"$f":"IF('Estimating baseline effects'!R44<>\"\",'Estimating baseline effects'!R44,\"\")","v":2021},{"$f":"IF('Estimating baseline effects'!S44<>\"\",'Estimating baseline effects'!S44,\"\")","v":2022},{"$f":"IF('Estimating baseline effects'!T44<>\"\",'Estimating baseline effects'!T44,\"\")","v":2023},{"$f":"IF('Estimating baseline effects'!U44<>\"\",'Estimating baseline effects'!U44,\"\")","v":2024},{"$f":"IF('Estimating baseline effects'!V44<>\"\",'Estimating baseline effects'!V44,\"\")","v":2025},{"$f":"IF('Estimating baseline effects'!W44<>\"\",'Estimating baseline effects'!W44,\"\")","v":""},{"$f":"IF('Estimating baseline effects'!X44<>\"\",'Estimating baseline effects'!X44,\"\")","v":""},{"$f":"IF('Estimating baseline effects'!Y44<>\"\",'Estimating baseline effects'!Y44,\"\")","v":""},{"$f":"IF('Estimating baseline effects'!Z44<>\"\",'Estimating baseline effects'!Z44,\"\")","v":""},{"$f":"IF('Estimating baseline effects'!AA44<>\"\",'Estimating baseline effects'!AA44,\"\")","v":""},{"$f":"IF('Estimating baseline effects'!AB44<>\"\",'Estimating baseline effects'!AB44,\"\")","v":""},{"$f":"IF('Estimating baseline effects'!AC44<>\"\",'Estimating baseline effects'!AC44,\"\")","v":""},{"$f":"IF('Estimating baseline effects'!AD44<>\"\",'Estimating baseline effects'!AD44,\"\")","v":""},{"$f":"IF('Estimating baseline effects'!AE44<>\"\",'Estimating baseline effects'!AE44,\"\")","v":""},{"$f":"IF('Estimating baseline effects'!AF44<>\"\",'Estimating baseline effects'!AF44,\"\")","v":""},{"$f":"IF('Estimating baseline effects'!AG44<>\"\",'Estimating baseline effects'!AG44,\"\")","v":""},{"$f":"IF('Estimating baseline effects'!AH44<>\"\",'Estimating baseline effects'!AH44,\"\")","v":""},{"$f":"IF('Estimating baseline effects'!AI44<>\"\",'Estimating baseline effects'!AI44,\"\")","v":""},{"$f":"IF('Estimating baseline effects'!AJ44<>\"\",'Estimating baseline effects'!AJ44,\"\")","v":""},{"$f":"IF('Estimating baseline effects'!AK44<>\"\",'Estimating baseline effects'!AK44,\"\")","v":""},{"$f":"IF('Estimating baseline effects'!AL44<>\"\",'Estimating baseline effects'!AL44,\"\")","v":""},{"$f":"IF('Estimating baseline effects'!AM44<>\"\",'Estimating baseline effects'!AM44,\"\")","v":""},{"$f":"IF('Estimating baseline effects'!AN44<>\"\",'Estimating baseline effects'!AN44,\"\")","v":""},{"$f":"IF('Estimating baseline effects'!AO44<>\"\",'Estimating baseline effects'!AO44,\"\")","v":""},{"$f":"IF('Estimating baseline effects'!AP44<>\"\",'Estimating baseline effects'!AP44,\"\")","v":""},{"$f":"IF('Estimating baseline effects'!AQ44<>\"\",'Estimating baseline effects'!AQ44,\"\")","v":""},{"$f":"IF('Estimating baseline effects'!AR44<>\"\",'Estimating baseline effects'!AR44,\"\")","v":""},{"$f":"IF('Estimating baseline effects'!AS44<>\"\",'Estimating baseline effects'!AS44,\"\")","v":""},{"$f":"IF('Estimating baseline effects'!AT44<>\"\",'Estimating baseline effects'!AT44,\"\")","v":""},{"$f":"IF('Estimating baseline effects'!AU44<>\"\",'Estimating baseline effects'!AU44,\"\")","v":""},{"$f":"IF('Estimating baseline effects'!AV44<>\"\",'Estimating baseline effects'!AV44,\"\")","v":""},{"$f":"IF('Estimating baseline effects'!AW44<>\"\",'Estimating baseline effects'!AW44,\"\")","v":""},{"$f":"IF('Estimating baseline effects'!AX44<>\"\",'Estimating baseline effects'!AX44,\"\")","v":""},{"$f":"IF('Estimating baseline effects'!AY44<>\"\",'Estimating baseline effects'!AY44,\"\")","v":""},{"$f":"IF('Estimating baseline effects'!AZ44<>\"\",'Estimating baseline effects'!AZ44,\"\")","v":""},{"$f":"IF('Estimating baseline effects'!BA44<>\"\",'Estimating baseline effects'!BA44,\"\")","v":""},{"$f":"IF('Estimating baseline effects'!BB44<>\"\",'Estimating baseline effects'!BB44,\"\")","v":""},{"$f":"IF('Estimating baseline effects'!BC44<>\"\",'Estimating baseline effects'!BC44,\"\")","v":""},{"$f":"IF('Estimating baseline effects'!BD44<>\"\",'Estimating baseline effects'!BD44,\"\")","v":""},{"$f":"IF('Estimating baseline effects'!BE44<>\"\",'Estimating baseline effects'!BE44,\"\")","v":""},{"$f":"IF('Estimating baseline effects'!BF44<>\"\",'Estimating baseline effects'!BF44,\"\")","v":""},{"$f":"IF('Estimating baseline effects'!BG44<>\"\",'Estimating baseline effects'!BG44,\"\")","v":""},{"$f":"IF('Estimating baseline effects'!BH44<>\"\",'Estimating baseline effects'!BH44,\"\")","v":""},{"$f":"IF('Estimating baseline effects'!BI44<>\"\",'Estimating baseline effects'!BI44,\"\")","v":""},{"$f":"IF('Estimating baseline effects'!BJ44<>\"\",'Estimating baseline effects'!BJ44,\"\")","v":""},{"$f":"IF('Estimating baseline effects'!BK44<>\"\",'Estimating baseline effects'!BK44,\"\")","v":""},{"$f":"IF('Estimating baseline effects'!BL44<>\"\",'Estimating baseline effects'!BL44,\"\")","v":""},{"$f":"IF('Estimating baseline effects'!BM44<>\"\",'Estimating baseline effects'!BM44,\"\")","v":""},{"$f":"IF('Estimating baseline effects'!BN44<>\"\",'Estimating baseline effects'!BN44,\"\")","v":""},{"$f":"IF('Estimating baseline effects'!BO44<>\"\",'Estimating baseline effects'!BO44,\"\")","v":""},{"$f":"IF('Estimating baseline effects'!BP44<>\"\",'Estimating baseline effects'!BP44,\"\")","v":""},{"$f":"IF('Estimating baseline effects'!BQ44<>\"\",'Estimating baseline effects'!BQ44,\"\")","v":""},{"$f":"IF('Estimating baseline effects'!BR44<>\"\",'Estimating baseline effects'!BR44,\"\")","v":""},{"$f":"IF('Estimating baseline effects'!BS44<>\"\",'Estimating baseline effects'!BS44,\"\")","v":""},{"$f":"IF('Estimating baseline effects'!BT44<>\"\",'Estimating baseline effects'!BT44,\"\")","v":""},{"$f":"IF('Estimating baseline effects'!BU44<>\"\",'Estimating baseline effects'!BU44,\"\")","v":""},{"$f":"IF('Estimating baseline effects'!BV44<>\"\",'Estimating baseline effects'!BV44,\"\")","v":""},{"$f":"IF('Estimating baseline effects'!BW44<>\"\",'Estimating baseline effects'!BW44,\"\")","v":""},{"$f":"IF('Estimating baseline effects'!BX44<>\"\",'Estimating baseline effects'!BX44,\"\")","v":""},{"$f":"IF('Estimating baseline effects'!BY44<>\"\",'Estimating baseline effects'!BY44,\"\")","v":""},{"$f":"IF('Estimating baseline effects'!BZ44<>\"\",'Estimating baseline effects'!BZ44,\"\")","v":""},{"$f":"IF('Estimating baseline effects'!CA44<>\"\",'Estimating baseline effects'!CA44,\"\")","v":""},{"$f":"IF('Estimating baseline effects'!CB44<>\"\",'Estimating baseline effects'!CB44,\"\")","v":""},{"$f":"IF('Estimating baseline effects'!CC44<>\"\",'Estimating baseline effects'!CC44,\"\")","v":""},{"$f":"IF('Estimating baseline effects'!CD44<>\"\",'Estimating baseline effects'!CD44,\"\")","v":""},{"$f":"IF('Estimating baseline effects'!CE44<>\"\",'Estimating baseline effects'!CE44,\"\")","v":""},{"$f":"IF('Estimating baseline effects'!CF44<>\"\",'Estimating baseline effects'!CF44,\"\")","v":""},{"$f":"IF('Estimating baseline effects'!CG44<>\"\",'Estimating baseline effects'!CG44,\"\")","v":""},{"$f":"IF('Estimating baseline effects'!CH44<>\"\",'Estimating baseline effects'!CH44,\"\")","v":""},{"$f":"IF('Estimating baseline effects'!CI44<>\"\",'Estimating baseline effects'!CI44,\"\")","v":""},{"$f":"IF('Estimating baseline effects'!CJ44<>\"\",'Estimating baseline effects'!CJ44,\"\")","v":""},{"$f":"IF('Estimating baseline effects'!CK44<>\"\",'Estimating baseline effects'!CK44,\"\")","v":""},{"$f":"IF('Estimating baseline effects'!CL44<>\"\",'Estimating baseline effects'!CL44,\"\")","v":""},{"$f":"IF('Estimating baseline effects'!CM44<>\"\",'Estimating baseline effects'!CM44,\"\")","v":""},{"$f":"IF('Estimating baseline effects'!CN44<>\"\",'Estimating baseline effects'!CN44,\"\")","v":""},{"$f":"IF('Estimating baseline effects'!CO44<>\"\",'Estimating baseline effects'!CO44,\"\")","v":""},{"$f":"IF('Estimating baseline effects'!CP44<>\"\",'Estimating baseline effects'!CP44,\"\")","v":""},{"$f":"IF('Estimating baseline effects'!CQ44<>\"\",'Estimating baseline effects'!CQ44,\"\")","v":""},{"$f":"IF('Estimating baseline effects'!CR44<>\"\",'Estimating baseline effects'!CR44,\"\")","v":""},{"$f":"IF('Estimating baseline effects'!CS44<>\"\",'Estimating baseline effects'!CS44,\"\")","v":""},{"$f":"IF('Estimating baseline effects'!CT44<>\"\",'Estimating baseline effects'!CT44,\"\")","v":""},{"$f":"IF('Estimating baseline effects'!CU44<>\"\",'Estimating baseline effects'!CU44,\"\")","v":""},{"$f":"IF('Estimating baseline effects'!CV44<>\"\",'Estimating baseline effects'!CV44,\"\")","v":""},{"$f":"IF('Estimating baseline effects'!CW44<>\"\",'Estimating baseline effects'!CW44,\"\")","v":""},{"$f":"IF('Estimating baseline effects'!CX44<>\"\",'Estimating baseline effects'!CX44,\"\")","v":""},{"$f":"IF('Estimating baseline effects'!CY44<>\"\",'Estimating baseline effects'!CY44,\"\")","v":""},{"$f":"IF('Estimating baseline effects'!CZ44<>\"\",'Estimating baseline effects'!CZ44,\"\")","v":""},{"$f":"IF('Estimating baseline effects'!DA44<>\"\",'Estimating baseline effects'!DA44,\"\")","v":""},{"$f":"IF('Estimating baseline effects'!DB44<>\"\",'Estimating baseline effects'!DB44,\"\")","v":""},{"$f":"IF('Estimating baseline effects'!DC44<>\"\",'Estimating baseline effects'!DC44,\"\")","v":""},{"$f":"IF('Estimating baseline effects'!DD44<>\"\",'Estimating baseline effects'!DD44,\"\")","v":""},{"$f":"IF('Estimating baseline effects'!DE44<>\"\",'Estimating baseline effects'!DE44,\"\")","v":""},{"$f":"IF('Estimating baseline effects'!DF44<>\"\",'Estimating baseline effects'!DF44,\"\")","v":""},{"$f":"IF('Estimating baseline effects'!DG44<>\"\",'Estimating baseline effects'!DG44,\"\")","v":""},{"$f":"IF('Estimating baseline effects'!DH44<>\"\",'Estimating baseline effects'!DH44,\"\")","v":""},{"$f":"IF('Estimating baseline effects'!DI44<>\"\",'Estimating baseline effects'!DI44,\"\")","v":""},{"$f":"IF('Estimating baseline effects'!DJ44<>\"\",'Estimating baseline effects'!DJ44,\"\")","v":""},{"$f":"IF('Estimating baseline effects'!DK44<>\"\",'Estimating baseline effects'!DK44,\"\")","v":""},{"$f":"IF('Estimating baseline effects'!DL44<>\"\",'Estimating baseline effects'!DL44,\"\")","v":""},{"$f":"IF('Estimating baseline effects'!DM44<>\"\",'Estimating baseline effects'!DM44,\"\")","v":""},{"$f":"IF('Estimating baseline effects'!DN44<>\"\",'Estimating baseline effects'!DN44,\"\")","v":""},{"$f":"IF('Estimating baseline effects'!DO44<>\"\",'Estimating baseline effects'!DO44,\"\")","v":""},{"$f":"IF('Estimating baseline effects'!DP44<>\"\",'Estimating baseline effects'!DP44,\"\")","v":""},{"$f":"IF('Estimating baseline effects'!DQ44<>\"\",'Estimating baseline effects'!DQ44,\"\")","v":""},{"$f":"IF('Estimating baseline effects'!DR44<>\"\",'Estimating baseline effects'!DR44,\"\")","v":""},{"$f":"IF('Estimating baseline effects'!DS44<>\"\",'Estimating baseline effects'!DS44,\"\")","v":""},{"$f":"IF('Estimating baseline effects'!DT44<>\"\",'Estimating baseline effects'!DT44,\"\")","v":""},{"$f":"IF('Estimating baseline effects'!DU44<>\"\",'Estimating baseline effects'!DU44,\"\")","v":""},{"$f":"IF('Estimating baseline effects'!DV44<>\"\",'Estimating baseline effects'!DV44,\"\")","v":""},{"$f":"IF('Estimating baseline effects'!DW44<>\"\",'Estimating baseline effects'!DW44,\"\")","v":""},{"$f":"IF('Estimating baseline effects'!DX44<>\"\",'Estimating baseline effects'!DX44,\"\")","v":""},{"$f":"IF('Estimating baseline effects'!DY44<>\"\",'Estimating baseline effects'!DY44,\"\")","v":""},{"$f":"IF('Estimating baseline effects'!DZ44<>\"\",'Estimating baseline effects'!DZ44,\"\")","v":""},{"$f":"IF('Estimating baseline effects'!EA44<>\"\",'Estimating baseline effects'!EA44,\"\")","v":""},{"$f":"IF('Estimating baseline effects'!EB44<>\"\",'Estimating baseline effects'!EB44,\"\")","v":""},{"$f":"IF('Estimating baseline effects'!EC44<>\"\",'Estimating baseline effects'!EC44,\"\")","v":""},{"$f":"IF('Estimating baseline effects'!ED44<>\"\",'Estimating baseline effects'!ED44,\"\")","v":""},{"$f":"IF('Estimating baseline effects'!EE44<>\"\",'Estimating baseline effects'!EE44,\"\")","v":""},{"$f":"IF('Estimating baseline effects'!EF44<>\"\",'Estimating baseline effects'!EF44,\"\")","v":""},{"$f":"IF('Estimating baseline effects'!EG44<>\"\",'Estimating baseline effects'!EG44,\"\")","v":""},{"$f":"IF('Estimating baseline effects'!EH44<>\"\",'Estimating baseline effects'!EH44,\"\")","v":""},{"$f":"IF('Estimating baseline effects'!EI44<>\"\",'Estimating baseline effects'!EI44,\"\")","v":""},{"$f":"IF('Estimating baseline effects'!EJ44<>\"\",'Estimating baseline effects'!EJ44,\"\")","v":""},{"$f":"IF('Estimating baseline effects'!EK44<>\"\",'Estimating baseline effects'!EK44,\"\")","v":""},{"$f":"IF('Estimating baseline effects'!EL44<>\"\",'Estimating baseline effects'!EL44,\"\")","v":""},{"$f":"IF('Estimating baseline effects'!EM44<>\"\",'Estimating baseline effects'!EM44,\"\")","v":""},{"$f":"IF('Estimating baseline effects'!EN44<>\"\",'Estimating baseline effects'!EN44,\"\")","v":""},{"$f":"IF('Estimating baseline effects'!EO44<>\"\",'Estimating baseline effects'!EO44,\"\")","v":""},{"$f":"IF('Estimating baseline effects'!EP44<>\"\",'Estimating baseline effects'!EP44,\"\")","v":""},{"$f":"IF('Estimating baseline effects'!EQ44<>\"\",'Estimating baseline effects'!EQ44,\"\")","v":""},{"$f":"IF('Estimating baseline effects'!ER44<>\"\",'Estimating baseline effects'!ER44,\"\")","v":""},{"$f":"IF('Estimating baseline effects'!ES44<>\"\",'Estimating baseline effects'!ES44,\"\")","v":""},{"$f":"IF('Estimating baseline effects'!ET44<>\"\",'Estimating baseline effects'!ET44,\"\")","v":""},{"$f":"IF('Estimating baseline effects'!EU44<>\"\",'Estimating baseline effects'!EU44,\"\")","v":""},{"$f":"IF('Estimating baseline effects'!EV44<>\"\",'Estimating baseline effects'!EV44,\"\")","v":""},{"$f":"IF('Estimating baseline effects'!EW44<>\"\",'Estimating baseline effects'!EW44,\"\")","v":""},{"$f":"IF('Estimating baseline effects'!EX44<>\"\",'Estimating baseline effects'!EX44,\"\")","v":""},{"$f":"IF('Estimating baseline effects'!EY44<>\"\",'Estimating baseline effects'!EY44,\"\")","v":""},{"$f":"IF('Estimating baseline effects'!EZ44<>\"\",'Estimating baseline effects'!EZ44,\"\")","v":""},{"$f":"IF('Estimating baseline effects'!FA44<>\"\",'Estimating baseline effects'!FA44,\"\")","v":""},{"$f":"IF('Estimating baseline effects'!FB44<>\"\",'Estimating baseline effects'!FB44,\"\")","v":""},{"$f":"IF('Estimating baseline effects'!FC44<>\"\",'Estimating baseline effects'!FC44,\"\")","v":""},{"$f":"IF('Estimating baseline effects'!FD44<>\"\",'Estimating baseline effects'!FD44,\"\")","v":""},{"$f":"IF('Estimating baseline effects'!FE44<>\"\",'Estimating baseline effects'!FE44,\"\")","v":""},{"$f":"IF('Estimating baseline effects'!FF44<>\"\",'Estimating baseline effects'!FF44,\"\")","v":""},{"$f":"IF('Estimating baseline effects'!FG44<>\"\",'Estimating baseline effects'!FG44,\"\")","v":""},{"$f":"IF('Estimating baseline effects'!FH44<>\"\",'Estimating baseline effects'!FH44,\"\")","v":""},{"$f":"IF('Estimating baseline effects'!FI44<>\"\",'Estimating baseline effects'!FI44,\"\")","v":""},{"$f":"IF('Estimating baseline effects'!FJ44<>\"\",'Estimating baseline effects'!FJ44,\"\")","v":""},{"$f":"IF('Estimating baseline effects'!FK44<>\"\",'Estimating baseline effects'!FK44,\"\")","v":""},{"$f":"IF('Estimating baseline effects'!FL44<>\"\",'Estimating baseline effects'!FL44,\"\")","v":""},{"$f":"IF('Estimating baseline effects'!FM44<>\"\",'Estimating baseline effects'!FM44,\"\")","v":""},{"$f":"IF('Estimating baseline effects'!FN44<>\"\",'Estimating baseline effects'!FN44,\"\")","v":""},{"$f":"IF('Estimating baseline effects'!FO44<>\"\",'Estimating baseline effects'!FO44,\"\")","v":""},{"$f":"IF('Estimating baseline effects'!FP44<>\"\",'Estimating baseline effects'!FP44,\"\")","v":""},{"$f":"IF('Estimating baseline effects'!FQ44<>\"\",'Estimating baseline effects'!FQ44,\"\")","v":""},{"$f":"IF('Estimating baseline effects'!FR44<>\"\",'Estimating baseline effects'!FR44,\"\")","v":""},{"$f":"IF('Estimating baseline effects'!FS44<>\"\",'Estimating baseline effects'!FS44,\"\")","v":""},{"$f":"IF('Estimating baseline effects'!FT44<>\"\",'Estimating baseline effects'!FT44,\"\")","v":""},{"$f":"IF('Estimating baseline effects'!FU44<>\"\",'Estimating baseline effects'!FU44,\"\")","v":""},{"$f":"IF('Estimating baseline effects'!FV44<>\"\",'Estimating baseline effects'!FV44,\"\")","v":""},{"$f":"IF('Estimating baseline effects'!FW44<>\"\",'Estimating baseline effects'!FW44,\"\")","v":""},{"$f":"IF('Estimating baseline effects'!FX44<>\"\",'Estimating baseline effects'!FX44,\"\")","v":""},{"$f":"IF('Estimating baseline effects'!FY44<>\"\",'Estimating baseline effects'!FY44,\"\")","v":""},{"$f":"IF('Estimating baseline effects'!FZ44<>\"\",'Estimating baseline effects'!FZ44,\"\")","v":""},{"$f":"IF('Estimating baseline effects'!GA44<>\"\",'Estimating baseline effects'!GA44,\"\")","v":""},{"$f":"IF('Estimating baseline effects'!GB44<>\"\",'Estimating baseline effects'!GB44,\"\")","v":""},{"$f":"IF('Estimating baseline effects'!GC44<>\"\",'Estimating baseline effects'!GC44,\"\")","v":""},{"$f":"IF('Estimating baseline effects'!GD44<>\"\",'Estimating baseline effects'!GD44,\"\")","v":""},{"$f":"IF('Estimating baseline effects'!GE44<>\"\",'Estimating baseline effects'!GE44,\"\")","v":""},{"$f":"IF('Estimating baseline effects'!GF44<>\"\",'Estimating baseline effects'!GF44,\"\")","v":""},{"$f":"IF('Estimating baseline effects'!GG44<>\"\",'Estimating baseline effects'!GG44,\"\")","v":""},{"$f":"IF('Estimating baseline effects'!GH44<>\"\",'Estimating baseline effects'!GH44,\"\")","v":""},{"$f":"IF('Estimating baseline effects'!GI44<>\"\",'Estimating baseline effects'!GI44,\"\")","v":""},{"$f":"IF('Estimating baseline effects'!GJ44<>\"\",'Estimating baseline effects'!GJ44,\"\")","v":""},{"$f":"IF('Estimating baseline effects'!GK44<>\"\",'Estimating baseline effects'!GK44,\"\")","v":""},{"$f":"IF('Estimating baseline effects'!GL44<>\"\",'Estimating baseline effects'!GL44,\"\")","v":""},{"$f":"IF('Estimating baseline effects'!GM44<>\"\",'Estimating baseline effects'!GM44,\"\")","v":""},{"$f":"IF('Estimating baseline effects'!GN44<>\"\",'Estimating baseline effects'!GN44,\"\")","v":""},{"$f":"IF('Estimating baseline effects'!GO44<>\"\",'Estimating baseline effects'!GO44,\"\")","v":""},{"$f":"IF('Estimating baseline effects'!GP44<>\"\",'Estimating baseline effects'!GP44,\"\")","v":""},{"$f":"IF('Estimating baseline effects'!GQ44<>\"\",'Estimating baseline effects'!GQ44,\"\")","v":""},{"$f":"IF('Estimating baseline effects'!GR44<>\"\",'Estimating baseline effects'!GR44,\"\")","v":""},{"$f":"IF('Estimating baseline effects'!GS44<>\"\",'Estimating baseline effects'!GS44,\"\")","v":""},{"$f":"IF('Estimating baseline effects'!GT44<>\"\",'Estimating baseline effects'!GT44,\"\")","v":""},{"$f":"IF('Estimating baseline effects'!GU44<>\"\",'Estimating baseline effects'!GU44,\"\")","v":""},{"$f":"IF('Estimating baseline effects'!GV44<>\"\",'Estimating baseline effects'!GV44,\"\")","v":""},{"$f":"IF('Estimating baseline effects'!GW44<>\"\",'Estimating baseline effects'!GW44,\"\")","v":""},{"$f":"IF('Estimating baseline effects'!GX44<>\"\",'Estimating baseline effects'!GX44,\"\")","v":""},{"$f":"IF('Estimating baseline effects'!GY44<>\"\",'Estimating baseline effects'!GY44,\"\")","v":""},{"$f":"IF('Estimating baseline effects'!GZ44<>\"\",'Estimating baseline effects'!GZ44,\"\")","v":""},{"$f":"IF('Estimating baseline effects'!HA44<>\"\",'Estimating baseline effects'!HA44,\"\")","v":""},{"$f":"IF('Estimating baseline effects'!HB44<>\"\",'Estimating baseline effects'!HB44,\"\")","v":""},{"$f":"IF('Estimating baseline effects'!HC44<>\"\",'Estimating baseline effects'!HC44,\"\")","v":""},{"$f":"IF('Estimating baseline effects'!HD44<>\"\",'Estimating baseline effects'!HD44,\"\")","v":""},{"$f":"IF('Estimating baseline effects'!HE44<>\"\",'Estimating baseline effects'!HE44,\"\")","v":""},{"$f":"IF('Estimating baseline effects'!HF44<>\"\",'Estimating baseline effects'!HF44,\"\")","v":""},{"$f":"IF('Estimating baseline effects'!HG44<>\"\",'Estimating baseline effects'!HG44,\"\")","v":""},{"$f":"IF('Estimating baseline effects'!HH44<>\"\",'Estimating baseline effects'!HH44,\"\")","v":""},{"$f":"IF('Estimating baseline effects'!HI44<>\"\",'Estimating baseline effects'!HI44,\"\")","v":""},{"$f":"IF('Estimating baseline effects'!HJ44<>\"\",'Estimating baseline effects'!HJ44,\"\")","v":""},{"$f":"IF('Estimating baseline effects'!HK44<>\"\",'Estimating baseline effects'!HK44,\"\")","v":""},{"$f":"IF('Estimating baseline effects'!HL44<>\"\",'Estimating baseline effects'!HL44,\"\")","v":""},{"$f":"IF('Estimating baseline effects'!HM44<>\"\",'Estimating baseline effects'!HM44,\"\")","v":""},{"$f":"IF('Estimating baseline effects'!HN44<>\"\",'Estimating baseline effects'!HN44,\"\")","v":""},{"$f":"IF('Estimating baseline effects'!HO44<>\"\",'Estimating baseline effects'!HO44,\"\")","v":""},{"$f":"IF('Estimating baseline effects'!HP44<>\"\",'Estimating baseline effects'!HP44,\"\")","v":""},{"$f":"IF('Estimating baseline effects'!HQ44<>\"\",'Estimating baseline effects'!HQ44,\"\")","v":""},{"$f":"IF('Estimating baseline effects'!HR44<>\"\",'Estimating baseline effects'!HR44,\"\")","v":""},{"$f":"IF('Estimating baseline effects'!HS44<>\"\",'Estimating baseline effects'!HS44,\"\")","v":""},{"$f":"IF('Estimating baseline effects'!HT44<>\"\",'Estimating baseline effects'!HT44,\"\")","v":""},{"$f":"IF('Estimating baseline effects'!HU44<>\"\",'Estimating baseline effects'!HU44,\"\")","v":""},{"$f":"IF('Estimating baseline effects'!HV44<>\"\",'Estimating baseline effects'!HV44,\"\")","v":""},{"$f":"IF('Estimating baseline effects'!HW44<>\"\",'Estimating baseline effects'!HW44,\"\")","v":""},{"$f":"IF('Estimating baseline effects'!HX44<>\"\",'Estimating baseline effects'!HX44,\"\")","v":""},{"$f":"IF('Estimating baseline effects'!HY44<>\"\",'Estimating baseline effects'!HY44,\"\")","v":""},{"$f":"IF('Estimating baseline effects'!HZ44<>\"\",'Estimating baseline effects'!HZ44,\"\")","v":""},{"$f":"IF('Estimating baseline effects'!IA44<>\"\",'Estimating baseline effects'!IA44,\"\")","v":""},{"$f":"IF('Estimating baseline effects'!IB44<>\"\",'Estimating baseline effects'!IB44,\"\")","v":""},{"$f":"IF('Estimating baseline effects'!IC44<>\"\",'Estimating baseline effects'!IC44,\"\")","v":""},{"$f":"IF('Estimating baseline effects'!ID44<>\"\",'Estimating baseline effects'!ID44,\"\")","v":""},{"$f":"IF('Estimating baseline effects'!IE44<>\"\",'Estimating baseline effects'!IE44,\"\")","v":""},{"$f":"IF('Estimating baseline effects'!IF44<>\"\",'Estimating baseline effects'!IF44,\"\")","v":""},{"$f":"IF('Estimating baseline effects'!IG44<>\"\",'Estimating baseline effects'!IG44,\"\")","v":""},{"$f":"IF('Estimating baseline effects'!IH44<>\"\",'Estimating baseline effects'!IH44,\"\")","v":""},{"$f":"IF('Estimating baseline effects'!II44<>\"\",'Estimating baseline effects'!II44,\"\")","v":""},{"$f":"IF('Estimating baseline effects'!IJ44<>\"\",'Estimating baseline effects'!IJ44,\"\")","v":""},{"$f":"IF('Estimating baseline effects'!IK44<>\"\",'Estimating baseline effects'!IK44,\"\")","v":""}]
[null,"example effect 1","stationary fossil fuel combustion (source)",null,"CO2","Emission Factor",null,{"$f":"'Estimating baseline effects'!J45","v":1000},"yes",0,0,1000,1000,1000,1000,1000,1000]
[null,null,null,null,null,"Custom Parameter 1",null,1,"yes",0,0,1,1,1,1,1,1]
[null,null,null,null,null,"Custom Parameter 2",null,1,"yes",0,0,1,1,1,1,1,1]
[null,null,null,null,null,"Custom Parameter 3",null,1,"yes",0,0,1,1,1,1,1,1]
[null,null,null,null,null,"calculated",null,null,null,null,null,{"$f":"INDIRECT(\"R[-1]\",FALSE) * INDIRECT(\"R[-2]\",FALSE) * INDIRECT(\"R[-3]\",FALSE) * INDIRECT(\"R[-4]\",FALSE)","v":1000},1000,1000,1000,1000,1000]
[null,"example effect 1","stationary fossil fuel combustion (source)",null,"CH4","Emission Factor",null,{"$f":"'Estimating baseline effects'!J46","v":0},"yes",0,0,0,0,0,0,0,0]
[null,null,null,null,null,"Custom Parameter 1",null,1,"yes",0,0,1,1,1,1,1,1]
[null,null,null,null,null,"Custom Parameter 2",null,1,"yes",0,0,1,1,1,1,1,1]
[null,null,null,null,null,"Custom Parameter 3",null,1,"yes",0,0,1,1,1,1,1,1]
[null,null,null,null,null,"calculated",null,null,null,null,null,{"$f":"INDIRECT(\"R[-1]\",FALSE) * INDIRECT(\"R[-2]\",FALSE) * INDIRECT(\"R[-3]\",FALSE) * INDIRECT(\"R[-4]\",FALSE)","v":0},0,0,0,0,0]
[null,"example effect 1","stationary fossil fuel combustion (source)",null,"N2O","Emission Factor",null,{"$f":"'Estimating baseline effects'!J47","v":0},"yes",0,0,0,0,0,0,0,0]
[null,null,null,null,null,"Custom Parameter 1",null,1,"yes",0,0,1,1,1,1,1,1]
[null,null,null,null,null,"Custom Parameter 2",null,1,"yes",0,0,1,1,1,1,1,1]
[null,null,null,null,null,"Custom Parameter 3",null,1,"yes",0,0,1,1,1,1,1,1]
[null,null,null,null,null,"calculated",null,null,null,null,null,{"$f":"INDIRECT(\"R[-1]\",FALSE) * INDIRECT(\"R[-2]\",FALSE) * INDIRECT(\"R[-3]\",FALSE) * INDIRECT(\"R[-4]\",FALSE)","v":0},0,0,0,0,0]
[]
[]
[]
[]
[]
[]
[]
[]
[]
[]
[]
[]
[]
[]
[]
[]
[]
[]
[]
[]
[]
[]
[]
[]
[]
[]
[]
[]
[]
[]
[]
[]
[]
[]
[]
[]
[]
[]
[]
[]
[]
[]
[]
[]
[]
[]
[]
[]
[]
[]
[]
[]
[]
[]
[]
[]
[]
[]
[]
[]
[]
[]
[]
[]
[]
[]
[]
[]
[]
[]
[]
[]
[]
[]
[]
[]
[]
[]
[]
[]
[]
[]
[]
[]
[]
[]
[]
[]
[]
[]
[]
[]
[]
[]
[]
[]
[]
[]
[]
[]
[]
[]
[]
[]
[]
[]
[]
[]
[]
[]
[]
[]
[]
[]
[]
[]
[]
[]
[]
[]
[]
[]
[]
[]
[]
[]
[]
[]
[]
[]
[]
[]
[]
[]
[]
[]
[]
[]
[]
[]
[]
[]
[]
[]
[]
[]
[]
[]
[]
[]
[]
[]
[]
[]
[]
[]
[null,{"$f":"IF('Estimating baseline effects'!B197<>\"\",'Estimating baseline effects'!B197,\"\")","v":""}]
[null,{"$f":"IF('Estimating baseline effects'!B198<>\"\",'Estimating baseline effects'!B198,\"\")","v":""}]
[null,{"$f":"IF('Estimating baseline effects'!B199<>\"\",'Estimating baseline effects'!B199,\"\")","v":""}]
[null,{"$f":"IF('Estimating baseline effects'!B200<>\"\",'Estimating baseline effects'!B200,\"\")","v":""}]
[null,{"$f":"IF('Estimating baseline effects'!B201<>\"\",'Estimating baseline effects'!B201,\"\")","v":""}]
[null,{"$f":"IF('Estimating baseline effects'!B202<>\"\",'Estimating baseline effects'!B202,\"\")","v":""}]
[null,{"$f":"IF('Estimating baseline effects'!B203<>\"\",'Estimating baseline effects'!B203,\"\")","v":""}]
[null,{"$f":"IF('Estimating baseline effects'!B204<>\"\",'Estimating baseline effects'!B204,\"\")","v":""}]
[null,{"$f":"IF('Estimating baseline effects'!B205<>\"\",'Estimating baseline effects'!B205,\"\")","v":""}]
[null,{"$f":"IF('Estimating baseline effects'!B206<>\"\",'Estimating baseline effects'!B206,\"\")","v":""}]
[null,{"$f":"IF('Estimating baseline effects'!#REF!<>\"\",'Estimating baseline effects'!#REF!,\"\")","v":{"$error":"#REF!"}}]
[null,{"$f":"IF('Estimating baseline effects'!#REF!<>\"\",'Estimating baseline effects'!#REF!,\"\")","v":{"$error":"#REF!"}}]
[null,{"$f":"IF('Estimating baseline effects'!#REF!<>\"\",'Estimating baseline effects'!#REF!,\"\")","v":{"$error":"#REF!"}}]
[null,{"$f":"IF('Estimating baseline effects'!#REF!<>\"\",'Estimating baseline effects'!#REF!,\"\")","v":{"$error":"#REF!"}}]
[null,{"$f":"IF('Estimating baseline effects'!#REF!<>\"\",'Estimating baseline effects'!#REF!,\"\")","v":{"$error":"#REF!"}}]
[null,{"$f":"IF('Estimating baseline effects'!#REF!<>\"\",'Estimating baseline effects'!#REF!,\"\")","v":{"$error":"#REF!"}}]
[null,{"$f":"IF('Estimating baseline effects'!#REF!<>\"\",'Estimating baseline effects'!#REF!,\"\")","v":{"$error":"#REF!"}}]
[null,{"$f":"IF('Estimating baseline effects'!#REF!<>\"\",'Estimating baseline effects'!#REF!,\"\")","v":{"$error":"#REF!"}}]
[null,{"$f":"IF('Estimating baseline effects'!#REF!<>\"\",'Estimating baseline effects'!#REF!,\"\")","v":{"$error":"#REF!"}}]
[null,{"$f":"IF('Estimating baseline effects'!#REF!<>\"\",'Estimating baseline effects'!#REF!,\"\")","v":{"$error":"#REF!"}}]
[null,{"$f":"IF('Estimating baseline effects'!#REF!<>\"\",'Estimating baseline effects'!#REF!,\"\")","v":{"$error":"#REF!"}}]
[null,{"$f":"IF('Estimating baseline effects'!#REF!<>\"\",'Estimating baseline effects'!#REF!,\"\")","v":{"$error":"#REF!"}}]
[null,{"$f":"IF('Estimating baseline effects'!#REF!<>\"\",'Estimating baseline effects'!#REF!,\"\")","v":{"$error":"#REF!"}}]
[null,{"$f":"IF('Estimating baseline effects'!#REF!<>\"\",'Estimating baseline effects'!#REF!,\"\")","v":{"$error":"#REF!"}}]
[null,{"$f":"IF('Estimating baseline effects'!#REF!<>\"\",'Estimating baseline effects'!#REF!,\"\")","v":{"$error":"#REF!"}}]
[null,{"$f":"IF('Estimating baseline effects'!#REF!<>\"\",'Estimating baseline effects'!#REF!,\"\")","v":{"$error":"#REF!"}}]
[null,{"$f":"IF('Estimating baseline effects'!#REF!<>\"\",'Estimating baseline effects'!#REF!,\"\")","v":{"$error":"#REF!"}}]
[null,{"$f":"IF('Estimating baseline effects'!#REF!<>\"\",'Estimating baseline effects'!#REF!,\"\")","v":{"$error":"#REF!"}}]
[null,{"$f":"IF('Estimating baseline effects'!#REF!<>\"\",'Estimating baseline effects'!#REF!,\"\")","v":{"$error":"#REF!"}}]
[null,{"$f":"IF('Estimating baseline effects'!#REF!<>\"\",'Estimating baseline effects'!#REF!,\"\")","v":{"$error":"#REF!"}}]
[null,{"$f":"IF('Estimating baseline effects'!#REF!<>\"\",'Estimating baseline effects'!#REF!,\"\")","v":{"$error":"#REF!"}}]
[null,{"$f":"IF('Estimating baseline effects'!#REF!<>\"\",'Estimating baseline effects'!#REF!,\"\")","v":{"$error":"#REF!"}}]
[null,{"$f":"IF('Estimating baseline effects'!#REF!<>\"\",'Estimating baseline effects'!#REF!,\"\")","v":{"$error":"#REF!"}}]
[null,{"$f":"IF('Estimating baseline effects'!#REF!<>\"\",'Estimating baseline effects'!#REF!,\"\")","v":{"$error":"#REF!"}}]
[null,{"$f":"IF('Estimating baseline effects'!#REF!<>\"\",'Estimating baseline effects'!#REF!,\"\")","v":{"$error":"#REF!"}}]
[null,{"$f":"IF('Estimating baseline effects'!#REF!<>\"\",'Estimating baseline effects'!#REF!,\"\")","v":{"$error":"#REF!"}}]
[null,{"$f":"IF('Estimating baseline effects'!#REF!<>\"\",'Estimating baseline effects'!#REF!,\"\")","v":{"$error":"#REF!"}}]
[null,{"$f":"IF('Estimating baseline effects'!#REF!<>\"\",'Estimating baseline effects'!#REF!,\"\")","v":{"$error":"#REF!"}}]
[null,{"$f":"IF('Estimating baseline effects'!#REF!<>\"\",'Estimating baseline effects'!#REF!,\"\")","v":{"$error":"#REF!"}}]
[null,{"$f":"IF('Estimating baseline effects'!#REF!<>\"\",'Estimating baseline effects'!#REF!,\"\")","v":{"$error":"#REF!"}}]
[null,{"$f":"IF('Estimating baseline effects'!#REF!<>\"\",'Estimating baseline effects'!#REF!,\"\")","v":{"$error":"#REF!"}}]
[null,{"$f":"IF('Estimating baseline effects'!#REF!<>\"\",'Estimating baseline effects'!#REF!,\"\")","v":{"$error":"#REF!"}}]
[null,{"$f":"IF('Estimating baseline effects'!#REF!<>\"\",'Estimating baseline effects'!#REF!,\"\")","v":{"$error":"#REF!"}}]
[null,{"$f":"IF('Estimating baseline effects'!#REF!<>\"\",'Estimating baseline effects'!#REF!,\"\")","v":{"$error":"#REF!"}}]
[null,{"$f":"IF('Estimating baseline effects'!#REF!<>\"\",'Estimating baseline effects'!#REF!,\"\")","v":{"$error":"#REF!"}}]
[null,{"$f":"IF('Estimating baseline effects'!#REF!<>\"\",'Estimating baseline effects'!#REF!,\"\")","v":{"$error":"#REF!"}}]
[null,{"$f":"IF('Estimating baseline effects'!#REF!<>\"\",'Estimating baseline effects'!#REF!,\"\")","v":{"$error":"#REF!"}}]
[null,{"$f":"IF('Estimating baseline effects'!#REF!<>\"\",'Estimating baseline effects'!#REF!,\"\")","v":{"$error":"#REF!"}}]
[null,{"$f":"IF('Estimating baseline effects'!#REF!<>\"\",'Estimating baseline effects'!#REF!,\"\")","v":{"$error":"#REF!"}}]
[null,{"$f":"IF('Estimating baseline effects'!#REF!<>\"\",'Estimating baseline effects'!#REF!,\"\")","v":{"$error":"#REF!"}}]
[null,{"$f":"IF('Estimating baseline effects'!#REF!<>\"\",'Estimating baseline effects'!#REF!,\"\")","v":{"$error":"#REF!"}}]
[null,{"$f":"IF('Estimating baseline effects'!#REF!<>\"\",'Estimating baseline effects'!#REF!,\"\")","v":{"$error":"#REF!"}}]
[null,{"$f":"IF('Estimating baseline effects'!#REF!<>\"\",'Estimating baseline effects'!#REF!,\"\")","v":{"$error":"#REF!"}}]
[null,{"$f":"IF('Estimating baseline effects'!#REF!<>\"\",'Estimating baseline effects'!#REF!,\"\")","v":{"$error":"#REF!"}}]
[null,{"$f":"IF('Estimating baseline effects'!#REF!<>\"\",'Estimating baseline effects'!#REF!,\"\")","v":{"$error":"#REF!"}}]
[null,{"$f":"IF('Estimating baseline effects'!#REF!<>\"\",'Estimating baseline effects'!#REF!,\"\")","v":{"$error":"#REF!"}}]
[null,{"$f":"IF('Estimating baseline effects'!#REF!<>\"\",'Estimating baseline effects'!#REF!,\"\")","v":{"$error":"#REF!"}}]
[null,{"$f":"IF('Estimating baseline effects'!#REF!<>\"\",'Estimating baseline effects'!#REF!,\"\")","v":{"$error":"#REF!"}}]
[null,{"$f":"IF('Estimating baseline effects'!#REF!<>\"\",'Estimating baseline effects'!#REF!,\"\")","v":{"$error":"#REF!"}}]
[null,{"$f":"IF('Estimating baseline effects'!#REF!<>\"\",'Estimating baseline effects'!#REF!,\"\")","v":{"$error":"#REF!"}}]
[null,{"$f":"IF('Estimating baseline effects'!#REF!<>\"\",'Estimating baseline effects'!#REF!,\"\")","v":{"$error":"#REF!"}}]
[null,{"$f":"IF('Estimating baseline effects'!#REF!<>\"\",'Estimating baseline effects'!#REF!,\"\")","v":{"$error":"#REF!"}}]
[null,{"$f":"IF('Estimating baseline effects'!#REF!<>\"\",'Estimating baseline effects'!#REF!,\"\")","v":{"$error":"#REF!"}}]
[null,{"$f":"IF('Estimating baseline effects'!#REF!<>\"\",'Estimating baseline effects'!#REF!,\"\")","v":{"$error":"#REF!"}}]
[null,{"$f":"IF('Estimating baseline effects'!#REF!<>\"\",'Estimating baseline effects'!#REF!,\"\")","v":{"$error":"#REF!"}}]
[null,{"$f":"IF('Estimating baseline effects'!#REF!<>\"\",'Estimating baseline effects'!#REF!,\"\")","v":{"$error":"#REF!"}}]
[null,{"$f":"IF('Estimating baseline effects'!#REF!<>\"\",'Estimating baseline effects'!#REF!,\"\")","v":{"$error":"#REF!"}}]
[null,{"$f":"IF('Estimating baseline effects'!#REF!<>\"\",'Estimating baseline effects'!#REF!,\"\")","v":{"$error":"#REF!"}}]
[null,{"$f":"IF('Estimating baseline effects'!#REF!<>\"\",'Estimating baseline effects'!#REF!,\"\")","v":{"$error":"#REF!"}}]
[null,{"$f":"IF('Estimating baseline effects'!#REF!<>\"\",'Estimating baseline effects'!#REF!,\"\")","v":{"$error":"#REF!"}}]
[null,{"$f":"IF('Estimating baseline effects'!#REF!<>\"\",'Estimating baseline effects'!#REF!,\"\")","v":{"$error":"#REF!"}}]
[null,{"$f":"IF('Estimating baseline effects'!#REF!<>\"\",'Estimating baseline effects'!#REF!,\"\")","v":{"$error":"#REF!"}}]
[null,{"$f":"IF('Estimating baseline effects'!#REF!<>\"\",'Estimating baseline effects'!#REF!,\"\")","v":{"$error":"#REF!"}}]
[null,{"$f":"IF('Estimating baseline effects'!#REF!<>\"\",'Estimating baseline effects'!#REF!,\"\")","v":{"$error":"#REF!"}}]
[null,{"$f":"IF('Estimating baseline effects'!#REF!<>\"\",'Estimating baseline effects'!#REF!,\"\")","v":{"$error":"#REF!"}}]
[null,{"$f":"IF('Estimating baseline effects'!#REF!<>\"\",'Estimating baseline effects'!#REF!,\"\")","v":{"$error":"#REF!"}}]
[null,{"$f":"IF('Estimating baseline effects'!#REF!<>\"\",'Estimating baseline effects'!#REF!,\"\")","v":{"$error":"#REF!"}}]
[null,{"$f":"IF('Estimating baseline effects'!#REF!<>\"\",'Estimating baseline effects'!#REF!,\"\")","v":{"$error":"#REF!"}}]
[null,{"$f":"IF('Estimating baseline effects'!#REF!<>\"\",'Estimating baseline effects'!#REF!,\"\")","v":{"$error":"#REF!"}}]
[null,{"$f":"IF('Estimating baseline effects'!#REF!<>\"\",'Estimating baseline effects'!#REF!,\"\")","v":{"$error":"#REF!"}}]
[null,{"$f":"IF('Estimating baseline effects'!#REF!<>\"\",'Estimating baseline effects'!#REF!,\"\")","v":{"$error":"#REF!"}}]
[null,{"$f":"IF('Estimating baseline effects'!#REF!<>\"\",'Estimating baseline effects'!#REF!,\"\")","v":{"$error":"#REF!"}}]
[null,{"$f":"IF('Estimating baseline effects'!#REF!<>\"\",'Estimating baseline effects'!#REF!,\"\")","v":{"$error":"#REF!"}}]
[null,{"$f":"IF('Estimating baseline effects'!#REF!<>\"\",'Estimating baseline effects'!#REF!,\"\")","v":{"$error":"#REF!"}}]
[null,{"$f":"IF('Estimating baseline effects'!#REF!<>\"\",'Estimating baseline effects'!#REF!,\"\")","v":{"$error":"#REF!"}}]
[null,{"$f":"IF('Estimating baseline effects'!#REF!<>\"\",'Estimating baseline effects'!#REF!,\"\")","v":{"$error":"#REF!"}}]
[null,{"$f":"IF('Estimating baseline effects'!#REF!<>\"\",'Estimating baseline effects'!#REF!,\"\")","v":{"$error":"#REF!"}}]
[null,{"$f":"IF('Estimating baseline effects'!#REF!<>\"\",'Estimating baseline effects'!#REF!,\"\")","v":{"$error":"#REF!"}}]
[null,{"$f":"IF('Estimating baseline effects'!#REF!<>\"\",'Estimating baseline effects'!#REF!,\"\")","v":{"$error":"#REF!"}}]
[null,{"$f":"IF('Estimating baseline effects'!#REF!<>\"\",'Estimating baseline effects'!#REF!,\"\")","v":{"$error":"#REF!"}}]
[null,{"$f":"IF('Estimating baseline effects'!#REF!<>\"\",'Estimating baseline effects'!#REF!,\"\")","v":{"$error":"#REF!"}}]
[null,{"$f":"IF('Estimating baseline effects'!#REF!<>\"\",'Estimating baseline effects'!#REF!,\"\")","v":{"$error":"#REF!"}}]
[null,{"$f":"IF('Estimating baseline effects'!#REF!<>\"\",'Estimating baseline effects'!#REF!,\"\")","v":{"$error":"#REF!"}}]
[null,{"$f":"IF('Estimating baseline effects'!#REF!<>\"\",'Estimating baseline effects'!#REF!,\"\")","v":{"$error":"#REF!"}}]
[null,{"$f":"IF('Estimating baseline effects'!#REF!<>\"\",'Estimating baseline effects'!#REF!,\"\")","v":{"$error":"#REF!"}}]
[null,{"$f":"IF('Estimating baseline effects'!#REF!<>\"\",'Estimating baseline effects'!#REF!,\"\")","v":{"$error":"#REF!"}}]
[null,{"$f":"IF('Estimating baseline effects'!#REF!<>\"\",'Estimating baseline effects'!#REF!,\"\")","v":{"$error":"#REF!"}}]
[null,{"$f":"IF('Estimating baseline effects'!#REF!<>\"\",'Estimating baseline effects'!#REF!,\"\")","v":{"$error":"#REF!"}}]
[null,{"$f":"IF('Estimating baseline effects'!#REF!<>\"\",'Estimating baseline effects'!#REF!,\"\")","v":{"$error":"#REF!"}}]
[null,{"$f":"IF('Estimating baseline effects'!#REF!<>\"\",'Estimating baseline effects'!#REF!,\"\")","v":{"$error":"#REF!"}}]
[null,{"$f":"IF('Estimating baseline effects'!#REF!<>\"\",'Estimating baseline effects'!#REF!,\"\")","v":{"$error":"#REF!"}}]
[null,{"$f":"IF('Estimating baseline effects'!#REF!<>\"\",'Estimating baseline effects'!#REF!,\"\")","v":{"$error":"#REF!"}}]
[null,{"$f":"IF('Estimating baseline effects'!#REF!<>\"\",'Estimating baseline effects'!#REF!,\"\")","v":{"$error":"#REF!"}}]
[null,{"$f":"IF('Estimating baseline effects'!#REF!<>\"\",'Estimating baseline effects'!#REF!,\"\")","v":{"$error":"#REF!"}}]
[null,{"$f":"IF('Estimating baseline effects'!#REF!<>\"\",'Estimating baseline effects'!#REF!,\"\")","v":{"$error":"#REF!"}}]
[null,{"$f":"IF('Estimating baseline effects'!#REF!<>\"\",'Estimating baseline effects'!#REF!,\"\")","v":{"$error":"#REF!"}}]
[null,{"$f":"IF('Estimating baseline effects'!#REF!<>\"\",'Estimating baseline effects'!#REF!,\"\")","v":{"$error":"#REF!"}}]
[null,{"$f":"IF('Estimating baseline effects'!#REF!<>\"\",'Estimating baseline effects'!#REF!,\"\")","v":{"$error":"#REF!"}}]
[null,{"$f":"IF('Estimating baseline effects'!#REF!<>\"\",'Estimating baseline effects'!#REF!,\"\")","v":{"$error":"#REF!"}}]
[null,{"$f":"IF('Estimating baseline effects'!#REF!<>\"\",'Estimating baseline effects'!#REF!,\"\")","v":{"$error":"#REF!"}}]
[null,{"$f":"IF('Estimating baseline effects'!#REF!<>\"\",'Estimating baseline effects'!#REF!,\"\")","v":{"$error":"#REF!"}}]
[null,{"$f":"IF('Estimating baseline effects'!#REF!<>\"\",'Estimating baseline effects'!#REF!,\"\")","v":{"$error":"#REF!"}}]
[null,{"$f":"IF('Estimating baseline effects'!#REF!<>\"\",'Estimating baseline effects'!#REF!,\"\")","v":{"$error":"#REF!"}}]
[null,{"$f":"IF('Estimating baseline effects'!#REF!<>\"\",'Estimating baseline effects'!#REF!,\"\")","v":{"$error":"#REF!"}}]
[null,{"$f":"IF('Estimating baseline effects'!#REF!<>\"\",'Estimating baseline effects'!#REF!,\"\")","v":{"$error":"#REF!"}}]
[null,{"$f":"IF('Estimating baseline effects'!#REF!<>\"\",'Estimating baseline effects'!#REF!,\"\")","v":{"$error":"#REF!"}}]
[null,{"$f":"IF('Estimating baseline effects'!#REF!<>\"\",'Estimating baseline effects'!#REF!,\"\")","v":{"$error":"#REF!"}}]
[null,{"$f":"IF('Estimating baseline effects'!#REF!<>\"\",'Estimating baseline effects'!#REF!,\"\")","v":{"$error":"#REF!"}}]
[null,{"$f":"IF('Estimating baseline effects'!#REF!<>\"\",'Estimating baseline effects'!#REF!,\"\")","v":{"$error":"#REF!"}}]
[null,{"$f":"IF('Estimating baseline effects'!#REF!<>\"\",'Estimating baseline effects'!#REF!,\"\")","v":{"$error":"#REF!"}}]
[null,{"$f":"IF('Estimating baseline effects'!#REF!<>\"\",'Estimating baseline effects'!#REF!,\"\")","v":{"$error":"#REF!"}}]
[null,{"$f":"IF('Estimating baseline effects'!#REF!<>\"\",'Estimating baseline effects'!#REF!,\"\")","v":{"$error":"#REF!"}}]

{"sheet":"Estimate ex ante GHG","index":6,"n_rows":299,"n_cols":473,"rows_kept":299,"cut":false,"hidden":false,"merged":[[8,2,8,4],[17,2,17,7],[15,2,15,7],[13,2,13,7],[29,2,29,7],[27,2,27,7],[25,2,25,7],[23,2,23,7],[21,2,21,7]]}
[null,null,null,null,null,null,null,null,null,null,null,null,null,null,null,null,null,null,null,null,null,null,null,null,null,null,null,null,null,null,null,null,null,null,null,null,null,null,null,null,null,null,null,null,null,null,null,null,null,null,null,null,null,null,null,null,null,null,null,null,null,null,null,null,null,null,null,null,null,null,null,null,null,null,null,null,null,null,null,null,null,null,null,null,null,null,null,null,null,null,null,null,null,null,null,null,null,null,null,null,null,null,null,null,null,null,null,null,null,null,null,null,null,null,null,null,null,null,null,null,null,null,null,null,null,null,null,null,null,null,null,null,null,null,null,null,null,null,null,null,null,null,null,null,null,null,null,null,null,null,null,null,null,null,null,null,null,null,null,null,null,null,null,null,null,null,null,null,null,null,null,null,null,null,null,null,null,null,null,null,null,null,null,null,null,null,null,null,null,null,null,null,null,null,null,null,null,null,null,null,null,null,null,null,null,null,null,null,null,null,null,null,null,null,null,null,null,null,null,null,null,null,null,null,null,null,null,null,null,null,null,null,null,null,null,null,null,null,null,null,null,null,null,null,null,null,247,248,249,250,251,252,253,254,255,256,257,258,259,260,261,262,263,264,265,266,267,268,269,270,271,272,273,274,275,276,277,278,279,280,281,282,283,284,285,286,287,288,289,290,291,292,293,294,295,296,297,298,299,300,301,302,303,304,305,306,307,308,309,310,311,312,313,314,315,316,317,318,319,320,321,322,323,324,325,326,327,328,329,330,331,332,333,334,335]
[]
[]
[]
[]
[]
[]
[]
[null,null,"Use this page to describe the policy scenario and enter data on policy scenario emissions, for either ex-ante or ex-post assessments,  and calculate the GHG effect of the policy or action. Note that the GHG effects listed are the same as those in the baseline emissions scenario. You can only change the emission factors, additional or dynamic parameters and uncertainty and the activity data. "]
[]
[]
[null,"Selected assessment type",{"$f":"assessment_type","v":"Ex-ante"}]
[]
[null,"Describe the overall policy scenario (i.e. the events or conditions most likely to occur/that have occurred in the presence of the policy or action)",null,null,null,null,null,null,null,null,null,null,null,null,null,null,null,null,null,null,null,null,null,null,null,null,null,null,null,null,null,null,null,null,null,null,null,null,null,null,null,null,null,null,null,null,null,null,null,null,null,null,null,null,null,null,null,null,null,null,null,null,null,null,null,null,null,null,null,null,null,null,null,null,null,null,null,null,null,null,null,null,null,null,null,null,null,null,null,null,null,null,null,null,null,null,null,null,null,null,null,null,null,null,null,null,null,null,null,null,null,null,null,null,null,null,null,null,null,null,null,null,null,null,null,null,null,null,null,null,null,null,null,null,null,null,null,null,null,null,null,null,null,null,null,null,null,null,null,null,null,null,null,null,null,null,null,null,null,null,null,null,null,null,null,null,null,null,null,null,null,null,null,null,null,null,null,null,null,null,null,null,null,null,null,null,null,null,null,null,null,null,null,null,null,null,null,null,null,null,null,null,null,null,null,null,null,null,null,null,null,null,null,null,null,null,null,null,null,null,null,null,null,null,null,null,null,null,null,null,null,null,null,null,null,null,null,null,null,null,null,null,null,null,null,null,null,null,null,null,null,null,null,null,null,null,null,null,null,null,null,null,null,null,null,null,null,null,null,null,null,null,null,null,null,null,null,null,null,null,null,null,null,null,null,null,null,null,null,null,null,null,null,null,null,null,null,null,null,null,null,null,null,null,null,null,null,null,null,null,null,null,null,null,null,null,null,null,null,null,null,null,null,null,null,null,null,null,null,null,null,null,null,null,null,null,null,null,null,{"$f":"C14","v":0}]
[]
[null,"The methodology and assumptions used to estimate policy scenario emissions, including the emissions estimation method(s) (including any models) used","\n\n\n\n\n\n\n\n\n",null,null,null,null,null,null,null,null,null,null,null,null,null,null,null,null,null,null,null,null,null,null,null,null,null,null,null,null,null,null,null,null,null,null,null,null,null,null,null,null,null,null,null,null,null,null,null,null,null,null,null,null,null,null,null,null,null,null,null,null,null,null,null,null,null,null,null,null,null,null,null,null,null,null,null,null,null,null,null,null,null,null,null,null,null,null,null,null,null,null,null,null,null,null,null,null,null,null,null,null,null,null,null,null,null,null,null,null,null,null,null,null,null,null,null,null,null,null,null,null,null,null,null,null,null,null,null,null,null,null,null,null,null,null,null,null,null,null,null,null,null,null,null,null,null,null,null,null,null,null,null,null,null,null,null,null,null,null,null,null,null,null,null,null,null,null,null,null,null,null,null,null,null,null,null,null,null,null,null,null,null,null,null,null,null,null,null,null,null,null,null,null,null,null,null,null,null,null,null,null,null,null,null,null,null,null,null,null,null,null,null,null,null,null,null,null,null,null,null,null,null,null,null,null,null,null,null,null,null,null,null,null,null,null,null,null,null,null,null,null,null,null,null,null,null,null,null,null,null,null,null,null,null,null,null,null,null,null,null,null,null,null,null,null,null,null,null,null,null,null,null,null,null,null,null,null,null,null,null,null,null,null,null,null,null,null,null,null,null,null,null,null,null,null,null,null,null,null,null,null,null,null,null,null,null,null,null,null,null,null,null,null,null,null,null,null,null,null,null,null,null,null,null,null,null,null,null,null,null,null,null,null,null,null,null,null,{"$f":"C16","v":"\n\n\n\n\n\n\n\n\n"}]
[]
[null,"Description of the differences between results from top-down and bottom-up methods (if applicable)","ex-post/combined only",null,null,null,null,null,null,null,null,null,null,null,null,null,null,null,null,null,null,null,null,null,null,null,null,null,null,null,null,null,null,null,null,null,null,null,null,null,null,null,null,null,null,null,null,null,null,null,null,null,null,null,null,null,null,null,null,null,null,null,null,null,null,null,null,null,null,null,null,null,null,null,null,null,null,null,null,null,null,null,null,null,null,null,null,null,null,null,null,null,null,null,null,null,null,null,null,null,null,null,null,null,null,null,null,null,null,null,null,null,null,null,null,null,null,null,null,null,null,null,null,null,null,null,null,null,null,null,null,null,null,null,null,null,null,null,null,null,null,null,null,null,null,null,null,null,null,null,null,null,null,null,null,null,null,null,null,null,null,null,null,null,null,null,null,null,null,null,null,null,null,null,null,null,null,null,null,null,null,null,null,null,null,null,null,null,null,null,null,null,null,null,null,null,null,null,null,null,null,null,null,null,null,null,null,null,null,null,null,null,null,null,null,null,null,null,null,null,null,null,null,null,null,null,null,null,null,null,null,null,null,null,null,null,null,null,null,null,null,null,null,null,null,null,null,null,null,null,null,null,null,null,null,null,null,null,null,null,null,null,null,null,null,null,null,null,null,null,null,null,null,null,null,null,null,null,null,null,null,null,null,null,null,null,null,null,null,null,null,null,null,null,null,null,null,null,null,null,null,null,null,null,null,null,null,null,null,null,null,null,null,null,null,null,null,null,null,null,null,null,null,null,null,null,null,null,null,null,null,null,null,null,null,null,null,null,null,{"$f":"C18","v":"ex-post/combined only"}]
[null,null,null,null,null,null,null,null,null,null,null,null,null,null,null,null,null,null,null,null,null,null,null,null,null,null,null,null,null,null,null,null,null,null,null,null,null,null,null,null,null,null,null,null,null,null,null,null,null,null,null,null,null,null,null,null,null,null,null,null,null,null,null,null,null,null,null,null,null,null,null,null,null,null,null,null,null,null,null,null,null,null,null,null,null,null,null,null,null,null,null,null,null,null,null,null,null,null,null,null,null,null,null,null,null,null,null,null,null,null,null,null,null,null,null,null,null,null,null,null,null,null,null,null,null,null,null,null,null,null,null,null,null,null,null,null,null,null,null,null,null,null,null,null,null,null,null,null,null,null,null,null,null,null,null,null,null,null,null,null,null,null,null,null,null,null,null,null,null,null,null,null,null,null,null,null,null,null,null,null,null,null,null,null,null,null,null,null,null,null,null,null,null,null,null,null,null,null,null,null,null,null,null,null,null,null,null,null,null,null,null,null,null,null,null,null,null,null,null,null,null,null,null,null,null,null,null,null,null,null,null,null,null,null,null,null,null,null,null,null,null,null,null,null,null,null,null,null,null,null,null,null,null,null,null,null,null,null,null,null,null,null,null,null,null,null,null,null,null,null,null,null,null,null,null,null,null,null,null,null,null,null,null,null,null,null,null,null,null,null,null,null,null,null,null,null,null,null,null,null,null,null,null,null,null,null,null,null,null,null,null,null,null,null,null,null,null,null,null,null,null,null,null,null,null,null,null,null,null,null,null,null,null,null,null,null,null,null,null,0]
[null,"Ex-post assessment method",null,null,null,null,null,null,null,null,null,null,null,null,null,null,null,null,null,null,null,null,null,null,null,null,null,null,null,null,null,null,null,null,null,null,null,null,null,null,null,null,null,null,null,null,null,null,null,null,null,null,null,null,null,null,null,null,null,null,null,null,null,null,null,null,null,null,null,null,null,null,null,null,null,null,null,null,null,null,null,null,null,null,null,null,null,null,null,null,null,null,null,null,null,null,null,null,null,null,null,null,null,null,null,null,null,null,null,null,null,null,null,null,null,null,null,null,null,null,null,null,null,null,null,null,null,null,null,null,null,null,null,null,null,null,null,null,null,null,null,null,null,null,null,null,null,null,null,null,null,null,null,null,null,null,null,null,null,null,null,null,null,null,null,null,null,null,null,null,null,null,null,null,null,null,null,null,null,null,null,null,null,null,null,null,null,null,null,null,null,null,null,null,null,null,null,null,null,null,null,null,null,null,null,null,null,null,null,null,null,null,null,null,null,null,null,null,null,null,null,null,null,null,null,null,null,null,null,null,null,null,null,null,null,null,null,null,null,null,null,null,null,null,null,null,null,null,null,null,null,null,null,null,null,null,null,null,null,null,null,null,null,null,null,null,null,null,null,null,null,null,null,null,null,null,null,null,null,null,null,null,null,null,null,null,null,null,null,null,null,null,null,null,null,null,null,null,null,null,null,null,null,null,null,null,null,null,null,null,null,null,null,null,null,null,null,null,null,null,null,null,null,null,null,null,null,null,null,null,null,null,null,null,null,null,null,null,null,0]
[null,null,null,null,null,null,null,null,null,null,null,null,null,null,null,null,null,null,null,null,null,null,null,null,null,null,null,null,null,null,null,null,null,null,null,null,null,null,null,null,null,null,null,null,null,null,null,null,null,null,null,null,null,null,null,null,null,null,null,null,null,null,null,null,null,null,null,null,null,null,null,null,null,null,null,null,null,null,null,null,null,null,null,null,null,null,null,null,null,null,null,null,null,null,null,null,null,null,null,null,null,null,null,null,null,null,null,null,null,null,null,null,null,null,null,null,null,null,null,null,null,null,null,null,null,null,null,null,null,null,null,null,null,null,null,null,null,null,null,null,null,null,null,null,null,null,null,null,null,null,null,null,null,null,null,null,null,null,null,null,null,null,null,null,null,null,null,null,null,null,null,null,null,null,null,null,null,null,null,null,null,null,null,null,null,null,null,null,null,null,null,null,null,null,null,null,null,null,null,null,null,null,null,null,null,null,null,null,null,null,null,null,null,null,null,null,null,null,null,null,null,null,null,null,null,null,null,null,null,null,null,null,null,null,null,null,null,null,null,null,null,null,null,null,null,null,null,null,null,null,null,null,null,null,null,null,null,null,null,null,null,null,null,null,null,null,null,null,null,null,null,null,null,null,null,null,null,null,null,null,null,null,null,null,null,null,null,null,null,null,null,null,null,null,null,null,null,null,null,null,null,null,null,null,null,null,null,null,null,null,null,null,null,null,null,null,null,null,null,null,null,null,null,null,null,null,null,null,null,null,null,null,null,null,null,null,null,null,null,0]
[null,"The methodology and assumptions used to estimate policy scenario  values for key parameters including whether each parameter is assumed to be static or dynamic",null,null,null,null,null,null,null,null,null,null,null,null,null,null,null,null,null,null,null,null,null,null,null,null,null,null,null,null,null,null,null,null,null,null,null,null,null,null,null,null,null,null,null,null,null,null,null,null,null,null,null,null,null,null,null,null,null,null,null,null,null,null,null,null,null,null,null,null,null,null,null,null,null,null,null,null,null,null,null,null,null,null,null,null,null,null,null,null,null,null,null,null,null,null,null,null,null,null,null,null,null,null,null,null,null,null,null,null,null,null,null,null,null,null,null,null,null,null,null,null,null,null,null,null,null,null,null,null,null,null,null,null,null,null,null,null,null,null,null,null,null,null,null,null,null,null,null,null,null,null,null,null,null,null,null,null,null,null,null,null,null,null,null,null,null,null,null,null,null,null,null,null,null,null,null,null,null,null,null,null,null,null,null,null,null,null,null,null,null,null,null,null,null,null,null,null,null,null,null,null,null,null,null,null,null,null,null,null,null,null,null,null,null,null,null,null,null,null,null,null,null,null,null,null,null,null,null,null,null,null,null,null,null,null,null,null,null,null,null,null,null,null,null,null,null,null,null,null,null,null,null,null,null,null,null,null,null,null,null,null,null,null,null,null,null,null,null,null,null,null,null,null,null,null,null,null,null,null,null,null,null,null,null,null,null,null,null,null,null,null,null,null,null,null,null,null,null,null,null,null,null,null,null,null,null,null,null,null,null,null,null,null,null,null,null,null,null,null,null,null,null,null,null,null,null,null,null,null,null,null,null,null,null,null,null,null,null,0]
[]
[null,"Any potential interactions with other policies and actions and whether and how policy interactions were estimated",null,null,null,null,null,null,null,null,null,null,null,null,null,null,null,null,null,null,null,null,null,null,null,null,null,null,null,null,null,null,null,null,null,null,null,null,null,null,null,null,null,null,null,null,null,null,null,null,null,null,null,null,null,null,null,null,null,null,null,null,null,null,null,null,null,null,null,null,null,null,null,null,null,null,null,null,null,null,null,null,null,null,null,null,null,null,null,null,null,null,null,null,null,null,null,null,null,null,null,null,null,null,null,null,null,null,null,null,null,null,null,null,null,null,null,null,null,null,null,null,null,null,null,null,null,null,null,null,null,null,null,null,null,null,null,null,null,null,null,null,null,null,null,null,null,null,null,null,null,null,null,null,null,null,null,null,null,null,null,null,null,null,null,null,null,null,null,null,null,null,null,null,null,null,null,null,null,null,null,null,null,null,null,null,null,null,null,null,null,null,null,null,null,null,null,null,null,null,null,null,null,null,null,null,null,null,null,null,null,null,null,null,null,null,null,null,null,null,null,null,null,null,null,null,null,null,null,null,null,null,null,null,null,null,null,null,null,null,null,null,null,null,null,null,null,null,null,null,null,null,null,null,null,null,null,null,null,null,null,null,null,null,null,null,null,null,null,null,null,null,null,null,null,null,null,null,null,null,null,null,null,null,null,null,null,null,null,null,null,null,null,null,null,null,null,null,null,null,null,null,null,null,null,null,null,null,null,null,null,null,null,null,null,null,null,null,null,null,null,null,null,null,null,null,null,null,null,null,null,null,null,null,null,null,null,null,null,{"$f":"C24","v":0}]
[]
[null,"Any sources, sinks, greenhouse gases, or GHG effects in the GHG assessment boundary that have not been estimated in the policy scenario, with justification and a qualitative description of the change to those sources, sinks or gases",null,null,null,null,null,null,null,null,null,null,null,null,null,null,null,null,null,null,null,null,null,null,null,null,null,null,null,null,null,null,null,null,null,null,null,null,null,null,null,null,null,null,null,null,null,null,null,null,null,null,null,null,null,null,null,null,null,null,null,null,null,null,null,null,null,null,null,null,null,null,null,null,null,null,null,null,null,null,null,null,null,null,null,null,null,null,null,null,null,null,null,null,null,null,null,null,null,null,null,null,null,null,null,null,null,null,null,null,null,null,null,null,null,null,null,null,null,null,null,null,null,null,null,null,null,null,null,null,null,null,null,null,null,null,null,null,null,null,null,null,null,null,null,null,null,null,null,null,null,null,null,null,null,null,null,null,null,null,null,null,null,null,null,null,null,null,null,null,null,null,null,null,null,null,null,null,null,null,null,null,null,null,null,null,null,null,null,null,null,null,null,null,null,null,null,null,null,null,null,null,null,null,null,null,null,null,null,null,null,null,null,null,null,null,null,null,null,null,null,null,null,null,null,null,null,null,null,null,null,null,null,null,null,null,null,null,null,null,null,null,null,null,null,null,null,null,null,null,null,null,null,null,null,null,null,null,null,null,null,null,null,null,null,null,null,null,null,null,null,null,null,null,null,null,null,null,null,null,null,null,null,null,null,null,null,null,null,null,null,null,null,null,null,null,null,null,null,null,null,null,null,null,null,null,null,null,null,null,null,null,null,null,null,null,null,null,null,null,null,null,null,null,null,null,null,null,null,null,null,null,null,null,null,null,null,null,null,0]
[]
[null,"If data are normalized, the normalized results separately reported from the non-normailized results and the normalization methods used","If data are normalized, the normalized results separately reported from the non-normailized results and the normalization methods used"]
[]
[]
[null,"Cumulative policy scenario emissions (tCO2e)",{"$f":"SUM(R34:IJ34)","v":0},{"$f":" \"(\" & assess_start_year & \" to \" & assess_end_year & \")\"","v":"(2020 to 2025)"},null,null,null,null,null,null,null,null,null,null,null,null,null,"Estimated annual GHG effect of policy/action (tCO2e) - the differences from baseline scenario"]
[null,"Sub-total out-of-jurisdiction emissions (tCO2e)",{"$f":"SUMIFS(Q38:Q200,F38:F200,\"out-of-jurisdiction\")","v":0},null,null,null,null,null,null,null,null,null,null,null,null,null,null,{"$f":"IF(R37<>\"\",R34-'Estimating baseline effects'!Q41,\"\")","v":0},{"$f":"IF(S37<>\"\",S34-'Estimating baseline effects'!R41,\"\")","v":0},{"$f":"IF(T37<>\"\",T34-'Estimating baseline effects'!S41,\"\")","v":0},{"$f":"IF(U37<>\"\",U34-'Estimating baseline effects'!T41,\"\")","v":0},{"$f":"IF(V37<>\"\",V34-'Estimating baseline effects'!U41,\"\")","v":0},{"$f":"IF(W37<>\"\",W34-'Estimating baseline effects'!V41,\"\")","v":0},{"$f":"IF(X37<>\"\",X34-'Estimating baseline effects'!W41,\"\")","v":""},{"$f":"IF(Y37<>\"\",Y34-'Estimating baseline effects'!X41,\"\")","v":""},{"$f":"IF(Z37<>\"\",Z34-'Estimating baseline effects'!Y41,\"\")","v":""},{"$f":"IF(AA37<>\"\",AA34-'Estimating baseline effects'!Z41,\"\")","v":""},{"$f":"IF(AB37<>\"\",AB34-'Estimating baseline effects'!AA41,\"\")","v":""},{"$f":"IF(AC37<>\"\",AC34-'Estimating baseline effects'!AB41,\"\")","v":""},{"$f":"IF(AD37<>\"\",AD34-'Estimating baseline effects'!AC41,\"\")","v":""},{"$f":"IF(AE37<>\"\",AE34-'Estimating baseline effects'!AD41,\"\")","v":""},{"$f":"IF(AF37<>\"\",AF34-'Estimating baseline effects'!AE41,\"\")","v":""},{"$f":"IF(AG37<>\"\",AG34-'Estimating baseline effects'!AF41,\"\")","v":""},{"$f":"IF(AH37<>\"\",AH34-'Estimating baseline effects'!AG41,\"\")","v":""},{"$f":"IF(AI37<>\"\",AI34-'Estimating baseline effects'!AH41,\"\")","v":""},{"$f":"IF(AJ37<>\"\",AJ34-'Estimating baseline effects'!AI41,\"\")","v":""},{"$f":"IF(AK37<>\"\",AK34-'Estimating baseline effects'!AJ41,\"\")","v":""},{"$f":"IF(AL37<>\"\",AL34-'Estimating baseline effects'!AK41,\"\")","v":""},{"$f":"IF(AM37<>\"\",AM34-'Estimating baseline effects'!AL41,\"\")","v":""},{"$f":"IF(AN37<>\"\",AN34-'Estimating baseline effects'!AM41,\"\")","v":""},{"$f":"IF(AO37<>\"\",AO34-'Estimating baseline effects'!AN41,\"\")","v":""},{"$f":"IF(AP37<>\"\",AP34-'Estimating baseline effects'!AO41,\"\")","v":""},{"$f":"IF(AQ37<>\"\",AQ34-'Estimating baseline effects'!AP41,\"\")","v":""},{"$f":"IF(AR37<>\"\",AR34-'Estimating baseline effects'!AQ41,\"\")","v":""},{"$f":"IF(AS37<>\"\",AS34-'Estimating baseline effects'!AR41,\"\")","v":""},{"$f":"IF(AT37<>\"\",AT34-'Estimating baseline effects'!AS41,\"\")","v":""},{"$f":"IF(AU37<>\"\",AU34-'Estimating baseline effects'!AT41,\"\")","v":""},{"$f":"IF(AV37<>\"\",AV34-'Estimating baseline effects'!AU41,\"\")","v":""},{"$f":"IF(AW37<>\"\",AW34-'Estimating baseline effects'!AV41,\"\")","v":""},{"$f":"IF(AX37<>\"\",AX34-'Estimating baseline effects'!AW41,\"\")","v":""},{"$f":"IF(AY37<>\"\",AY34-'Estimating baseline effects'!AX41,\"\")","v":""},{"$f":"IF(AZ37<>\"\",AZ34-'Estimating baseline effects'!AY41,\"\")","v":""},{"$f":"IF(BA37<>\"\",BA34-'Estimating baseline effects'!AZ41,\"\")","v":""},{"$f":"IF(BB37<>\"\",BB34-'Estimating baseline effects'!BA41,\"\")","v":""},{"$f":"IF(BC37<>\"\",BC34-'Estimating baseline effects'!BB41,\"\")","v":""},{"$f":"IF(BD37<>\"\",BD34-'Estimating baseline effects'!BC41,\"\")","v":""},{"$f":"IF(BE37<>\"\",BE34-'Estimating baseline effects'!BD41,\"\")","v":""},{"$f":"IF(BF37<>\"\",BF34-'Estimating baseline effects'!BE41,\"\")","v":""},{"$f":"IF(BG37<>\"\",BG34-'Estimating baseline effects'!BF41,\"\")","v":""},{"$f":"IF(BH37<>\"\",BH34-'Estimating baseline effects'!BG41,\"\")","v":""},{"$f":"IF(BI37<>\"\",BI34-'Estimating baseline effects'!BH41,\"\")","v":""},{"$f":"IF(BJ37<>\"\",BJ34-'Estimating baseline effects'!BI41,\"\")","v":""},{"$f":"IF(BK37<>\"\",BK34-'Estimating baseline effects'!BJ41,\"\")","v":""},{"$f":"IF(BL37<>\"\",BL34-'Estimating baseline effects'!BK41,\"\")","v":""},{"$f":"IF(BM37<>\"\",BM34-'Estimating baseline effects'!BL41,\"\")","v":""},{"$f":"IF(BN37<>\"\",BN34-'Estimating baseline effects'!BM41,\"\")","v":""},{"$f":"IF(BO37<>\"\",BO34-'Estimating baseline effects'!BN41,\"\")","v":""},{"$f":"IF(BP37<>\"\",BP34-'Estimating baseline effects'!BO41,\"\")","v":""},{"$f":"IF(BQ37<>\"\",BQ34-'Estimating baseline effects'!BP41,\"\")","v":""},{"$f":"IF(BR37<>\"\",BR34-'Estimating baseline effects'!BQ41,\"\")","v":""},{"$f":"IF(BS37<>\"\",BS34-'Estimating baseline effects'!BR41,\"\")","v":""},{"$f":"IF(BT37<>\"\",BT34-'Estimating baseline effects'!BS41,\"\")","v":""},{"$f":"IF(BU37<>\"\",BU34-'Estimating baseline effects'!BT41,\"\")","v":""},{"$f":"IF(BV37<>\"\",BV34-'Estimating baseline effects'!BU41,\"\")","v":""},{"$f":"IF(BW37<>\"\",BW34-'Estimating baseline effects'!BV41,\"\")","v":""},{"$f":"IF(BX37<>\"\",BX34-'Estimating baseline effects'!BW41,\"\")","v":""},{"$f":"IF(BY37<>\"\",BY34-'Estimating baseline effects'!BX41,\"\")","v":""},{"$f":"IF(BZ37<>\"\",BZ34-'Estimating baseline effects'!BY41,\"\")","v":""},{"$f":"IF(CA37<>\"\",CA34-'Estimating baseline effects'!BZ41,\"\")","v":""},{"$f":"IF(CB37<>\"\",CB34-'Estimating baseline effects'!CA41,\"\")","v":""},{"$f":"IF(CC37<>\"\",CC34-'Estimating baseline effects'!CB41,\"\")","v":""},{"$f":"IF(CD37<>\"\",CD34-'Estimating baseline effects'!CC41,\"\")","v":""},{"$f":"IF(CE37<>\"\",CE34-'Estimating baseline effects'!CD41,\"\")","v":""},{"$f":"IF(CF37<>\"\",CF34-'Estimating baseline effects'!CE41,\"\")","v":""},{"$f":"IF(CG37<>\"\",CG34-'Estimating baseline effects'!CF41,\"\")","v":""},{"$f":"IF(CH37<>\"\",CH34-'Estimating baseline effects'!CG41,\"\")","v":""},{"$f":"IF(CI37<>\"\",CI34-'Estimating baseline effects'!CH41,\"\")","v":""},{"$f":"IF(CJ37<>\"\",CJ34-'Estimating baseline effects'!CI41,\"\")","v":""},{"$f":"IF(CK37<>\"\",CK34-'Estimating baseline effects'!CJ41,\"\")","v":""},{"$f":"IF(CL37<>\"\",CL34-'Estimating baseline effects'!CK41,\"\")","v":""},{"$f":"IF(CM37<>\"\",CM34-'Estimating baseline effects'!CL41,\"\")","v":""},{"$f":"IF(CN37<>\"\",CN34-'Estimating baseline effects'!CM41,\"\")","v":""},{"$f":"IF(CO37<>\"\",CO34-'Estimating baseline effects'!CN41,\"\")","v":""},{"$f":"IF(CP37<>\"\",CP34-'Estimating baseline effects'!CO41,\"\")","v":""},{"$f":"IF(CQ37<>\"\",CQ34-'Estimating baseline effects'!CP41,\"\")","v":""},{"$f":"IF(CR37<>\"\",CR34-'Estimating baseline effects'!CQ41,\"\")","v":""},{"$f":"IF(CS37<>\"\",CS34-'Estimating baseline effects'!CR41,\"\")","v":""},{"$f":"IF(CT37<>\"\",CT34-'Estimating baseline effects'!CS41,\"\")","v":""},{"$f":"IF(CU37<>\"\",CU34-'Estimating baseline effects'!CT41,\"\")","v":""},{"$f":"IF(CV37<>\"\",CV34-'Estimating baseline effects'!CU41,\"\")","v":""},{"$f":"IF(CW37<>\"\",CW34-'Estimating baseline effects'!CV41,\"\")","v":""},{"$f":"IF(CX37<>\"\",CX34-'Estimating baseline effects'!CW41,\"\")","v":""},{"$f":"IF(CY37<>\"\",CY34-'Estimating baseline effects'!CX41,\"\")","v":""},{"$f":"IF(CZ37<>\"\",CZ34-'Estimating baseline effects'!CY41,\"\")","v":""},{"$f":"IF(DA37<>\"\",DA34-'Estimating baseline effects'!CZ41,\"\")","v":""},{"$f":"IF(DB37<>\"\",DB34-'Estimating baseline effects'!DA41,\"\")","v":""},{"$f":"IF(DC37<>\"\",DC34-'Estimating baseline effects'!DB41,\"\")","v":""},{"$f":"IF(DD37<>\"\",DD34-'Estimating baseline effects'!DC41,\"\")","v":""},{"$f":"IF(DE37<>\"\",DE34-'Estimating baseline effects'!DD41,\"\")","v":""},{"$f":"IF(DF37<>\"\",DF34-'Estimating baseline effects'!DE41,\"\")","v":""},{"$f":"IF(DG37<>\"\",DG34-'Estimating baseline effects'!DF41,\"\")","v":""},{"$f":"IF(DH37<>\"\",DH34-'Estimating baseline effects'!DG41,\"\")","v":""},{"$f":"IF(DI37<>\"\",DI34-'Estimating baseline effects'!DH41,\"\")","v":""},{"$f":"IF(DJ37<>\"\",DJ34-'Estimating baseline effects'!DI41,\"\")","v":""},{"$f":"IF(DK37<>\"\",DK34-'Estimating baseline effects'!DJ41,\"\")","v":""},{"$f":"IF(DL37<>\"\",DL34-'Estimating baseline effects'!DK41,\"\")","v":""},{"$f":"IF(DM37<>\"\",DM34-'Estimating baseline effects'!DL41,\"\")","v":""},{"$f":"IF(DN37<>\"\",DN34-'Estimating baseline effects'!DM41,\"\")","v":""},{"$f":"IF(DO37<>\"\",DO34-'Estimating baseline effects'!DN41,\"\")","v":""},{"$f":"IF(DP37<>\"\",DP34-'Estimating baseline effects'!DO41,\"\")","v":""},{"$f":"IF(DQ37<>\"\",DQ34-'Estimating baseline effects'!DP41,\"\")","v":""},{"$f":"IF(DR37<>\"\",DR34-'Estimating baseline effects'!DQ41,\"\")","v":""},{"$f":"IF(DS37<>\"\",DS34-'Estimating baseline effects'!DR41,\"\")","v":""},{"$f":"IF(DT37<>\"\",DT34-'Estimating baseline effects'!DS41,\"\")","v":""},{"$f":"IF(DU37<>\"\",DU34-'Estimating baseline effects'!DT41,\"\")","v":""},{"$f":"IF(DV37<>\"\",DV34-'Estimating baseline effects'!DU41,\"\")","v":""},{"$f":"IF(DW37<>\"\",DW34-'Estimating baseline effects'!DV41,\"\")","v":""},{"$f":"IF(DX37<>\"\",DX34-'Estimating baseline effects'!DW41,\"\")","v":""},{"$f":"IF(DY37<>\"\",DY34-'Estimating baseline effects'!DX41,\"\")","v":""},{"$f":"IF(DZ37<>\"\",DZ34-'Estimating baseline effects'!DY41,\"\")","v":""},{"$f":"IF(EA37<>\"\",EA34-'Estimating baseline effects'!DZ41,\"\")","v":""},{"$f":"IF(EB37<>\"\",EB34-'Estimating baseline effects'!EA41,\"\")","v":""},{"$f":"IF(EC37<>\"\",EC34-'Estimating baseline effects'!EB41,\"\")","v":""},{"$f":"IF(ED37<>\"\",ED34-'Estimating baseline effects'!EC41,\"\")","v":""},{"$f":"IF(EE37<>\"\",EE34-'Estimating baseline effects'!ED41,\"\")","v":""},{"$f":"IF(EF37<>\"\",EF34-'Estimating baseline effects'!EE41,\"\")","v":""},{"$f":"IF(EG37<>\"\",EG34-'Estimating baseline effects'!EF41,\"\")","v":""},{"$f":"IF(EH37<>\"\",EH34-'Estimating baseline effects'!EG41,\"\")","v":""},{"$f":"IF(EI37<>\"\",EI34-'Estimating baseline effects'!EH41,\"\")","v":""},{"$f":"IF(EJ37<>\"\",EJ34-'Estimating baseline effects'!EI41,\"\")","v":""},{"$f":"IF(EK37<>\"\",EK34-'Estimating baseline effects'!EJ41,\"\")","v":""},{"$f":"IF(EL37<>\"\",EL34-'Estimating baseline effects'!EK41,\"\")","v":""},{"$f":"IF(EM37<>\"\",EM34-'Estimating baseline effects'!EL41,\"\")","v":""},{"$f":"IF(EN37<>\"\",EN34-'Estimating baseline effects'!EM41,\"\")","v":""},{"$f":"IF(EO37<>\"\",EO34-'Estimating baseline effects'!EN41,\"\")","v":""},{"$f":"IF(EP37<>\"\",EP34-'Estimating baseline effects'!EO41,\"\")","v":""},{"$f":"IF(EQ37<>\"\",EQ34-'Estimating baseline effects'!EP41,\"\")","v":""},{"$f":"IF(ER37<>\"\",ER34-'Estimating baseline effects'!EQ41,\"\")","v":""},{"$f":"IF(ES37<>\"\",ES34-'Estimating baseline effects'!ER41,\"\")","v":""},{"$f":"IF(ET37<>\"\",ET34-'Estimating baseline effects'!ES41,\"\")","v":""},{"$f":"IF(EU37<>\"\",EU34-'Estimating baseline effects'!ET41,\"\")","v":""},{"$f":"IF(EV37<>\"\",EV34-'Estimating baseline effects'!EU41,\"\")","v":""},{"$f":"IF(EW37<>\"\",EW34-'Estimating baseline effects'!EV41,\"\")","v":""},{"$f":"IF(EX37<>\"\",EX34-'Estimating baseline effects'!EW41,\"\")","v":""},{"$f":"IF(EY37<>\"\",EY34-'Estimating baseline effects'!EX41,\"\")","v":""},{"$f":"IF(EZ37<>\"\",EZ34-'Estimating baseline effects'!EY41,\"\")","v":""},{"$f":"IF(FA37<>\"\",FA34-'Estimating baseline effects'!EZ41,\"\")","v":""},{"$f":"IF(FB37<>\"\",FB34-'Estimating baseline effects'!FA41,\"\")","v":""},{"$f":"IF(FC37<>\"\",FC34-'Estimating baseline effects'!FB41,\"\")","v":""},{"$f":"IF(FD37<>\"\",FD34-'Estimating baseline effects'!FC41,\"\")","v":""},{"$f":"IF(FE37<>\"\",FE34-'Estimating baseline effects'!FD41,\"\")","v":""},{"$f":"IF(FF37<>\"\",FF34-'Estimating baseline effects'!FE41,\"\")","v":""},{"$f":"IF(FG37<>\"\",FG34-'Estimating baseline effects'!FF41,\"\")","v":""},{"$f":"IF(FH37<>\"\",FH34-'Estimating baseline effects'!FG41,\"\")","v":""},{"$f":"IF(FI37<>\"\",FI34-'Estimating baseline effects'!FH41,\"\")","v":""},{"$f":"IF(FJ37<>\"\",FJ34-'Estimating baseline effects'!FI41,\"\")","v":""},{"$f":"IF(FK37<>\"\",FK34-'Estimating baseline effects'!FJ41,\"\")","v":""},{"$f":"IF(FL37<>\"\",FL34-'Estimating baseline effects'!FK41,\"\")","v":""},{"$f":"IF(FM37<>\"\",FM34-'Estimating baseline effects'!FL41,\"\")","v":""},{"$f":"IF(FN37<>\"\",FN34-'Estimating baseline effects'!FM41,\"\")","v":""},{"$f":"IF(FO37<>\"\",FO34-'Estimating baseline effects'!FN41,\"\")","v":""},{"$f":"IF(FP37<>\"\",FP34-'Estimating baseline effects'!FO41,\"\")","v":""},{"$f":"IF(FQ37<>\"\",FQ34-'Estimating baseline effects'!FP41,\"\")","v":""},{"$f":"IF(FR37<>\"\",FR34-'Estimating baseline effects'!FQ41,\"\")","v":""},{"$f":"IF(FS37<>\"\",FS34-'Estimating baseline effects'!FR41,\"\")","v":""},{"$f":"IF(FT37<>\"\",FT34-'Estimating baseline effects'!FS41,\"\")","v":""},{"$f":"IF(FU37<>\"\",FU34-'Estimating baseline effects'!FT41,\"\")","v":""},{"$f":"IF(FV37<>\"\",FV34-'Estimating baseline effects'!FU41,\"\")","v":""},{"$f":"IF(FW37<>\"\",FW34-'Estimating baseline effects'!FV41,\"\")","v":""},{"$f":"IF(FX37<>\"\",FX34-'Estimating baseline effects'!FW41,\"\")","v":""},{"$f":"IF(FY37<>\"\",FY34-'Estimating baseline effects'!FX41,\"\")","v":""},{"$f":"IF(FZ37<>\"\",FZ34-'Estimating baseline effects'!FY41,\"\")","v":""},{"$f":"IF(GA37<>\"\",GA34-'Estimating baseline effects'!FZ41,\"\")","v":""},{"$f":"IF(GB37<>\"\",GB34-'Estimating baseline effects'!GA41,\"\")","v":""},{"$f":"IF(GC37<>\"\",GC34-'Estimating baseline effects'!GB41,\"\")","v":""},{"$f":"IF(GD37<>\"\",GD34-'Estimating baseline effects'!GC41,\"\")","v":""},{"$f":"IF(GE37<>\"\",GE34-'Estimating baseline effects'!GD41,\"\")","v":""},{"$f":"IF(GF37<>\"\",GF34-'Estimating baseline effects'!GE41,\"\")","v":""},{"$f":"IF(GG37<>\"\",GG34-'Estimating baseline effects'!GF41,\"\")","v":""},{"$f":"IF(GH37<>\"\",GH34-'Estimating baseline effects'!GG41,\"\")","v":""},{"$f":"IF(GI37<>\"\",GI34-'Estimating baseline effects'!GH41,\"\")","v":""},{"$f":"IF(GJ37<>\"\",GJ34-'Estimating baseline effects'!GI41,\"\")","v":""},{"$f":"IF(GK37<>\"\",GK34-'Estimating baseline effects'!GJ41,\"\")","v":""},{"$f":"IF(GL37<>\"\",GL34-'Estimating baseline effects'!GK41,\"\")","v":""},{"$f":"IF(GM37<>\"\",GM34-'Estimating baseline effects'!GL41,\"\")","v":""},{"$f":"IF(GN37<>\"\",GN34-'Estimating baseline effects'!GM41,\"\")","v":""},{"$f":"IF(GO37<>\"\",GO34-'Estimating baseline effects'!GN41,\"\")","v":""},{"$f":"IF(GP37<>\"\",GP34-'Estimating baseline effects'!GO41,\"\")","v":""},{"$f":"IF(GQ37<>\"\",GQ34-'Estimating baseline effects'!GP41,\"\")","v":""},{"$f":"IF(GR37<>\"\",GR34-'Estimating baseline effects'!GQ41,\"\")","v":""},{"$f":"IF(GS37<>\"\",GS34-'Estimating baseline effects'!GR41,\"\")","v":""},{"$f":"IF(GT37<>\"\",GT34-'Estimating baseline effects'!GS41,\"\")","v":""},{"$f":"IF(GU37<>\"\",GU34-'Estimating baseline effects'!GT41,\"\")","v":""},{"$f":"IF(GV37<>\"\",GV34-'Estimating baseline effects'!GU41,\"\")","v":""},{"$f":"IF(GW37<>\"\",GW34-'Estimating baseline effects'!GV41,\"\")","v":""},{"$f":"IF(GX37<>\"\",GX34-'Estimating baseline effects'!GW41,\"\")","v":""},{"$f":"IF(GY37<>\"\",GY34-'Estimating baseline effects'!GX41,\"\")","v":""},{"$f":"IF(GZ37<>\"\",GZ34-'Estimating baseline effects'!GY41,\"\")","v":""},{"$f":"IF(HA37<>\"\",HA34-'Estimating baseline effects'!GZ41,\"\")","v":""},{"$f":"IF(HB37<>\"\",HB34-'Estimating baseline effects'!HA41,\"\")","v":""},{"$f":"IF(HC37<>\"\",HC34-'Estimating baseline effects'!HB41,\"\")","v":""},{"$f":"IF(HD37<>\"\",HD34-'Estimating baseline effects'!HC41,\"\")","v":""},{"$f":"IF(HE37<>\"\",HE34-'Estimating baseline effects'!HD41,\"\")","v":""},{"$f":"IF(HF37<>\"\",HF34-'Estimating baseline effects'!HE41,\"\")","v":""},{"$f":"IF(HG37<>\"\",HG34-'Estimating baseline effects'!HF41,\"\")","v":""},{"$f":"IF(HH37<>\"\",HH34-'Estimating baseline effects'!HG41,\"\")","v":""},{"$f":"IF(HI37<>\"\",HI34-'Estimating baseline effects'!HH41,\"\")","v":""},{"$f":"IF(HJ37<>\"\",HJ34-'Estimating baseline effects'!HI41,\"\")","v":""},{"$f":"IF(HK37<>\"\",HK34-'Estimating baseline effects'!HJ41,\"\")","v":""},{"$f":"IF(HL37<>\"\",HL34-'Estimating baseline effects'!HK41,\"\")","v":""},{"$f":"IF(HM37<>\"\",HM34-'Estimating baseline effects'!HL41,\"\")","v":""},{"$f":"IF(HN37<>\"\",HN34-'Estimating baseline effects'!HM41,\"\")","v":""},{"$f":"IF(HO37<>\"\",HO34-'Estimating baseline effects'!HN41,\"\")","v":""},{"$f":"IF(HP37<>\"\",HP34-'Estimating baseline effects'!HO41,\"\")","v":""},{"$f":"IF(HQ37<>\"\",HQ34-'Estimating baseline effects'!HP41,\"\")","v":""},{"$f":"IF(HR37<>\"\",HR34-'Estimating baseline effects'!HQ41,\"\")","v":""},{"$f":"IF(HS37<>\"\",HS34-'Estimating baseline effects'!HR41,\"\")","v":""},{"$f":"IF(HT37<>\"\",HT34-'Estimating baseline effects'!HS41,\"\")","v":""},{"$f":"IF(HU37<>\"\",HU34-'Estimating baseline effects'!HT41,\"\")","v":""},{"$f":"IF(HV37<>\"\",HV34-'Estimating baseline effects'!HU41,\"\")","v":""},{"$f":"IF(HW37<>\"\",HW34-'Estimating baseline effects'!HV41,\"\")","v":""},{"$f":"IF(HX37<>\"\",HX34-'Estimating baseline effects'!HW41,\"\")","v":""},{"$f":"IF(HY37<>\"\",HY34-'Estimating baseline effects'!HX41,\"\")","v":""},{"$f":"IF(HZ37<>\"\",HZ34-'Estimating baseline effects'!HY41,\"\")","v":""},{"$f":"IF(IA37<>\"\",IA34-'Estimating baseline effects'!HZ41,\"\")","v":""},{"$f":"IF(IB37<>\"\",IB34-'Estimating baseline effects'!IA41,\"\")","v":""},{"$f":"IF(IC37<>\"\",IC34-'Estimating baseline effects'!IB41,\"\")","v":""},{"$f":"IF(ID37<>\"\",ID34-'Estimating baseline effects'!IC41,\"\")","v":""},{"$f":"IF(IE37<>\"\",IE34-'Estimating baseline effects'!ID41,\"\")","v":""},{"$f":"IF(IF37<>\"\",IF34-'Estimating baseline effects'!IE41,\"\")","v":""},{"$f":"IF(IG37<>\"\",IG34-'Estimating baseline effects'!IF41,\"\")","v":""},{"$f":"IF(IH37<>\"\",IH34-'Estimating baseline effects'!IG41,\"\")","v":""},{"$f":"IF(II37<>\"\",II34-'Estimating baseline effects'!IH41,\"\")","v":""}]
[null,"Sub-total of in-jurisdiction emissions (tCO2e)",{"$f":"SUMIFS(Q38:Q200,F38:F200,\"in-jurisdiction\")","v":0},null,null,null,null,null,null,null,null,null,null,null,null,null,null,"Aggregated annual policy scenario emissions across all source/sink categories (tCO2e)"]
[null,"Sub-total of unknown jurisdiction emissions (tCO2e)",{"$f":"SUMIFS(Q38:Q200,F38:F200,\"\")","v":0},null,null,null,null,null,null,null,null,null,null,null,null,null,null,{"$f":"IF(R37<>\"\",IF($K$35=\"no\", SUMPRODUCT($J$38:$J$199,$K$38:$K$199,R38:R199)/1000,SUMPRODUCT($K$38:$K$199,IM38:IM199)/1000),\"\")","v":0},{"$f":"IF(S37<>\"\",IF($K$35=\"no\", SUMPRODUCT($J$38:$J$199,$K$38:$K$199,S38:S199)/1000,SUMPRODUCT($K$38:$K$199,IN38:IN199)/1000),\"\")","v":0},0,0,0,0,"","","","","","","","","","","","","","","","","","","","","","","","","","","","","","","","","","","","","","","","","","","","","","","","","","","","","","","","","","","",{"$f":"IF(CE37<>\"\",IF($K$35=\"no\", SUMPRODUCT($J$38:$J$199,$K$38:$K$199,CE38:CE199)/1000,SUMPRODUCT($K$38:$K$199,KZ38:KZ199)/1000),\"\")","v":""},"","","","","","","","","","","","","","","","","","","","","","","","","","","","","","","","","","","","","","","","","","","","","","","","","","","","","","","","","","","","","","","",{"$f":"IF(EQ37<>\"\",IF($K$35=\"no\", SUMPRODUCT($J$38:$J$199,$K$38:$K$199,EQ38:EQ199)/1000,SUMPRODUCT($K$38:$K$199,NL38:NL199)/1000),\"\")","v":""},"","","","","","","","","","","","","","","","","","","","","","","","","","","","","","","","","","","","","","","","","","","","","","","","","","","","","","","","","","","","","","","",{"$f":"IF(HC37<>\"\",IF($K$35=\"no\", SUMPRODUCT($J$38:$J$199,$K$38:$K$199,HC38:HC199)/1000,SUMPRODUCT($K$38:$K$199,PX38:PX199)/1000),\"\")","v":""},"","","","","","","","","","","","","","","","","","","","","","","","","","","","","","","",""]
[null,"Estimated GHG effect of policy/action (tCO2e)",{"$f":"C31-'Estimating baseline effects'!C39","v":0},null,null,null,null,null,null,"use additional/dynamic parameters?",{"$f":"use_base_dynamic_parameters","v":"no"},null,null,null,null,null,null,null,null,null,null,null,null,null,null,null,null,null,null,null,null,null,null,null,null,null,null,null,null,null,null,null,null,null,null,null,null,null,null,null,null,null,null,null,null,null,null,null,null,null,null,null,null,null,null,null,null,null,null,null,null,null,null,null,null,null,null,null,null,null,null,null,null,null,null,null,null,null,null,null,null,null,null,null,null,null,null,null,null,null,null,null,null,null,null,null,null,null,null,null,null,null,null,null,null,null,null,null,null,null,null,null,null,null,null,null,null,null,null,null,null,null,null,null,null,null,null,null,null,null,null,null,null,null,null,null,null,null,null,null,null,null,null,null,null,null,null,null,null,null,null,null,null,null,null,null,null,null,null,null,null,null,null,null,null,null,null,null,null,null,null,null,null,null,null,null,null,null,null,null,null,null,null,null,null,null,null,null,null,null,null,null,null,null,null,null,null,null,null,null,null,null,null,null,null,null,null,null,null,null,null,null,null,null,null,null,null,null,null,null,null,null,null,null,null,null,null,null,null,null,null,null,null,null,null,null,"Custom parameter values"]
[null,"Included GHG effects and relevant GHG",null,null,null,null,null,null,null,null,null,null,null,null,null,null,null,"Activity data (the level of activity or emissions in the policy scenario NOT the change in activity or emissions). Note: if you have pre-calculated your emissions, you can set the emission factor to '1' and enter the emissions (in kg) directly below. ",null,null,null,null,null,null,null,null,null,null,null,null,null,null,null,null,null,null,null,null,null,null,null,null,null,null,null,null,null,null,null,null,null,null,null,null,null,null,null,null,null,null,null,null,null,null,null,null,null,null,null,null,null,null,null,null,null,null,null,null,null,null,null,null,null,null,null,null,null,null,null,null,null,null,null,null,null,null,null,null,null,null,null,null,null,null,null,null,null,null,null,null,null,null,null,null,null,null,null,null,null,null,null,null,null,null,null,null,null,null,null,null,null,null,null,null,null,null,null,null,null,null,null,null,null,null,null,null,null,null,null,null,null,null,null,null,null,null,null,null,null,null,null,null,null,null,null,null,null,null,null,null,null,null,null,null,null,null,null,null,null,null,null,null,null,null,null,null,null,null,null,null,null,null,null,null,null,null,null,null,null,null,null,null,null,null,null,null,null,null,null,null,null,null,null,null,null,null,null,null,null,null,null,null,null,null,null,null,null,null,null,null,null,null,null,null,null,null,null,null,null,null,null,null,null,null,null,null,null,null,null,null,null,null,null,null,null,null,null,null,null,null,null,null,null,null,null,null,null,null,null,null,null,null,null,null,null,{"$f":"'Baseline dynamic parameters'!AO12","v":""},{"$f":"'Baseline dynamic parameters'!AP12","v":""},{"$f":"'Baseline dynamic parameters'!AQ12","v":""},{"$f":"'Baseline dynamic parameters'!AR12","v":""},{"$f":"'Baseline dynamic parameters'!AS12","v":""},{"$f":"'Baseline dynamic parameters'!AT12","v":""},{"$f":"'Baseline dynamic parameters'!AU12","v":""},{"$f":"'Baseline dynamic parameters'!AV12","v":""},{"$f":"'Baseline dynamic parameters'!AW12","v":""},{"$f":"'Baseline dynamic parameters'!AX12","v":""},{"$f":"'Baseline dynamic parameters'!AY12","v":""},{"$f":"'Baseline dynamic parameters'!AZ12","v":""},{"$f":"'Baseline dynamic parameters'!BA12","v":""},{"$f":"'Baseline dynamic parameters'!BB12","v":""},{"$f":"'Baseline dynamic parameters'!BC12","v":""},{"$f":"'Baseline dynamic parameters'!BD12","v":""},{"$f":"'Baseline dynamic parameters'!BE12","v":""},{"$f":"'Baseline dynamic parameters'!BF12","v":""},{"$f":"'Baseline dynamic parameters'!BG12","v":""},{"$f":"'Baseline dynamic parameters'!BH12","v":""},{"$f":"'Baseline dynamic parameters'!BI12","v":""},{"$f":"'Baseline dynamic parameters'!BJ12","v":""},{"$f":"'Baseline dynamic parameters'!BK12","v":""},{"$f":"'Baseline dynamic parameters'!BL12","v":""},{"$f":"'Baseline dynamic parameters'!BM12","v":""},{"$f":"'Baseline dynamic parameters'!BN12","v":""},{"$f":"'Baseline dynamic parameters'!BO12","v":""},{"$f":"'Baseline dynamic parameters'!BP12","v":""},{"$f":"'Baseline dynamic parameters'!BQ12","v":""},{"$f":"'Baseline dynamic parameters'!BR12","v":""},{"$f":"'Baseline dynamic parameters'!BS12","v":""},{"$f":"'Baseline dynamic parameters'!BT12","v":""},{"$f":"'Baseline dynamic parameters'!BU12","v":""},{"$f":"'Baseline dynamic parameters'!BV12","v":""},{"$f":"'Baseline dynamic parameters'!BW12","v":""},{"$f":"'Baseline dynamic parameters'!BX12","v":""},{"$f":"'Baseline dynamic parameters'!BY12","v":""},{"$f":"'Baseline dynamic parameters'!BZ12","v":""},{"$f":"'Baseline dynamic parameters'!CA12","v":""},{"$f":"'Baseline dynamic parameters'!CB12","v":""},{"$f":"'Baseline dynamic parameters'!CC12","v":""},{"$f":"'Baseline dynamic parameters'!CD12","v":""},{"$f":"'Baseline dynamic parameters'!CE12","v":""},{"$f":"'Baseline dynamic parameters'!CF12","v":""},{"$f":"'Baseline dynamic parameters'!CG12","v":""},{"$f":"'Baseline dynamic parameters'!CH12","v":""},{"$f":"'Baseline dynamic parameters'!CI12","v":""},{"$f":"'Baseline dynamic parameters'!CJ12","v":""},{"$f":"'Baseline dynamic parameters'!CK12","v":""},{"$f":"'Baseline dynamic parameters'!CL12","v":""},{"$f":"'Baseline dynamic parameters'!CM12","v":""},{"$f":"'Baseline dynamic parameters'!CN12","v":""},{"$f":"'Baseline dynamic parameters'!CO12","v":""},{"$f":"'Baseline dynamic parameters'!CP12","v":""},{"$f":"'Baseline dynamic parameters'!CQ12","v":""},{"$f":"'Baseline dynamic parameters'!CR12","v":""},{"$f":"'Baseline dynamic parameters'!CS12","v":""},{"$f":"'Baseline dynamic parameters'!CT12","v":""},{"$f":"'Baseline dynamic parameters'!CU12","v":""},{"$f":"'Baseline dynamic parameters'!CV12","v":""},{"$f":"'Baseline dynamic parameters'!CW12","v":""},{"$f":"'Baseline dynamic parameters'!CX12","v":""},{"$f":"'Baseline dynamic parameters'!CY12","v":""},{"$f":"'Baseline dynamic parameters'!CZ12","v":""},{"$f":"'Baseline dynamic parameters'!DA12","v":""},{"$f":"'Baseline dynamic parameters'!DB12","v":""},{"$f":"'Baseline dynamic parameters'!DC12","v":""},{"$f":"'Baseline dynamic parameters'!DD12","v":""},{"$f":"'Baseline dynamic parameters'!DE12","v":""},{"$f":"'Baseline dynamic parameters'!DF12","v":""},{"$f":"'Baseline dynamic parameters'!DG12","v":""},{"$f":"'Baseline dynamic parameters'!DH12","v":""},{"$f":"'Baseline dynamic parameters'!DI12","v":""},{"$f":"'Baseline dynamic parameters'!DJ12","v":""},{"$f":"'Baseline dynamic parameters'!DK12","v":""},{"$f":"'Baseline dynamic parameters'!DL12","v":""},{"$f":"'Baseline dynamic parameters'!DM12","v":""},{"$f":"'Baseline dynamic parameters'!DN12","v":""},{"$f":"'Baseline dynamic parameters'!DO12","v":""},{"$f":"'Baseline dynamic parameters'!DP12","v":""},{"$f":"'Baseline dynamic parameters'!DQ12","v":""},{"$f":"'Baseline dynamic parameters'!DR12","v":""},{"$f":"'Baseline dynamic parameters'!DS12","v":""},{"$f":"'Baseline dynamic parameters'!DT12","v":""},{"$f":"'Baseline dynamic parameters'!DU12","v":""},{"$f":"'Baseline dynamic parameters'!DV12","v":""},{"$f":"'Baseline dynamic parameters'!DW12","v":""},{"$f":"'Baseline dynamic parameters'!DX12","v":""},{"$f":"'Baseline dynamic parameters'!DY12","v":""},{"$f":"'Baseline dynamic parameters'!DZ12","v":""},{"$f":"'Baseline dynamic parameters'!EA12","v":""},{"$f":"'Baseline dynamic parameters'!EB12","v":""},{"$f":"'Baseline dynamic parameters'!EC12","v":""},{"$f":"'Baseline dynamic parameters'!ED12","v":""}]
[null,"GHG effect","Source/Sink Category","Source/sink description","Relevant GHG","Jurisdiction","Activity data type","Activity sub-type","Activity data units ","Emission factor (EF) in kg per unit","GWP","Emission factor source","Activity data source","Assumptions for parameter values","Custom parameter 2","Custom parameter 3","Cumulative emissions by source/gas  (tCO2e)",{"$f":"IF('Estimating baseline effects'!Q44<>\"\", 'Estimating baseline effects'!Q44,\"\")","v":2020},{"$f":"IF('Estimating baseline effects'!R44<>\"\", 'Estimating baseline effects'!R44,\"\")","v":2021},{"$f":"IF('Estimating baseline effects'!S44<>\"\", 'Estimating baseline effects'!S44,\"\")","v":2022},{"$f":"IF('Estimating baseline effects'!T44<>\"\", 'Estimating baseline effects'!T44,\"\")","v":2023},{"$f":"IF('Estimating baseline effects'!U44<>\"\", 'Estimating baseline effects'!U44,\"\")","v":2024},{"$f":"IF('Estimating baseline effects'!V44<>\"\", 'Estimating baseline effects'!V44,\"\")","v":2025},{"$f":"IF('Estimating baseline effects'!W44<>\"\", 'Estimating baseline effects'!W44,\"\")","v":""},{"$f":"IF('Estimating baseline effects'!X44<>\"\", 'Estimating baseline effects'!X44,\"\")","v":""},{"$f":"IF('Estimating baseline effects'!Y44<>\"\", 'Estimating baseline effects'!Y44,\"\")","v":""},{"$f":"IF('Estimating baseline effects'!Z44<>\"\", 'Estimating baseline effects'!Z44,\"\")","v":""},{"$f":"IF('Estimating baseline effects'!AA44<>\"\", 'Estimating baseline effects'!AA44,\"\")","v":""},{"$f":"IF('Estimating baseline effects'!AB44<>\"\", 'Estimating baseline effects'!AB44,\"\")","v":""},{"$f":"IF('Estimating baseline effects'!AC44<>\"\", 'Estimating baseline effects'!AC44,\"\")","v":""},{"$f":"IF('Estimating baseline effects'!AD44<>\"\", 'Estimating baseline effects'!AD44,\"\")","v":""},{"$f":"IF('Estimating baseline effects'!AE44<>\"\", 'Estimating baseline effects'!AE44,\"\")","v":""},{"$f":"IF('Estimating baseline effects'!AF44<>\"\", 'Estimating baseline effects'!AF44,\"\")","v":""},{"$f":"IF('Estimating baseline effects'!AG44<>\"\", 'Estimating baseline effects'!AG44,\"\")","v":""},{"$f":"IF('Estimating baseline effects'!AH44<>\"\", 'Estimating baseline effects'!AH44,\"\")","v":""},{"$f":"IF('Estimating baseline effects'!AI44<>\"\", 'Estimating baseline effects'!AI44,\"\")","v":""},{"$f":"IF('Estimating baseline effects'!AJ44<>\"\", 'Estimating baseline effects'!AJ44,\"\")","v":""},{"$f":"IF('Estimating baseline effects'!AK44<>\"\", 'Estimating baseline effects'!AK44,\"\")","v":""},{"$f":"IF('Estimating baseline effects'!AL44<>\"\", 'Estimating baseline effects'!AL44,\"\")","v":""},{"$f":"IF('Estimating baseline effects'!AM44<>\"\", 'Estimating baseline effects'!AM44,\"\")","v":""},{"$f":"IF('Estimating baseline effects'!AN44<>\"\", 'Estimating baseline effects'!AN44,\"\")","v":""},{"$f":"IF('Estimating baseline effects'!AO44<>\"\", 'Estimating baseline effects'!AO44,\"\")","v":""},{"$f":"IF('Estimating baseline effects'!AP44<>\"\", 'Estimating baseline effects'!AP44,\"\")","v":""},{"$f":"IF('Estimating baseline effects'!AQ44<>\"\", 'Estimating baseline effects'!AQ44,\"\")","v":""},{"$f":"IF('Estimating baseline effects'!AR44<>\"\", 'Estimating baseline effects'!AR44,\"\")","v":""},{"$f":"IF('Estimating baseline effects'!AS44<>\"\", 'Estimating baseline effects'!AS44,\"\")","v":""},{"$f":"IF('Estimating baseline effects'!AT44<>\"\", 'Estimating baseline effects'!AT44,\"\")","v":""},{"$f":"IF('Estimating baseline effects'!AU44<>\"\", 'Estimating baseline effects'!AU44,\"\")","v":""},{"$f":"IF('Estimating baseline effects'!AV44<>\"\", 'Estimating baseline effects'!AV44,\"\")","v":""},{"$f":"IF('Estimating baseline effects'!AW44<>\"\", 'Estimating baseline effects'!AW44,\"\")","v":""},{"$f":"IF('Estimating baseline effects'!AX44<>\"\", 'Estimating baseline effects'!AX44,\"\")","v":""},{"$f":"IF('Estimating baseline effects'!AY44<>\"\", 'Estimating baseline effects'!AY44,\"\")","v":""},{"$f":"IF('Estimating baseline effects'!AZ44<>\"\", 'Estimating baseline effects'!AZ44,\"\")","v":""},{"$f":"IF('Estimating baseline effects'!BA44<>\"\", 'Estimating baseline effects'!BA44,\"\")","v":""},{"$f":"IF('Estimating baseline effects'!BB44<>\"\", 'Estimating baseline effects'!BB44,\"\")","v":""},{"$f":"IF('Estimating baseline effects'!BC44<>\"\", 'Estimating baseline effects'!BC44,\"\")","v":""},{"$f":"IF('Estimating baseline effects'!BD44<>\"\", 'Estimating baseline effects'!BD44,\"\")","v":""},{"$f":"IF('Estimating baseline effects'!BE44<>\"\", 'Estimating baseline effects'!BE44,\"\")","v":""},{"$f":"IF('Estimating baseline effects'!BF44<>\"\", 'Estimating baseline effects'!BF44,\"\")","v":""},{"$f":"IF('Estimating baseline effects'!BG44<>\"\", 'Estimating baseline effects'!BG44,\"\")","v":""},{"$f":"IF('Estimating baseline effects'!BH44<>\"\", 'Estimating baseline effects'!BH44,\"\")","v":""},{"$f":"IF('Estimating baseline effects'!BI44<>\"\", 'Estimating baseline effects'!BI44,\"\")","v":""},{"$f":"IF('Estimating baseline effects'!BJ44<>\"\", 'Estimating baseline effects'!BJ44,\"\")","v":""},{"$f":"IF('Estimating baseline effects'!BK44<>\"\", 'Estimating baseline effects'!BK44,\"\")","v":""},{"$f":"IF('Estimating baseline effects'!BL44<>\"\", 'Estimating baseline effects'!BL44,\"\")","v":""},{"$f":"IF('Estimating baseline effects'!BM44<>\"\", 'Estimating baseline effects'!BM44,\"\")","v":""},{"$f":"IF('Estimating baseline effects'!BN44<>\"\", 'Estimating baseline effects'!BN44,\"\")","v":""},{"$f":"IF('Estimating baseline effects'!BO44<>\"\", 'Estimating baseline effects'!BO44,\"\")","v":""},{"$f":"IF('Estimating baseline effects'!BP44<>\"\", 'Estimating baseline effects'!BP44,\"\")","v":""},{"$f":"IF('Estimating baseline effects'!BQ44<>\"\", 'Estimating baseline effects'!BQ44,\"\")","v":""},{"$f":"IF('Estimating baseline effects'!BR44<>\"\", 'Estimating baseline effects'!BR44,\"\")","v":""},{"$f":"IF('Estimating baseline effects'!BS44<>\"\", 'Estimating baseline effects'!BS44,\"\")","v":""},{"$f":"IF('Estimating baseline effects'!BT44<>\"\", 'Estimating baseline effects'!BT44,\"\")","v":""},{"$f":"IF('Estimating baseline effects'!BU44<>\"\", 'Estimating baseline effects'!BU44,\"\")","v":""},{"$f":"IF('Estimating baseline effects'!BV44<>\"\", 'Estimating baseline effects'!BV44,\"\")","v":""},{"$f":"IF('Estimating baseline effects'!BW44<>\"\", 'Estimating baseline effects'!BW44,\"\")","v":""},{"$f":"IF('Estimating baseline effects'!BX44<>\"\", 'Estimating baseline effects'!BX44,\"\")","v":""},{"$f":"IF('Estimating baseline effects'!BY44<>\"\", 'Estimating baseline effects'!BY44,\"\")","v":""},{"$f":"IF('Estimating baseline effects'!BZ44<>\"\", 'Estimating baseline effects'!BZ44,\"\")","v":""},{"$f":"IF('Estimating baseline effects'!CA44<>\"\", 'Estimating baseline effects'!CA44,\"\")","v":""},{"$f":"IF('Estimating baseline effects'!CB44<>\"\", 'Estimating baseline effects'!CB44,\"\")","v":""},{"$f":"IF('Estimating baseline effects'!CC44<>\"\", 'Estimating baseline effects'!CC44,\"\")","v":""},{"$f":"IF('Estimating baseline effects'!CD44<>\"\", 'Estimating baseline effects'!CD44,\"\")","v":""},{"$f":"IF('Estimating baseline effects'!CE44<>\"\", 'Estimating baseline effects'!CE44,\"\")","v":""},{"$f":"IF('Estimating baseline effects'!CF44<>\"\", 'Estimating baseline effects'!CF44,\"\")","v":""},{"$f":"IF('Estimating baseline effects'!CG44<>\"\", 'Estimating baseline effects'!CG44,\"\")","v":""},{"$f":"IF('Estimating baseline effects'!CH44<>\"\", 'Estimating baseline effects'!CH44,\"\")","v":""},{"$f":"IF('Estimating baseline effects'!CI44<>\"\", 'Estimating baseline effects'!CI44,\"\")","v":""},{"$f":"IF('Estimating baseline effects'!CJ44<>\"\", 'Estimating baseline effects'!CJ44,\"\")","v":""},{"$f":"IF('Estimating baseline effects'!CK44<>\"\", 'Estimating baseline effects'!CK44,\"\")","v":""},{"$f":"IF('Estimating baseline effects'!CL44<>\"\", 'Estimating baseline effects'!CL44,\"\")","v":""},{"$f":"IF('Estimating baseline effects'!CM44<>\"\", 'Estimating baseline effects'!CM44,\"\")","v":""},{"$f":"IF('Estimating baseline effects'!CN44<>\"\", 'Estimating baseline effects'!CN44,\"\")","v":""},{"$f":"IF('Estimating baseline effects'!CO44<>\"\", 'Estimating baseline effects'!CO44,\"\")","v":""},{"$f":"IF('Estimating baseline effects'!CP44<>\"\", 'Estimating baseline effects'!CP44,\"\")","v":""},{"$f":"IF('Estimating baseline effects'!CQ44<>\"\", 'Estimating baseline effects'!CQ44,\"\")","v":""},{"$f":"IF('Estimating baseline effects'!CR44<>\"\", 'Estimating baseline effects'!CR44,\"\")","v":""},{"$f":"IF('Estimating baseline effects'!CS44<>\"\", 'Estimating baseline effects'!CS44,\"\")","v":""},{"$f":"IF('Estimating baseline effects'!CT44<>\"\", 'Estimating baseline effects'!CT44,\"\")","v":""},{"$f":"IF('Estimating baseline effects'!CU44<>\"\", 'Estimating baseline effects'!CU44,\"\")","v":""},{"$f":"IF('Estimating baseline effects'!CV44<>\"\", 'Estimating baseline effects'!CV44,\"\")","v":""},{"$f":"IF('Estimating baseline effects'!CW44<>\"\", 'Estimating baseline effects'!CW44,\"\")","v":""},{"$f":"IF('Estimating baseline effects'!CX44<>\"\", 'Estimating baseline effects'!CX44,\"\")","v":""},{"$f":"IF('Estimating baseline effects'!CY44<>\"\", 'Estimating baseline effects'!CY44,\"\")","v":""},{"$f":"IF('Estimating baseline effects'!CZ44<>\"\", 'Estimating baseline effects'!CZ44,\"\")","v":""},{"$f":"IF('Estimating baseline effects'!DA44<>\"\", 'Estimating baseline effects'!DA44,\"\")","v":""},{"$f":"IF('Estimating baseline effects'!DB44<>\"\", 'Estimating baseline effects'!DB44,\"\")","v":""},{"$f":"IF('Estimating baseline effects'!DC44<>\"\", 'Estimating baseline effects'!DC44,\"\")","v":""},{"$f":"IF('Estimating baseline effects'!DD44<>\"\", 'Estimating baseline effects'!DD44,\"\")","v":""},{"$f":"IF('Estimating baseline effects'!DE44<>\"\", 'Estimating baseline effects'!DE44,\"\")","v":""},{"$f":"IF('Estimating baseline effects'!DF44<>\"\", 'Estimating baseline effects'!DF44,\"\")","v":""},{"$f":"IF('Estimating baseline effects'!DG44<>\"\", 'Estimating baseline effects'!DG44,\"\")","v":""},{"$f":"IF('Estimating baseline effects'!DH44<>\"\", 'Estimating baseline effects'!DH44,\"\")","v":""},{"$f":"IF('Estimating baseline effects'!DI44<>\"\", 'Estimating baseline effects'!DI44,\"\")","v":""},{"$f":"IF('Estimating baseline effects'!DJ44<>\"\", 'Estimating baseline effects'!DJ44,\"\")","v":""},{"$f":"IF('Estimating baseline effects'!DK44<>\"\", 'Estimating baseline effects'!DK44,\"\")","v":""},{"$f":"IF('Estimating baseline effects'!DL44<>\"\", 'Estimating baseline effects'!DL44,\"\")","v":""},{"$f":"IF('Estimating baseline effects'!DM44<>\"\", 'Estimating baseline effects'!DM44,\"\")","v":""},{"$f":"IF('Estimating baseline effects'!DN44<>\"\", 'Estimating baseline effects'!DN44,\"\")","v":""},{"$f":"IF('Estimating baseline effects'!DO44<>\"\", 'Estimating baseline effects'!DO44,\"\")","v":""},{"$f":"IF('Estimating baseline effects'!DP44<>\"\", 'Estimating baseline effects'!DP44,\"\")","v":""},{"$f":"IF('Estimating baseline effects'!DQ44<>\"\", 'Estimating baseline effects'!DQ44,\"\")","v":""},{"$f":"IF('Estimating baseline effects'!DR44<>\"\", 'Estimating baseline effects'!DR44,\"\")","v":""},{"$f":"IF('Estimating baseline effects'!DS44<>\"\", 'Estimating baseline effects'!DS44,\"\")","v":""},{"$f":"IF('Estimating baseline effects'!DT44<>\"\", 'Estimating baseline effects'!DT44,\"\")","v":""},{"$f":"IF('Estimating baseline effects'!DU44<>\"\", 'Estimating baseline effects'!DU44,\"\")","v":""},{"$f":"IF('Estimating baseline effects'!DV44<>\"\", 'Estimating baseline effects'!DV44,\"\")","v":""},{"$f":"IF('Estimating baseline effects'!DW44<>\"\", 'Estimating baseline effects'!DW44,\"\")","v":""},{"$f":"IF('Estimating baseline effects'!DX44<>\"\", 'Estimating baseline effects'!DX44,\"\")","v":""},{"$f":"IF('Estimating baseline effects'!DY44<>\"\", 'Estimating baseline effects'!DY44,\"\")","v":""},{"$f":"IF('Estimating baseline effects'!DZ44<>\"\", 'Estimating baseline effects'!DZ44,\"\")","v":""},{"$f":"IF('Estimating baseline effects'!EA44<>\"\", 'Estimating baseline effects'!EA44,\"\")","v":""},{"$f":"IF('Estimating baseline effects'!EB44<>\"\", 'Estimating baseline effects'!EB44,\"\")","v":""},{"$f":"IF('Estimating baseline effects'!EC44<>\"\", 'Estimating baseline effects'!EC44,\"\")","v":""},{"$f":"IF('Estimating baseline effects'!ED44<>\"\", 'Estimating baseline effects'!ED44,\"\")","v":""},{"$f":"IF('Estimating baseline effects'!EE44<>\"\", 'Estimating baseline effects'!EE44,\"\")","v":""},{"$f":"IF('Estimating baseline effects'!EF44<>\"\", 'Estimating baseline effects'!EF44,\"\")","v":""},{"$f":"IF('Estimating baseline effects'!EG44<>\"\", 'Estimating baseline effects'!EG44,\"\")","v":""},{"$f":"IF('Estimating baseline effects'!EH44<>\"\", 'Estimating baseline effects'!EH44,\"\")","v":""},{"$f":"IF('Estimating baseline effects'!EI44<>\"\", 'Estimating baseline effects'!EI44,\"\")","v":""},{"$f":"IF('Estimating baseline effects'!EJ44<>\"\", 'Estimating baseline effects'!EJ44,\"\")","v":""},{"$f":"IF('Estimating baseline effects'!EK44<>\"\", 'Estimating baseline effects'!EK44,\"\")","v":""},{"$f":"IF('Estimating baseline effects'!EL44<>\"\", 'Estimating baseline effects'!EL44,\"\")","v":""},{"$f":"IF('Estimating baseline effects'!EM44<>\"\", 'Estimating baseline effects'!EM44,\"\")","v":""},{"$f":"IF('Estimating baseline effects'!EN44<>\"\", 'Estimating baseline effects'!EN44,\"\")","v":""},{"$f":"IF('Estimating baseline effects'!EO44<>\"\", 'Estimating baseline effects'!EO44,\"\")","v":""},{"$f":"IF('Estimating baseline effects'!EP44<>\"\", 'Estimating baseline effects'!EP44,\"\")","v":""},{"$f":"IF('Estimating baseline effects'!EQ44<>\"\", 'Estimating baseline effects'!EQ44,\"\")","v":""},{"$f":"IF('Estimating baseline effects'!ER44<>\"\", 'Estimating baseline effects'!ER44,\"\")","v":""},{"$f":"IF('Estimating baseline effects'!ES44<>\"\", 'Estimating baseline effects'!ES44,\"\")","v":""},{"$f":"IF('Estimating baseline effects'!ET44<>\"\", 'Estimating baseline effects'!ET44,\"\")","v":""},{"$f":"IF('Estimating baseline effects'!EU44<>\"\", 'Estimating baseline effects'!EU44,\"\")","v":""},{"$f":"IF('Estimating baseline effects'!EV44<>\"\", 'Estimating baseline effects'!EV44,\"\")","v":""},{"$f":"IF('Estimating baseline effects'!EW44<>\"\", 'Estimating baseline effects'!EW44,\"\")","v":""},{"$f":"IF('Estimating baseline effects'!EX44<>\"\", 'Estimating baseline effects'!EX44,\"\")","v":""},{"$f":"IF('Estimating baseline effects'!EY44<>\"\", 'Estimating baseline effects'!EY44,\"\")","v":""},{"$f":"IF('Estimating baseline effects'!EZ44<>\"\", 'Estimating baseline effects'!EZ44,\"\")","v":""},{"$f":"IF('Estimating baseline effects'!FA44<>\"\", 'Estimating baseline effects'!FA44,\"\")","v":""},{"$f":"IF('Estimating baseline effects'!FB44<>\"\", 'Estimating baseline effects'!FB44,\"\")","v":""},{"$f":"IF('Estimating baseline effects'!FC44<>\"\", 'Estimating baseline effects'!FC44,\"\")","v":""},{"$f":"IF('Estimating baseline effects'!FD44<>\"\", 'Estimating baseline effects'!FD44,\"\")","v":""},{"$f":"IF('Estimating baseline effects'!FE44<>\"\", 'Estimating baseline effects'!FE44,\"\")","v":""},{"$f":"IF('Estimating baseline effects'!FF44<>\"\", 'Estimating baseline effects'!FF44,\"\")","v":""},{"$f":"IF('Estimating baseline effects'!FG44<>\"\", 'Estimating baseline effects'!FG44,\"\")","v":""},{"$f":"IF('Estimating baseline effects'!FH44<>\"\", 'Estimating baseline effects'!FH44,\"\")","v":""},{"$f":"IF('Estimating baseline effects'!FI44<>\"\", 'Estimating baseline effects'!FI44,\"\")","v":""},{"$f":"IF('Estimating baseline effects'!FJ44<>\"\", 'Estimating baseline effects'!FJ44,\"\")","v":""},{"$f":"IF('Estimating baseline effects'!FK44<>\"\", 'Estimating baseline effects'!FK44,\"\")","v":""},{"$f":"IF('Estimating baseline effects'!FL44<>\"\", 'Estimating baseline effects'!FL44,\"\")","v":""},{"$f":"IF('Estimating baseline effects'!FM44<>\"\", 'Estimating baseline effects'!FM44,\"\")","v":""},{"$f":"IF('Estimating baseline effects'!FN44<>\"\", 'Estimating baseline effects'!FN44,\"\")","v":""},{"$f":"IF('Estimating baseline effects'!FO44<>\"\", 'Estimating baseline effects'!FO44,\"\")","v":""},{"$f":"IF('Estimating baseline effects'!FP44<>\"\", 'Estimating baseline effects'!FP44,\"\")","v":""},{"$f":"IF('Estimating baseline effects'!FQ44<>\"\", 'Estimating baseline effects'!FQ44,\"\")","v":""},{"$f":"IF('Estimating baseline effects'!FR44<>\"\", 'Estimating baseline effects'!FR44,\"\")","v":""},{"$f":"IF('Estimating baseline effects'!FS44<>\"\", 'Estimating baseline effects'!FS44,\"\")","v":""},{"$f":"IF('Estimating baseline effects'!FT44<>\"\", 'Estimating baseline effects'!FT44,\"\")","v":""},{"$f":"IF('Estimating baseline effects'!FU44<>\"\", 'Estimating baseline effects'!FU44,\"\")","v":""},{"$f":"IF('Estimating baseline effects'!FV44<>\"\", 'Estimating baseline effects'!FV44,\"\")","v":""},{"$f":"IF('Estimating baseline effects'!FW44<>\"\", 'Estimating baseline effects'!FW44,\"\")","v":""},{"$f":"IF('Estimating baseline effects'!FX44<>\"\", 'Estimating baseline effects'!FX44,\"\")","v":""},{"$f":"IF('Estimating baseline effects'!FY44<>\"\", 'Estimating baseline effects'!FY44,\"\")","v":""},{"$f":"IF('Estimating baseline effects'!FZ44<>\"\", 'Estimating baseline effects'!FZ44,\"\")","v":""},{"$f":"IF('Estimating baseline effects'!GA44<>\"\", 'Estimating baseline effects'!GA44,\"\")","v":""},{"$f":"IF('Estimating baseline effects'!GB44<>\"\", 'Estimating baseline effects'!GB44,\"\")","v":""},{"$f":"IF('Estimating baseline effects'!GC44<>\"\", 'Estimating baseline effects'!GC44,\"\")","v":""},{"$f":"IF('Estimating baseline effects'!GD44<>\"\", 'Estimating baseline effects'!GD44,\"\")","v":""},{"$f":"IF('Estimating baseline effects'!GE44<>\"\", 'Estimating baseline effects'!GE44,\"\")","v":""},{"$f":"IF('Estimating baseline effects'!GF44<>\"\", 'Estimating baseline effects'!GF44,\"\")","v":""},{"$f":"IF('Estimating baseline effects'!GG44<>\"\", 'Estimating baseline effects'!GG44,\"\")","v":""},{"$f":"IF('Estimating baseline effects'!GH44<>\"\", 'Estimating baseline effects'!GH44,\"\")","v":""},{"$f":"IF('Estimating baseline effects'!GI44<>\"\", 'Estimating baseline effects'!GI44,\"\")","v":""},{"$f":"IF('Estimating baseline effects'!GJ44<>\"\", 'Estimating baseline effects'!GJ44,\"\")","v":""},{"$f":"IF('Estimating baseline effects'!GK44<>\"\", 'Estimating baseline effects'!GK44,\"\")","v":""},{"$f":"IF('Estimating baseline effects'!GL44<>\"\", 'Estimating baseline effects'!GL44,\"\")","v":""},{"$f":"IF('Estimating baseline effects'!GM44<>\"\", 'Estimating baseline effects'!GM44,\"\")","v":""},{"$f":"IF('Estimating baseline effects'!GN44<>\"\", 'Estimating baseline effects'!GN44,\"\")","v":""},{"$f":"IF('Estimating baseline effects'!GO44<>\"\", 'Estimating baseline effects'!GO44,\"\")","v":""},{"$f":"IF('Estimating baseline effects'!GP44<>\"\", 'Estimating baseline effects'!GP44,\"\")","v":""},{"$f":"IF('Estimating baseline effects'!GQ44<>\"\", 'Estimating baseline effects'!GQ44,\"\")","v":""},{"$f":"IF('Estimating baseline effects'!GR44<>\"\", 'Estimating baseline effects'!GR44,\"\")","v":""},{"$f":"IF('Estimating baseline effects'!GS44<>\"\", 'Estimating baseline effects'!GS44,\"\")","v":""},{"$f":"IF('Estimating baseline effects'!GT44<>\"\", 'Estimating baseline effects'!GT44,\"\")","v":""},{"$f":"IF('Estimating baseline effects'!GU44<>\"\", 'Estimating baseline effects'!GU44,\"\")","v":""},{"$f":"IF('Estimating baseline effects'!GV44<>\"\", 'Estimating baseline effects'!GV44,\"\")","v":""},{"$f":"IF('Estimating baseline effects'!GW44<>\"\", 'Estimating baseline effects'!GW44,\"\")","v":""},{"$f":"IF('Estimating baseline effects'!GX44<>\"\", 'Estimating baseline effects'!GX44,\"\")","v":""},{"$f":"IF('Estimating baseline effects'!GY44<>\"\", 'Estimating baseline effects'!GY44,\"\")","v":""},{"$f":"IF('Estimating baseline effects'!GZ44<>\"\", 'Estimating baseline effects'!GZ44,\"\")","v":""},{"$f":"IF('Estimating baseline effects'!HA44<>\"\", 'Estimating baseline effects'!HA44,\"\")","v":""},{"$f":"IF('Estimating baseline effects'!HB44<>\"\", 'Estimating baseline effects'!HB44,\"\")","v":""},{"$f":"IF('Estimating baseline effects'!HC44<>\"\", 'Estimating baseline effects'!HC44,\"\")","v":""},{"$f":"IF('Estimating baseline effects'!HD44<>\"\", 'Estimating baseline effects'!HD44,\"\")","v":""},{"$f":"IF('Estimating baseline effects'!HE44<>\"\", 'Estimating baseline effects'!HE44,\"\")","v":""},{"$f":"IF('Estimating baseline effects'!HF44<>\"\", 'Estimating baseline effects'!HF44,\"\")","v":""},{"$f":"IF('Estimating baseline effects'!HG44<>\"\", 'Estimating baseline effects'!HG44,\"\")","v":""},{"$f":"IF('Estimating baseline effects'!HH44<>\"\", 'Estimating baseline effects'!HH44,\"\")","v":""},{"$f":"IF('Estimating baseline effects'!HI44<>\"\", 'Estimating baseline effects'!HI44,\"\")","v":""},{"$f":"IF('Estimating baseline effects'!HJ44<>\"\", 'Estimating baseline effects'!HJ44,\"\")","v":""},{"$f":"IF('Estimating baseline effects'!HK44<>\"\", 'Estimating baseline effects'!HK44,\"\")","v":""},{"$f":"IF('Estimating baseline effects'!HL44<>\"\", 'Estimating baseline effects'!HL44,\"\")","v":""},{"$f":"IF('Estimating baseline effects'!HM44<>\"\", 'Estimating baseline effects'!HM44,\"\")","v":""},{"$f":"IF('Estimating baseline effects'!HN44<>\"\", 'Estimating baseline effects'!HN44,\"\")","v":""},{"$f":"IF('Estimating baseline effects'!HO44<>\"\", 'Estimating baseline effects'!HO44,\"\")","v":""},{"$f":"IF('Estimating baseline effects'!HP44<>\"\", 'Estimating baseline effects'!HP44,\"\")","v":""},{"$f":"IF('Estimating baseline effects'!HQ44<>\"\", 'Estimating baseline effects'!HQ44,\"\")","v":""},{"$f":"IF('Estimating baseline effects'!HR44<>\"\", 'Estimating baseline effects'!HR44,\"\")","v":""},{"$f":"IF('Estimating baseline effects'!HS44<>\"\", 'Estimating baseline effects'!HS44,\"\")","v":""},{"$f":"IF('Estimating baseline effects'!HT44<>\"\", 'Estimating baseline effects'!HT44,\"\")","v":""},{"$f":"IF('Estimating baseline effects'!HU44<>\"\", 'Estimating baseline effects'!HU44,\"\")","v":""},{"$f":"IF('Estimating baseline effects'!HV44<>\"\", 'Estimating baseline effects'!HV44,\"\")","v":""},{"$f":"IF('Estimating baseline effects'!HW44<>\"\", 'Estimating baseline effects'!HW44,\"\")","v":""},{"$f":"IF('Estimating baseline effects'!HX44<>\"\", 'Estimating baseline effects'!HX44,\"\")","v":""},{"$f":"IF('Estimating baseline effects'!HY44<>\"\", 'Estimating baseline effects'!HY44,\"\")","v":""},{"$f":"IF('Estimating baseline effects'!HZ44<>\"\", 'Estimating baseline effects'!HZ44,\"\")","v":""},{"$f":"IF('Estimating baseline effects'!IA44<>\"\", 'Estimating baseline effects'!IA44,\"\")","v":""},{"$f":"IF('Estimating baseline effects'!IB44<>\"\", 'Estimating baseline effects'!IB44,\"\")","v":""},{"$f":"IF('Estimating baseline effects'!IC44<>\"\", 'Estimating baseline effects'!IC44,\"\")","v":""},{"$f":"IF('Estimating baseline effects'!ID44<>\"\", 'Estimating baseline effects'!ID44,\"\")","v":""},{"$f":"IF('Estimating baseline effects'!IE44<>\"\", 'Estimating baseline effects'!IE44,\"\")","v":""},{"$f":"IF('Estimating baseline effects'!IF44<>\"\", 'Estimating baseline effects'!IF44,\"\")","v":""},{"$f":"IF('Estimating baseline effects'!IG44<>\"\", 'Estimating baseline effects'!IG44,\"\")","v":""},{"$f":"IF('Estimating baseline effects'!IH44<>\"\", 'Estimating baseline effects'!IH44,\"\")","v":""},{"$f":"IF('Estimating baseline effects'!II44<>\"\", 'Estimating baseline effects'!II44,\"\")","v":""},null,null,{"$f":"'Policy dynamic parameters'!L12","v":2020},{"$f":"'Policy dynamic parameters'!M12","v":2021},{"$f":"'Policy dynamic parameters'!N12","v":2022},{"$f":"'Policy dynamic parameters'!O12","v":2023},{"$f":"'Policy dynamic parameters'!P12","v":2024},{"$f":"'Policy dynamic parameters'!Q12","v":2025},{"$f":"'Policy dynamic parameters'!R12","v":""},{"$f":"'Policy dynamic parameters'!S12","v":""},{"$f":"'Policy dynamic parameters'!T12","v":""},{"$f":"'Policy dynamic parameters'!U12","v":""},{"$f":"'Policy dynamic parameters'!V12","v":""},{"$f":"'Policy dynamic parameters'!W12","v":""},{"$f":"'Policy dynamic parameters'!X12","v":""},{"$f":"'Policy dynamic parameters'!Y12","v":""},{"$f":"'Policy dynamic parameters'!Z12","v":""},{"$f":"'Policy dynamic parameters'!AA12","v":""},{"$f":"'Policy dynamic parameters'!AB12","v":""},{"$f":"'Policy dynamic parameters'!AC12","v":""},{"$f":"'Policy dynamic parameters'!AD12","v":""},{"$f":"'Policy dynamic parameters'!AE12","v":""},{"$f":"'Policy dynamic parameters'!AF12","v":""},{"$f":"'Policy dynamic parameters'!AG12","v":""},{"$f":"'Policy dynamic parameters'!AH12","v":""},{"$f":"'Policy dynamic parameters'!AI12","v":""},{"$f":"'Policy dynamic parameters'!AJ12","v":""},{"$f":"'Policy dynamic parameters'!AK12","v":""},{"$f":"'Policy dynamic parameters'!AL12","v":""},{"$f":"'Policy dynamic parameters'!AM12","v":""},{"$f":"'Policy dynamic parameters'!AN12","v":""},{"$f":"'Policy dynamic parameters'!AO12","v":""},{"$f":"'Policy dynamic parameters'!AP12","v":""},{"$f":"'Policy dynamic parameters'!AQ12","v":""},{"$f":"'Policy dynamic parameters'!AR12","v":""},{"$f":"'Policy dynamic parameters'!AS12","v":""},{"$f":"'Policy dynamic parameters'!AT12","v":""},{"$f":"'Policy dynamic parameters'!AU12","v":""},{"$f":"'Policy dynamic parameters'!AV12","v":""},{"$f":"'Policy dynamic parameters'!AW12","v":""},{"$f":"'Policy dynamic parameters'!AX12","v":""},{"$f":"'Policy dynamic parameters'!AY12","v":""},{"$f":"'Policy dynamic parameters'!AZ12","v":""},{"$f":"'Policy dynamic parameters'!BA12","v":""},{"$f":"'Policy dynamic parameters'!BB12","v":""},{"$f":"'Policy dynamic parameters'!BC12","v":""},{"$f":"'Policy dynamic parameters'!BD12","v":""},{"$f":"'Policy dynamic parameters'!BE12","v":""},{"$f":"'Policy dynamic parameters'!BF12","v":""},{"$f":"'Policy dynamic parameters'!BG12","v":""},{"$f":"'Policy dynamic parameters'!BH12","v":""},{"$f":"'Policy dynamic parameters'!BI12","v":""},{"$f":"'Policy dynamic parameters'!BJ12","v":""},{"$f":"'Policy dynamic parameters'!BK12","v":""},{"$f":"'Policy dynamic parameters'!BL12","v":""},{"$f":"'Policy dynamic parameters'!BM12","v":""},{"$f":"'Policy dynamic parameters'!BN12","v":""},{"$f":"'Policy dynamic parameters'!BO12","v":""},{"$f":"'Policy dynamic parameters'!BP12","v":""},{"$f":"'Policy dynamic parameters'!BQ12","v":""},{"$f":"'Policy dynamic parameters'!BR12","v":""},{"$f":"'Policy dynamic parameters'!BS12","v":""},{"$f":"'Policy dynamic parameters'!BT12","v":""},{"$f":"'Policy dynamic parameters'!BU12","v":""},{"$f":"'Policy dynamic parameters'!BV12","v":""},{"$f":"'Policy dynamic parameters'!BW12","v":""},{"$f":"'Policy dynamic parameters'!BX12","v":""},{"$f":"'Policy dynamic parameters'!BY12","v":""},{"$f":"'Policy dynamic parameters'!BZ12","v":""},{"$f":"'Policy dynamic parameters'!CA12","v":""},{"$f":"'Policy dynamic parameters'!CB12","v":""},{"$f":"'Policy dynamic parameters'!CC12","v":""},{"$f":"'Policy dynamic parameters'!CD12","v":""},{"$f":"'Policy dynamic parameters'!CE12","v":""},{"$f":"'Policy dynamic parameters'!CF12","v":""},{"$f":"'Policy dynamic parameters'!CG12","v":""},{"$f":"'Policy dynamic parameters'!CH12","v":""},{"$f":"'Policy dynamic parameters'!CI12","v":""},{"$f":"'Policy dynamic parameters'!CJ12","v":""},{"$f":"'Policy dynamic parameters'!CK12","v":""},{"$f":"'Policy dynamic parameters'!CL12","v":""},{"$f":"'Policy dynamic parameters'!CM12","v":""},{"$f":"'Policy dynamic parameters'!CN12","v":""},{"$f":"'Policy dynamic parameters'!CO12","v":""},{"$f":"'Policy dynamic parameters'!CP12","v":""},{"$f":"'Policy dynamic parameters'!CQ12","v":""},{"$f":"'Policy dynamic parameters'!CR12","v":""},{"$f":"'Policy dynamic parameters'!CS12","v":""},{"$f":"'Policy dynamic parameters'!CT12","v":""},{"$f":"'Policy dynamic parameters'!CU12","v":""},{"$f":"'Policy dynamic parameters'!CV12","v":""},{"$f":"'Policy dynamic parameters'!CW12","v":""},{"$f":"'Policy dynamic parameters'!CX12","v":""},{"$f":"'Policy dynamic parameters'!CY12","v":""},{"$f":"'Policy dynamic parameters'!CZ12","v":""},{"$f":"'Policy dynamic parameters'!DA12","v":""},{"$f":"'Policy dynamic parameters'!DB12","v":""},{"$f":"'Policy dynamic parameters'!DC12","v":""},{"$f":"'Policy dynamic parameters'!DD12","v":""},{"$f":"'Policy dynamic parameters'!DE12","v":""},{"$f":"'Policy dynamic parameters'!DF12","v":""},{"$f":"'Policy dynamic parameters'!DG12","v":""},{"$f":"'Policy dynamic parameters'!DH12","v":""},{"$f":"'Policy dynamic parameters'!DI12","v":""},{"$f":"'Policy dynamic parameters'!DJ12","v":""},{"$f":"'Policy dynamic parameters'!DK12","v":""},{"$f":"'Policy dynamic parameters'!DL12","v":""},{"$f":"'Policy dynamic parameters'!DM12","v":""},{"$f":"'Policy dynamic parameters'!DN12","v":""},{"$f":"'Policy dynamic parameters'!DO12","v":""},{"$f":"'Policy dynamic parameters'!DP12","v":""},{"$f":"'Policy dynamic parameters'!DQ12","v":""},{"$f":"'Policy dynamic parameters'!DR12","v":""},{"$f":"'Policy dynamic parameters'!DS12","v":""},{"$f":"'Policy dynamic parameters'!DT12","v":""},{"$f":"'Policy dynamic parameters'!DU12","v":""},{"$f":"'Policy dynamic parameters'!DV12","v":""},{"$f":"'Policy dynamic parameters'!DW12","v":""},{"$f":"'Policy dynamic parameters'!DX12","v":""},{"$f":"'Policy dynamic parameters'!DY12","v":""},{"$f":"'Policy dynamic parameters'!DZ12","v":""},{"$f":"'Policy dynamic parameters'!EA12","v":""},{"$f":"'Policy dynamic parameters'!EB12","v":""},{"$f":"'Policy dynamic parameters'!EC12","v":""},{"$f":"'Policy dynamic parameters'!ED12","v":""},{"$f":"'Policy dynamic parameters'!EE12","v":""},{"$f":"'Policy dynamic parameters'!EF12","v":""},{"$f":"'Policy dynamic parameters'!EG12","v":""},{"$f":"'Policy dynamic parameters'!EH12","v":""},{"$f":"'Policy dynamic parameters'!EI12","v":""},{"$f":"'Policy dynamic parameters'!EJ12","v":""},{"$f":"'Policy dynamic parameters'!EK12","v":""},{"$f":"'Policy dynamic parameters'!EL12","v":""},{"$f":"'Policy dynamic parameters'!EM12","v":""},{"$f":"'Policy dynamic parameters'!EN12","v":""},{"$f":"'Policy dynamic parameters'!EO12","v":""},{"$f":"'Policy dynamic parameters'!EP12","v":""},{"$f":"'Policy dynamic parameters'!EQ12","v":""},{"$f":"'Policy dynamic parameters'!ER12","v":""},{"$f":"'Policy dynamic parameters'!ES12","v":""},{"$f":"'Policy dynamic parameters'!ET12","v":""},{"$f":"'Policy dynamic parameters'!EU12","v":""},{"$f":"'Policy dynamic parameters'!EV12","v":""},{"$f":"'Policy dynamic parameters'!EW12","v":""},{"$f":"'Policy dynamic parameters'!EX12","v":""},{"$f":"'Policy dynamic parameters'!EY12","v":""},{"$f":"'Policy dynamic parameters'!EZ12","v":""},{"$f":"'Policy dynamic parameters'!FA12","v":""},{"$f":"'Policy dynamic parameters'!FB12","v":""},{"$f":"'Policy dynamic parameters'!FC12","v":""},{"$f":"'Policy dynamic parameters'!FD12","v":""},{"$f":"'Policy dynamic parameters'!FE12","v":""},{"$f":"'Policy dynamic parameters'!FF12","v":""},{"$f":"'Policy dynamic parameters'!FG12","v":""},{"$f":"'Policy dynamic parameters'!FH12","v":""},{"$f":"'Policy dynamic parameters'!FI12","v":""},{"$f":"'Policy dynamic parameters'!FJ12","v":""},{"$f":"'Policy dynamic parameters'!FK12","v":""},{"$f":"'Policy dynamic parameters'!FL12","v":""},{"$f":"'Policy dynamic parameters'!FM12","v":""},{"$f":"'Policy dynamic parameters'!FN12","v":""},{"$f":"'Policy dynamic parameters'!FO12","v":""},{"$f":"'Policy dynamic parameters'!FP12","v":""},{"$f":"'Policy dynamic parameters'!FQ12","v":""},{"$f":"'Policy dynamic parameters'!FR12","v":""},{"$f":"'Policy dynamic parameters'!FS12","v":""},{"$f":"'Policy dynamic parameters'!FT12","v":""},{"$f":"'Policy dynamic parameters'!FU12","v":""},{"$f":"'Policy dynamic parameters'!FV12","v":""},{"$f":"'Policy dynamic parameters'!FW12","v":""},{"$f":"'Policy dynamic parameters'!FX12","v":""},{"$f":"'Policy dynamic parameters'!FY12","v":""},{"$f":"'Policy dynamic parameters'!FZ12","v":""},{"$f":"'Policy dynamic parameters'!GA12","v":""},{"$f":"'Policy dynamic parameters'!GB12","v":""},{"$f":"'Policy dynamic parameters'!GC12","v":""},{"$f":"'Policy dynamic parameters'!GD12","v":""},{"$f":"'Policy dynamic parameters'!GE12","v":""},{"$f":"'Policy dynamic parameters'!GF12","v":""},{"$f":"'Policy dynamic parameters'!GG12","v":""},{"$f":"'Policy dynamic parameters'!GH12","v":""},{"$f":"'Policy dynamic parameters'!GI12","v":""},{"$f":"'Policy dynamic parameters'!GJ12","v":""},{"$f":"'Policy dynamic parameters'!GK12","v":""},{"$f":"'Policy dynamic parameters'!GL12","v":""},{"$f":"'Policy dynamic parameters'!GM12","v":""},{"$f":"'Policy dynamic parameters'!GN12","v":""},{"$f":"'Policy dynamic parameters'!GO12","v":""},{"$f":"'Policy dynamic parameters'!GP12","v":""},{"$f":"'Policy dynamic parameters'!GQ12","v":""},{"$f":"'Policy dynamic parameters'!GR12","v":""},{"$f":"'Policy dynamic parameters'!GS12","v":""},{"$f":"'Policy dynamic parameters'!GT12","v":""},{"$f":"'Policy dynamic parameters'!GU12","v":""},{"$f":"'Policy dynamic parameters'!GV12","v":""},{"$f":"'Policy dynamic parameters'!GW12","v":""},{"$f":"'Policy dynamic parameters'!GX12","v":""},{"$f":"'Policy dynamic parameters'!GY12","v":""},{"$f":"'Policy dynamic parameters'!GZ12","v":""},{"$f":"'Policy dynamic parameters'!HA12","v":""},{"$f":"'Policy dynamic parameters'!HB12","v":""},{"$f":"'Policy dynamic parameters'!HC12","v":""},{"$f":"'Policy dynamic parameters'!HD12","v":""},{"$f":"'Policy dynamic parameters'!HE12","v":""},{"$f":"'Policy dynamic parameters'!HF12","v":""},{"$f":"'Policy dynamic parameters'!HG12","v":""},{"$f":"'Policy dynamic parameters'!HH12","v":""},{"$f":"'Policy dynamic parameters'!HI12","v":""},{"$f":"'Policy dynamic parameters'!HJ12","v":""},{"$f":"'Policy dynamic parameters'!HK12","v":""},{"$f":"'Policy dynamic parameters'!HL12","v":""},{"$f":"'Policy dynamic parameters'!HM12","v":""},{"$f":"'Policy dynamic parameters'!HN12","v":""},{"$f":"'Policy dynamic parameters'!HO12","v":""},{"$f":"'Policy dynamic parameters'!HP12","v":""},{"$f":"'Policy dynamic parameters'!HQ12","v":""},{"$f":"'Policy dynamic parameters'!HR12","v":""},{"$f":"'Policy dynamic parameters'!HS12","v":""},{"$f":"'Policy dynamic parameters'!HT12","v":""},{"$f":"'Policy dynamic parameters'!HU12","v":""},{"$f":"'Policy dynamic parameters'!HV12","v":""},{"$f":"'Policy dynamic parameters'!HW12","v":""},{"$f":"'Policy dynamic parameters'!HX12","v":""},{"$f":"'Policy dynamic parameters'!HY12","v":""},{"$f":"'Policy dynamic parameters'!HZ12","v":""},{"$f":"'Policy dynamic parameters'!IA12","v":""},{"$f":"'Policy dynamic parameters'!IB12","v":""},{"$f":"'Policy dynamic parameters'!IC12","v":""},{"$f":"'Policy dynamic parameters'!ID12","v":""}]
[{"$f":"IF('Estimating baseline effects'!A45<>\"\", 'Estimating baseline effects'!A45,\"\")","v":""},"example effect 1","stationary fossil fuel combustion (source)",null,"CO2","in-jurisdiction",null,null,null,1000,{"$f":"IF('Estimating baseline effects'!K45<>\"\", 'Estimating baseline effects'!K45,\"\")","v":1},null,null,null,1,1,{"$f":"IF(B38<>\"\",IF($K$35=\"no\",J38*K38*SUM(R38:IJ38)/1000, SUM(IM38:RD38)*K38/1000), \"\")","v":0},null,null,null,null,null,null,null,null,null,null,null,null,null,null,null,null,null,null,null,null,null,null,null,null,null,null,null,null,null,null,null,null,null,null,null,null,null,null,null,null,null,null,null,null,null,null,null,null,null,null,null,null,null,null,null,null,null,null,null,null,null,null,null,null,null,null,null,null,null,null,null,null,null,null,null,null,null,null,null,null,null,null,null,null,null,null,null,null,null,null,null,null,null,null,null,null,null,null,null,null,null,null,null,null,null,null,null,null,null,null,null,null,null,null,null,null,null,null,null,null,null,null,null,null,null,null,null,null,null,null,null,null,null,null,null,null,null,null,null,null,null,null,null,null,null,null,null,null,null,null,null,null,null,null,null,null,null,null,null,null,null,null,null,null,null,null,null,null,null,null,null,null,null,null,null,null,null,null,null,null,null,null,null,null,null,null,null,null,null,null,null,null,null,null,null,null,null,null,null,null,null,null,null,null,null,null,null,null,null,null,null,null,null,null,null,null,null,null,null,null,null,null,null,null,null,null,null,null,null,{"$f":"'Policy dynamic parameters'!$L$17*$R$38","v":0},{"$f":"'Policy dynamic parameters'!$M$17*$S$38","v":0},{"$f":"'Policy dynamic parameters'!$N$17*$T$38","v":0},{"$f":"'Policy dynamic parameters'!$O$17*$U$38","v":0},{"$f":"'Policy dynamic parameters'!$P$17*$V$38","v":0},{"$f":"'Policy dynamic parameters'!$Q$17*$W$38","v":0},{"$f":"'Policy dynamic parameters'!$R$17*$X$38","v":0},{"$f":"'Policy dynamic parameters'!$S$17*$Y$38","v":0},{"$f":"'Policy dynamic parameters'!$T$17*$Z$38","v":0},{"$f":"'Policy dynamic parameters'!$U$17*$AA$38","v":0},{"$f":"'Policy dynamic parameters'!$V$17*$AB$38","v":0},{"$f":"'Policy dynamic parameters'!$X$17*$AC$38","v":0},{"$f":"'Policy dynamic parameters'!$Y$17*$AD$38","v":0},{"$f":"'Policy dynamic parameters'!$Z$17*$AE$38","v":0},{"$f":"'Policy dynamic parameters'!$AA$17*$AF$38","v":0},{"$f":"'Policy dynamic parameters'!$AB$17*$AG$38","v":0},{"$f":"'Policy dynamic parameters'!$AC$17*$AH$38","v":0},{"$f":"'Policy dynamic parameters'!$AD$17*$AI$38","v":0},{"$f":"'Policy dynamic parameters'!$AE$17*$AJ$38","v":0},{"$f":"'Policy dynamic parameters'!$AF$17*$AK$38","v":0},{"$f":"'Policy dynamic parameters'!$AG$17*$AL$38","v":0},{"$f":"'Policy dynamic parameters'!$AH$17*$AM$38","v":0},{"$f":"'Policy dynamic parameters'!$AI$17*$AN$38","v":0},{"$f":"'Policy dynamic parameters'!$AJ$17*$AO$38","v":0},{"$f":"'Policy dynamic parameters'!$AK$17*$AP$38","v":0},{"$f":"'Policy dynamic parameters'!$AL$17*$AQ$38","v":0},{"$f":"'Policy dynamic parameters'!$AM$17*$AR$38","v":0},{"$f":"'Policy dynamic parameters'!$AN$17*$AS$38","v":0},{"$f":"'Policy dynamic parameters'!$AO$17*$AT$38","v":0},{"$f":"'Policy dynamic parameters'!$AP$17*$AU$38","v":0},{"$f":"'Policy dynamic parameters'!$AP$17*$AV$38","v":0}]
[{"$f":"IF('Estimating baseline effects'!A46<>\"\", 'Estimating baseline effects'!A46,\"\")","v":""},"example effect 1","stationary fossil fuel combustion (source)",null,"CH4","in-jurisdiction",null,null,null,0,{"$f":"IF('Estimating baseline effects'!K46<>\"\", 'Estimating baseline effects'!K46,\"\")","v":28},null,null,null,1,1,{"$f":"IF(B39<>\"\",IF($K$35=\"no\",J39*K39*SUM(R39:IJ39)/1000, SUM(IM39:RD39)*K39/1000), \"\")","v":0},null,null,null,null,null,null,null,null,null,null,null,null,null,null,null,null,null,null,null,null,null,null,null,null,null,null,null,null,null,null,null,null,null,null,null,null,null,null,null,null,null,null,null,null,null,null,null,null,null,null,null,null,null,null,null,null,null,null,null,null,null,null,null,null,null,null,null,null,null,null,null,null,null,null,null,null,null,null,null,null,null,null,null,null,null,null,null,null,null,null,null,null,null,null,null,null,null,null,null,null,null,null,null,null,null,null,null,null,null,null,null,null,null,null,null,null,null,null,null,null,null,null,null,null,null,null,null,null,null,null,null,null,null,null,null,null,null,null,null,null,null,null,null,null,null,null,null,null,null,null,null,null,null,null,null,null,null,null,null,null,null,null,null,null,null,null,null,null,null,null,null,null,null,null,null,null,null,null,null,null,null,null,null,null,null,null,null,null,null,null,null,null,null,null,null,null,null,null,null,null,null,null,null,null,null,null,null,null,null,null,null,null,null,null,null,null,null,null,null,null,null,null,null,null,null,null,null,null,null,{"$f":"'Policy dynamic parameters'!$L$22*$R$39","v":0},{"$f":"'Policy dynamic parameters'!$M$22*$S$39","v":0},{"$f":"'Policy dynamic parameters'!$N$22*$T$39","v":0},{"$f":"'Policy dynamic parameters'!$O$22*$U$39","v":0},{"$f":"'Policy dynamic parameters'!$P$22*$V$39","v":0},{"$f":"'Policy dynamic parameters'!$Q$22*$W$39","v":0},{"$f":"'Policy dynamic parameters'!$R$22*$X$39","v":0},{"$f":"'Policy dynamic parameters'!$S$22*$Y$39","v":0},{"$f":"'Policy dynamic parameters'!$T$22*$Z$39","v":0},{"$f":"'Policy dynamic parameters'!$U$22*$AA$39","v":0},{"$f":"'Policy dynamic parameters'!$V$22*$AB$39","v":0},{"$f":"'Policy dynamic parameters'!$X$22*$AC$39","v":0},{"$f":"'Policy dynamic parameters'!$Y$22*$AD$39","v":0},{"$f":"'Policy dynamic parameters'!$Z$22*$AE$39","v":0},{"$f":"'Policy dynamic parameters'!$AA$22*$AF$39","v":0},{"$f":"'Policy dynamic parameters'!$AB$22*$AG$39","v":0},{"$f":"'Policy dynamic parameters'!$AC$22*$AH$39","v":0},{"$f":"'Policy dynamic parameters'!$AD$22*$AI$39","v":0},{"$f":"'Policy dynamic parameters'!$AE$22*$AJ$39","v":0},{"$f":"'Policy dynamic parameters'!$AF$22*$AK$39","v":0},{"$f":"'Policy dynamic parameters'!$AG$22*$AL$39","v":0},{"$f":"'Policy dynamic parameters'!$AH$22*$AM$39","v":0},{"$f":"'Policy dynamic parameters'!$AI$22*$AN$39","v":0},{"$f":"'Policy dynamic parameters'!$AJ$22*$AO$39","v":0},{"$f":"'Policy dynamic parameters'!$AK$22*$AP$39","v":0},{"$f":"'Policy dynamic parameters'!$AL$22*$AQ$39","v":0},{"$f":"'Policy dynamic parameters'!$AM$22*$AR$39","v":0},{"$f":"'Policy dynamic parameters'!$AN$22*$AS$39","v":0},{"$f":"'Policy dynamic parameters'!$AO$22*$AT$39","v":0},{"$f":"'Policy dynamic parameters'!$AP$22*$AU$39","v":0},{"$f":"'Policy dynamic parameters'!$AP$22*$AV$39","v":0}]
[{"$f":"IF('Estimating baseline effects'!A47<>\"\", 'Estimating baseline effects'!A47,\"\")","v":""},"example effect 1","stationary fossil fuel combustion (source)",null,"N2O","in-jurisdiction",null,null,null,0,{"$f":"IF('Estimating baseline effects'!K47<>\"\", 'Estimating baseline effects'!K47,\"\")","v":265},null,null,null,1,1,{"$f":"IF(B40<>\"\",IF($K$35=\"no\",J40*K40*SUM(R40:IJ40)/1000, SUM(IM40:RD40)*K40/1000), \"\")","v":0},null,null,null,null,null,null,null,null,null,null,null,null,null,null,null,null,null,null,null,null,null,null,null,null,null,null,null,null,null,null,null,null,null,null,null,null,null,null,null,null,null,null,null,null,null,null,null,null,null,null,null,null,null,null,null,null,null,null,null,null,null,null,null,null,null,null,null,null,null,null,null,null,null,null,null,null,null,null,null,null,null,null,null,null,null,null,null,null,null,null,null,null,null,null,null,null,null,null,null,null,null,null,null,null,null,null,null,null,null,null,null,null,null,null,null,null,null,null,null,null,null,null,null,null,null,null,null,null,null,null,null,null,null,null,null,null,null,null,null,null,null,null,null,null,null,null,null,null,null,null,null,null,null,null,null,null,null,null,null,null,null,null,null,null,null,null,null,null,null,null,null,null,null,null,null,null,null,null,null,null,null,null,null,null,null,null,null,null,null,null,null,null,null,null,null,null,null,null,null,null,null,null,null,null,null,null,null,null,null,null,null,null,null,null,null,null,null,null,null,null,null,null,null,null,null,null,null,null,null,{"$f":"'Policy dynamic parameters'!$L$27*$R$40","v":0},{"$f":"'Policy dynamic parameters'!$M$27*$S$40","v":0},{"$f":"'Policy dynamic parameters'!$N$27*$T$40","v":0},{"$f":"'Policy dynamic parameters'!$O$27*$U$40","v":0},{"$f":"'Policy dynamic parameters'!$P$27*$V$40","v":0},{"$f":"'Policy dynamic parameters'!$Q$27*$W$40","v":0},{"$f":"'Policy dynamic parameters'!$R$27*$X$40","v":0},{"$f":"'Policy dynamic parameters'!$S$27*$Y$40","v":0},{"$f":"'Policy dynamic parameters'!$T$27*$Z$40","v":0},{"$f":"'Policy dynamic parameters'!$U$27*$AA$40","v":0},{"$f":"'Policy dynamic parameters'!$V$27*$AB$40","v":0},{"$f":"'Policy dynamic parameters'!$X$27*$AC$40","v":0},{"$f":"'Policy dynamic parameters'!$Y$27*$AD$40","v":0},{"$f":"'Policy dynamic parameters'!$Z$27*$AE$40","v":0},{"$f":"'Policy dynamic parameters'!$AA$27*$AF$40","v":0},{"$f":"'Policy dynamic parameters'!$AB$27*$AG$40","v":0},{"$f":"'Policy dynamic parameters'!$AC$27*$AH$40","v":0},{"$f":"'Policy dynamic parameters'!$AD$27*$AI$40","v":0},{"$f":"'Policy dynamic parameters'!$AE$27*$AJ$40","v":0},{"$f":"'Policy dynamic parameters'!$AF$27*$AK$40","v":0},{"$f":"'Policy dynamic parameters'!$AG$27*$AL$40","v":0},{"$f":"'Policy dynamic parameters'!$AH$27*$AM$40","v":0},{"$f":"'Policy dynamic parameters'!$AI$27*$AN$40","v":0},{"$f":"'Policy dynamic parameters'!$AJ$27*$AO$40","v":0},{"$f":"'Policy dynamic parameters'!$AK$27*$AP$40","v":0},{"$f":"'Policy dynamic parameters'!$AL$27*$AQ$40","v":0},{"$f":"'Policy dynamic parameters'!$AM$27*$AR$40","v":0},{"$f":"'Policy dynamic parameters'!$AN$27*$AS$40","v":0},{"$f":"'Policy dynamic parameters'!$AO$27*$AT$40","v":0},{"$f":"'Policy dynamic parameters'!$AP$27*$AU$40","v":0},{"$f":"'Policy dynamic parameters'!$AP$27*$AV$40","v":0}]
[{"$f":"IF('Estimating baseline effects'!A48<>\"\", 'Estimating baseline effects'!A48,\"\")","v":"xEnd"},null,null,null,null,null,null,null,null,null,null,null,null,null,null,null,null,null,null,null,null,null,null,null,null,null,null,null,null,null,null,null,null,null,null,null,null,null,null,null,null,null,null,null,null,null,null,null,null,null,null,null,null,null,null,null,null,null,null,null,null,null,null,null,null,null,null,null,null,null,null,null,null,null,null,null,null,null,null,null,null,null,null,null,null,null,null,null,null,null,null,null,null,null,null,null,null,null,null,null,null,null,null,null,null,null,null,null,null,null,null,null,null,null,null,null,null,null,null,null,null,null,null,null,null,null,null,null,null,null,null,null,null,null,null,null,null,null,null,null,null,null,null,null,null,null,null,null,null,null,null,null,null,null,null,null,null,null,null,null,null,null,null,null,null,null,null,null,null,null,null,null,null,null,null,null,null,null,null,null,null,null,null,null,null,null,null,null,null,null,null,null,null,null,null,null,null,null,null,null,null,null,null,null,null,null,null,null,null,null,null,null,null,null,null,null,null,null,null,null,null,null,null,null,null,null,null,null,null,null,null,null,null,null,null,null,null,null,null,null,null,null,null,null,null,null,{"$f":"'Policy dynamic parameters'!$L$32*$R$41","v":0},{"$f":"'Policy dynamic parameters'!$M$32*$S$41","v":0},{"$f":"'Policy dynamic parameters'!$N$32*$T$41","v":0},{"$f":"'Policy dynamic parameters'!$O$32*$U$41","v":0},{"$f":"'Policy dynamic parameters'!$P$32*$V$41","v":0},{"$f":"'Policy dynamic parameters'!$Q$32*$W$41","v":0},{"$f":"'Policy dynamic parameters'!$R$32*$X$41","v":0},{"$f":"'Policy dynamic parameters'!$S$32*$Y$41","v":0},{"$f":"'Policy dynamic parameters'!$T$32*$Z$41","v":0},{"$f":"'Policy dynamic parameters'!$U$32*$AA$41","v":0},{"$f":"'Policy dynamic parameters'!$V$32*$AB$41","v":0},{"$f":"'Policy dynamic parameters'!$X$32*$AC$41","v":0},{"$f":"'Policy dynamic parameters'!$Y$32*$AD$41","v":0},{"$f":"'Policy dynamic parameters'!$Z$32*$AE$41","v":0},{"$f":"'Policy dynamic parameters'!$AA$32*$AF$41","v":0},{"$f":"'Policy dynamic parameters'!$AB$32*$AG$41","v":0},{"$f":"'Policy dynamic parameters'!$AC$32*$AH$41","v":0},{"$f":"'Policy dynamic parameters'!$AD$32*$AI$41","v":0},{"$f":"'Policy dynamic parameters'!$AE$32*$AJ$41","v":0},{"$f":"'Policy dynamic parameters'!$AF$32*$AK$41","v":0},{"$f":"'Policy dynamic parameters'!$AG$32*$AL$41","v":0},{"$f":"'Policy dynamic parameters'!$AH$32*$AM$41","v":0},{"$f":"'Policy dynamic parameters'!$AI$32*$AN$41","v":0},{"$f":"'Policy dynamic parameters'!$AJ$32*$AO$41","v":0},{"$f":"'Policy dynamic parameters'!$AK$32*$AP$41","v":0},{"$f":"'Policy dynamic parameters'!$AL$32*$AQ$41","v":0},{"$f":"'Policy dynamic parameters'!$AM$32*$AR$41","v":0},{"$f":"'Policy dynamic parameters'!$AN$32*$AS$41","v":0},{"$f":"'Policy dynamic parameters'!$AO$32*$AT$41","v":0},{"$f":"'Policy dynamic parameters'!$AP$32*$AU$41","v":0},{"$f":"'Policy dynamic parameters'!$AP$32*$AV$41","v":0}]
[{"$f":"IF('Estimating baseline effects'!A49<>\"\", 'Estimating baseline effects'!A49,\"\")","v":""},null,null,null,null,null,null,null,null,null,null,null,null,null,null,null,null,null,null,null,null,null,null,null,null,null,null,null,null,null,null,null,null,null,null,null,null,null,null,null,null,null,null,null,null,null,null,null,null,null,null,null,null,null,null,null,null,null,null,null,null,null,null,null,null,null,null,null,null,null,null,null,null,null,null,null,null,null,null,null,null,null,null,null,null,null,null,null,null,null,null,null,null,null,null,null,null,null,null,null,null,null,null,null,null,null,null,null,null,null,null,null,null,null,null,null,null,null,null,null,null,null,null,null,null,null,null,null,null,null,null,null,null,null,null,null,null,null,null,null,null,null,null,null,null,null,null,null,null,null,null,null,null,null,null,null,null,null,null,null,null,null,null,null,null,null,null,null,null,null,null,null,null,null,null,null,null,null,null,null,null,null,null,null,null,null,null,null,null,null,null,null,null,null,null,null,null,null,null,null,null,null,null,null,null,null,null,null,null,null,null,null,null,null,null,null,null,null,null,null,null,null,null,null,null,null,null,null,null,null,null,null,null,null,null,null,null,null,null,null,null,null,null,null,null,null,{"$f":"'Policy dynamic parameters'!$L$37*$R$42","v":0},{"$f":"'Policy dynamic parameters'!$M$37*$S$42","v":0},{"$f":"'Policy dynamic parameters'!$N$37*$T$42","v":0},{"$f":"'Policy dynamic parameters'!$O$37*$U$42","v":0},{"$f":"'Policy dynamic parameters'!$P$37*$V$42","v":0},{"$f":"'Policy dynamic parameters'!$Q$37*$W$42","v":0},{"$f":"'Policy dynamic parameters'!$R$37*$X$42","v":0},{"$f":"'Policy dynamic parameters'!$S$37*$Y$42","v":0},{"$f":"'Policy dynamic parameters'!$T$37*$Z$42","v":0},{"$f":"'Policy dynamic parameters'!$U$37*$AA$42","v":0},{"$f":"'Policy dynamic parameters'!$V$37*$AB$42","v":0},{"$f":"'Policy dynamic parameters'!$X$37*$AC$42","v":0},{"$f":"'Policy dynamic parameters'!$Y$37*$AD$42","v":0},{"$f":"'Policy dynamic parameters'!$Z$37*$AE$42","v":0},{"$f":"'Policy dynamic parameters'!$AA$37*$AF$42","v":0},{"$f":"'Policy dynamic parameters'!$AB$37*$AG$42","v":0},{"$f":"'Policy dynamic parameters'!$AC$37*$AH$42","v":0},{"$f":"'Policy dynamic parameters'!$AD$37*$AI$42","v":0},{"$f":"'Policy dynamic parameters'!$AE$37*$AJ$42","v":0},{"$f":"'Policy dynamic parameters'!$AF$37*$AK$42","v":0},{"$f":"'Policy dynamic parameters'!$AG$37*$AL$42","v":0},{"$f":"'Policy dynamic parameters'!$AH$37*$AM$42","v":0},{"$f":"'Policy dynamic parameters'!$AI$37*$AN$42","v":0},{"$f":"'Policy dynamic parameters'!$AJ$37*$AO$42","v":0},{"$f":"'Policy dynamic parameters'!$AK$37*$AP$42","v":0},{"$f":"'Policy dynamic parameters'!$AL$37*$AQ$42","v":0},{"$f":"'Policy dynamic parameters'!$AM$37*$AR$42","v":0},{"$f":"'Policy dynamic parameters'!$AN$37*$AS$42","v":0},{"$f":"'Policy dynamic parameters'!$AO$37*$AT$42","v":0},{"$f":"'Policy dynamic parameters'!$AP$37*$AU$42","v":0},{"$f":"'Policy dynamic parameters'!$AP$37*$AV$42","v":0}]
[{"$f":"IF('Estimating baseline effects'!A50<>\"\", 'Estimating baseline effects'!A50,\"\")","v":""},null,null,null,null,null,null,null,null,null,null,null,null,null,null,null,null,null,null,null,null,null,null,null,null,null,null,null,null,null,null,null,null,null,null,null,null,null,null,null,null,null,null,null,null,null,null,null,null,null,null,null,null,null,null,null,null,null,null,null,null,null,null,null,null,null,null,null,null,null,null,null,null,null,null,null,null,null,null,null,null,null,null,null,null,null,null,null,null,null,null,null,null,null,null,null,null,null,null,null,null,null,null,null,null,null,null,null,null,null,null,null,null,null,null,null,null,null,null,null,null,null,null,null,null,null,null,null,null,null,null,null,null,null,null,null,null,null,null,null,null,null,null,null,null,null,null,null,null,null,null,null,null,null,null,null,null,null,null,null,null,null,null,null,null,null,null,null,null,null,null,null,null,null,null,null,null,null,null,null,null,null,null,null,null,null,null,null,null,null,null,null,null,null,null,null,null,null,null,null,null,null,null,null,null,null,null,null,null,null,null,null,null,null,null,null,null,null,null,null,null,null,null,null,null,null,null,null,null,null,null,null,null,null,null,null,null,null,null,null,null,null,null,null,null,null,{"$f":"'Policy dynamic parameters'!$L$42*$R$43","v":0},{"$f":"'Policy dynamic parameters'!$M$42*$S$43","v":0},{"$f":"'Policy dynamic parameters'!$N$42*$T$43","v":0},{"$f":"'Policy dynamic parameters'!$O$42*$U$43","v":0},{"$f":"'Policy dynamic parameters'!$P$42*$V$43","v":0},{"$f":"'Policy dynamic parameters'!$Q$42*$W$43","v":0},{"$f":"'Policy dynamic parameters'!$S$42*$X$43","v":0},{"$f":"'Policy dynamic parameters'!$T$42*$Y$43","v":0},{"$f":"'Policy dynamic parameters'!$U$42*$Z$43","v":0},{"$f":"'Policy dynamic parameters'!$V$42*$AA$43","v":0},{"$f":"'Policy dynamic parameters'!$W$42*$AB$43","v":0},{"$f":"'Policy dynamic parameters'!$X$42*$AC$43","v":0},{"$f":"'Policy dynamic parameters'!$Y$42*$AD$43","v":0},{"$f":"'Policy dynamic parameters'!$Z$42*$AE$43","v":0},{"$f":"'Policy dynamic parameters'!$AA$42*$AF$43","v":0},{"$f":"'Policy dynamic parameters'!$AB$42*$AG$43","v":0},{"$f":"'Policy dynamic parameters'!$AC$42*$AH$43","v":0},{"$f":"'Policy dynamic parameters'!$AD$42*$AI$43","v":0},{"$f":"'Policy dynamic parameters'!$AE$42*$AJ$43","v":0},{"$f":"'Policy dynamic parameters'!$AF$42*$AK$43","v":0},{"$f":"'Policy dynamic parameters'!$AG$42*$AL$43","v":0},{"$f":"'Policy dynamic parameters'!$AH$42*$AM$43","v":0},{"$f":"'Policy dynamic parameters'!$AI$42*$AN$43","v":0},{"$f":"'Policy dynamic parameters'!$AJ$42*$AO$43","v":0},{"$f":"'Policy dynamic parameters'!$AK$42*$AP$43","v":0},{"$f":"'Policy dynamic parameters'!$AL$42*$AQ$43","v":0},{"$f":"'Policy dynamic parameters'!$AM$42*$AR$43","v":0},{"$f":"'Policy dynamic parameters'!$AN$42*$AS$43","v":0},{"$f":"'Policy dynamic parameters'!$AO$42*$AT$43","v":0},{"$f":"'Policy dynamic parameters'!$AP$42*$AU$43","v":0},{"$f":"'Policy dynamic parameters'!$AP$42*$AV$43","v":0}]
[{"$f":"IF('Estimating baseline effects'!A51<>\"\", 'Estimating baseline effects'!A51,\"\")","v":"xEnd"},null,null,null,null,null,null,null,null,null,null,null,null,null,null,null,null,null,null,null,null,null,null,null,null,null,null,null,null,null,null,null,null,null,null,null,null,null,null,null,null,null,null,null,null,null,null,null,null,null,null,null,null,null,null,null,null,null,null,null,null,null,null,null,null,null,null,null,null,null,null,null,null,null,null,null,null,null,null,null,null,null,null,null,null,null,null,null,null,null,null,null,null,null,null,null,null,null,null,null,null,null,null,null,null,null,null,null,null,null,null,null,null,null,null,null,null,null,null,null,null,null,null,null,null,null,null,null,null,null,null,null,null,null,null,null,null,null,null,null,null,null,null,null,null,null,null,null,null,null,null,null,null,null,null,null,null,null,null,null,null,null,null,null,null,null,null,null,null,null,null,null,null,null,null,null,null,null,null,null,null,null,null,null,null,null,null,null,null,null,null,null,null,null,null,null,null,null,null,null,null,null,null,null,null,null,null,null,null,null,null,null,null,null,null,null,null,null,null,null,null,null,null,null,null,null,null,null,null,null,null,null,null,null,null,null,null,null,null,null,null,null,null,null,null,null,{"$f":"'Policy dynamic parameters'!$L$47*$R$44","v":0},{"$f":"'Policy dynamic parameters'!$M$47*$S$44","v":0},{"$f":"'Policy dynamic parameters'!$N$47*$T$44","v":0},{"$f":"'Policy dynamic parameters'!$O$47*$U$44","v":0},{"$f":"'Policy dynamic parameters'!$P$47*$V$44","v":0},{"$f":"'Policy dynamic parameters'!$Q$47*$W$44","v":0},{"$f":"'Policy dynamic parameters'!$S$47*$X$44","v":0},{"$f":"'Policy dynamic parameters'!$T$47*$Y$44","v":0},{"$f":"'Policy dynamic parameters'!$U$47*$Z$44","v":0},{"$f":"'Policy dynamic parameters'!$V$47*$AA$44","v":0},{"$f":"'Policy dynamic parameters'!$W$47*$AB$44","v":0},{"$f":"'Policy dynamic parameters'!$X$47*$AC$44","v":0},{"$f":"'Policy dynamic parameters'!$Y$47*$AD$44","v":0},{"$f":"'Policy dynamic parameters'!$Z$47*$AE$44","v":0},{"$f":"'Policy dynamic parameters'!$AA$47*$AF$44","v":0},{"$f":"'Policy dynamic parameters'!$AB$47*$AG$44","v":0},{"$f":"'Policy dynamic parameters'!$AC$47*$AH$44","v":0},{"$f":"'Policy dynamic parameters'!$AD$47*$AI$44","v":0},{"$f":"'Policy dynamic parameters'!$AE$47*$AJ$44","v":0},{"$f":"'Policy dynamic parameters'!$AF$47*$AK$44","v":0},{"$f":"'Policy dynamic parameters'!$AG$47*$AL$44","v":0},{"$f":"'Policy dynamic parameters'!$AH$47*$AM$44","v":0},{"$f":"'Policy dynamic parameters'!$AI$47*$AN$44","v":0},{"$f":"'Policy dynamic parameters'!$AJ$47*$AO$44","v":0},{"$f":"'Policy dynamic parameters'!$AK$47*$AP$44","v":0},{"$f":"'Policy dynamic parameters'!$AL$47*$AQ$44","v":0},{"$f":"'Policy dynamic parameters'!$AM$47*$AR$44","v":0},{"$f":"'Policy dynamic parameters'!$AN$47*$AS$44","v":0},{"$f":"'Policy dynamic parameters'!$AO$47*$AT$44","v":0},{"$f":"'Policy dynamic parameters'!$AP$47*$AU$44","v":0},{"$f":"'Policy dynamic parameters'!$AP$47*$AV$44","v":0}]
[{"$f":"IF('Estimating baseline effects'!A52<>\"\", 'Estimating baseline effects'!A52,\"\")","v":""},null,null,null,null,null,null,null,null,null,null,null,null,null,null,null,null,null,null,null,null,null,null,null,null,null,null,null,null,null,null,null,null,null,null,null,null,null,null,null,null,null,null,null,null,null,null,null,null,null,null,null,null,null,null,null,null,null,null,null,null,null,null,null,null,null,null,null,null,null,null,null,null,null,null,null,null,null,null,null,null,null,null,null,null,null,null,null,null,null,null,null,null,null,null,null,null,null,null,null,null,null,null,null,null,null,null,null,null,null,null,null,null,null,null,null,null,null,null,null,null,null,null,null,null,null,null,null,null,null,null,null,null,null,null,null,null,null,null,null,null,null,null,null,null,null,null,null,null,null,null,null,null,null,null,null,null,null,null,null,null,null,null,null,null,null,null,null,null,null,null,null,null,null,null,null,null,null,null,null,null,null,null,null,null,null,null,null,null,null,null,null,null,null,null,null,null,null,null,null,null,null,null,null,null,null,null,null,null,null,null,null,null,null,null,null,null,null,null,null,null,null,null,null,null,null,null,null,null,null,null,null,null,null,null,null,null,null,null,null,null,null,null,null,null,null,{"$f":"'Policy dynamic parameters'!$L$52*$R$45","v":0},{"$f":"'Policy dynamic parameters'!$M$52*$S$45","v":0},{"$f":"'Policy dynamic parameters'!$N$52*$T$45","v":0},{"$f":"'Policy dynamic parameters'!$O$52*$U$45","v":0},{"$f":"'Policy dynamic parameters'!$P$52*$V$45","v":0},{"$f":"'Policy dynamic parameters'!$Q$52*$W$45","v":0},{"$f":"'Policy dynamic parameters'!$S$52*$X$45","v":0},{"$f":"'Policy dynamic parameters'!$T$52*$Y$45","v":0},{"$f":"'Policy dynamic parameters'!$U$52*$Z$45","v":0},{"$f":"'Policy dynamic parameters'!$V$52*$AA$45","v":0},{"$f":"'Policy dynamic parameters'!$W$52*$AB$45","v":0},{"$f":"'Policy dynamic parameters'!$X$52*$AC$45","v":0},{"$f":"'Policy dynamic parameters'!$Y$52*$AD$45","v":0},{"$f":"'Policy dynamic parameters'!$Z$52*$AE$45","v":0},{"$f":"'Policy dynamic parameters'!$AA$52*$AF$45","v":0},{"$f":"'Policy dynamic parameters'!$AB$52*$AG$45","v":0},{"$f":"'Policy dynamic parameters'!$AC$52*$AH$45","v":0},{"$f":"'Policy dynamic parameters'!$AD$52*$AI$45","v":0},{"$f":"'Policy dynamic parameters'!$AE$52*$AJ$45","v":0},{"$f":"'Policy dynamic parameters'!$AF$52*$AK$45","v":0},{"$f":"'Policy dynamic parameters'!$AG$52*$AL$45","v":0},{"$f":"'Policy dynamic parameters'!$AH$52*$AM$45","v":0},{"$f":"'Policy dynamic parameters'!$AI$52*$AN$45","v":0},{"$f":"'Policy dynamic parameters'!$AJ$52*$AO$45","v":0},{"$f":"'Policy dynamic parameters'!$AK$52*$AP$45","v":0},{"$f":"'Policy dynamic parameters'!$AL$52*$AQ$45","v":0},{"$f":"'Policy dynamic parameters'!$AM$52*$AR$45","v":0},{"$f":"'Policy dynamic parameters'!$AN$52*$AS$45","v":0},{"$f":"'Policy dynamic parameters'!$AO$52*$AT$45","v":0},{"$f":"'Policy dynamic parameters'!$AP$52*$AU$45","v":0},{"$f":"'Policy dynamic parameters'!$AP$52*$AV$45","v":0}]
[{"$f":"IF('Estimating baseline effects'!A53<>\"\", 'Estimating baseline effects'!A53,\"\")","v":""},null,null,null,null,null,null,null,null,null,null,null,null,null,null,null,null,null,null,null,null,null,null,null,null,null,null,null,null,null,null,null,null,null,null,null,null,null,null,null,null,null,null,null,null,null,null,null,null,null,null,null,null,null,null,null,null,null,null,null,null,null,null,null,null,null,null,null,null,null,null,null,null,null,null,null,null,null,null,null,null,null,null,null,null,null,null,null,null,null,null,null,null,null,null,null,null,null,null,null,null,null,null,null,null,null,null,null,null,null,null,null,null,null,null,null,null,null,null,null,null,null,null,null,null,null,null,null,null,null,null,null,null,null,null,null,null,null,null,null,null,null,null,null,null,null,null,null,null,null,null,null,null,null,null,null,null,null,null,null,null,null,null,null,null,null,null,null,null,null,null,null,null,null,null,null,null,null,null,null,null,null,null,null,null,null,null,null,null,null,null,null,null,null,null,null,null,null,null,null,null,null,null,null,null,null,null,null,null,null,null,null,null,null,null,null,null,null,null,null,null,null,null,null,null,null,null,null,null,null,null,null,null,null,null,null,null,null,null,null,null,null,null,null,null,null,{"$f":"'Policy dynamic parameters'!$L$57*$R$46","v":0},{"$f":"'Policy dynamic parameters'!$M$57*$S$46","v":0},{"$f":"'Policy dynamic parameters'!$N$57*$T$46","v":0},{"$f":"'Policy dynamic parameters'!$O$57*$U$46","v":0},{"$f":"'Policy dynamic parameters'!$P$57*$V$46","v":0},{"$f":"'Policy dynamic parameters'!$Q$57*$W$46","v":0},{"$f":"'Policy dynamic parameters'!$R$57*$X$46","v":0},{"$f":"'Policy dynamic parameters'!$S$57*$Y$46","v":0},{"$f":"'Policy dynamic parameters'!$T$57*$Z$46","v":0},{"$f":"'Policy dynamic parameters'!$U$57*$AA$46","v":0},{"$f":"'Policy dynamic parameters'!$V$57*$AB$46","v":0},{"$f":"'Policy dynamic parameters'!$W$57*$AC$46","v":0},{"$f":"'Policy dynamic parameters'!$X$57*$AD$46","v":0},{"$f":"'Policy dynamic parameters'!$Y$57*$AE$46","v":0},{"$f":"'Policy dynamic parameters'!$Z$57*$AF$46","v":0},{"$f":"'Policy dynamic parameters'!$AA$57*$AG$46","v":0},{"$f":"'Policy dynamic parameters'!$AB$57*$AH$46","v":0},{"$f":"'Policy dynamic parameters'!$AC$57*$AI$46","v":0},{"$f":"'Policy dynamic parameters'!$AD$57*$AJ$46","v":0},{"$f":"'Policy dynamic parameters'!$AE$57*$AK$46","v":0},{"$f":"'Policy dynamic parameters'!$AF$57*$AL$46","v":0},{"$f":"'Policy dynamic parameters'!$AG$57*$AM$46","v":0},{"$f":"'Policy dynamic parameters'!$AH$57*$AN$46","v":0},{"$f":"'Policy dynamic parameters'!$AI$57*$AO$46","v":0},{"$f":"'Policy dynamic parameters'!$AJ$57*$AP$46","v":0},{"$f":"'Policy dynamic parameters'!$AK$57*$AQ$46","v":0},{"$f":"'Policy dynamic parameters'!$AL$57*$AR$46","v":0},{"$f":"'Policy dynamic parameters'!$AM$57*$AS$46","v":0},{"$f":"'Policy dynamic parameters'!$AN$57*$AT$46","v":0},{"$f":"'Policy dynamic parameters'!$AO$57*$AU$46","v":0},{"$f":"'Policy dynamic parameters'!$AP$57*$AV$46","v":0}]
[{"$f":"IF('Estimating baseline effects'!A54<>\"\", 'Estimating baseline effects'!A54,\"\")","v":""}]
[{"$f":"IF('Estimating baseline effects'!A55<>\"\", 'Estimating baseline effects'!A55,\"\")","v":""}]
[{"$f":"IF('Estimating baseline effects'!A56<>\"\", 'Estimating baseline effects'!A56,\"\")","v":""}]
[{"$f":"IF('Estimating baseline effects'!A57<>\"\", 'Estimating baseline effects'!A57,\"\")","v":""}]
[{"$f":"IF('Estimating baseline effects'!A58<>\"\", 'Estimating baseline effects'!A58,\"\")","v":"xEnd"},null,null,null,null,null,null,null,null,null,{"$f":"IF('Estimating baseline effects'!K58<>\"\", 'Estimating baseline effects'!K58,\"\")","v":""}]
[{"$f":"IF('Estimating baseline effects'!A59<>\"\", 'Estimating baseline effects'!A59,\"\")","v":0},null,null,null,null,null,null,null,null,null,{"$f":"IF('Estimating baseline effects'!K59<>\"\", 'Estimating baseline effects'!K59,\"\")","v":""}]
[{"$f":"IF('Estimating baseline effects'!A60<>\"\", 'Estimating baseline effects'!A60,\"\")","v":0},null,null,null,null,null,null,null,null,null,{"$f":"IF('Estimating baseline effects'!K60<>\"\", 'Estimating baseline effects'!K60,\"\")","v":""}]
[{"$f":"IF('Estimating baseline effects'!A61<>\"\", 'Estimating baseline effects'!A61,\"\")","v":0},null,null,null,null,null,null,null,null,null,{"$f":"IF('Estimating baseline effects'!K61<>\"\", 'Estimating baseline effects'!K61,\"\")","v":""}]
[{"$f":"IF('Estimating baseline effects'!A62<>\"\", 'Estimating baseline effects'!A62,\"\")","v":0},null,null,null,null,null,null,null,null,null,{"$f":"IF('Estimating baseline effects'!K62<>\"\", 'Estimating baseline effects'!K62,\"\")","v":""}]
[{"$f":"IF('Estimating baseline effects'!A63<>\"\", 'Estimating baseline effects'!A63,\"\")","v":0},null,null,null,null,null,null,null,null,null,{"$f":"IF('Estimating baseline effects'!K63<>\"\", 'Estimating baseline effects'!K63,\"\")","v":""}]
[{"$f":"IF('Estimating baseline effects'!A64<>\"\", 'Estimating baseline effects'!A64,\"\")","v":0},null,null,null,null,null,null,null,null,null,{"$f":"IF('Estimating baseline effects'!K64<>\"\", 'Estimating baseline effects'!K64,\"\")","v":""}]
[{"$f":"IF('Estimating baseline effects'!A65<>\"\", 'Estimating baseline effects'!A65,\"\")","v":0},null,null,null,null,null,null,null,null,null,{"$f":"IF('Estimating baseline effects'!K65<>\"\", 'Estimating baseline effects'!K65,\"\")","v":""}]
[{"$f":"IF('Estimating baseline effects'!A66<>\"\", 'Estimating baseline effects'!A66,\"\")","v":0},null,null,null,null,null,null,null,null,null,{"$f":"IF('Estimating baseline effects'!K66<>\"\", 'Estimating baseline effects'!K66,\"\")","v":""}]
[{"$f":"IF('Estimating baseline effects'!A67<>\"\", 'Estimating baseline effects'!A67,\"\")","v":0},null,null,null,null,null,null,null,null,null,{"$f":"IF('Estimating baseline effects'!K67<>\"\", 'Estimating baseline effects'!K67,\"\")","v":""}]
[{"$f":"IF('Estimating baseline effects'!A68<>\"\", 'Estimating baseline effects'!A68,\"\")","v":0},null,null,null,null,null,null,null,null,null,{"$f":"IF('Estimating baseline effects'!K68<>\"\", 'Estimating baseline effects'!K68,\"\")","v":""}]
[{"$f":"IF('Estimating baseline effects'!A69<>\"\", 'Estimating baseline effects'!A69,\"\")","v":0},null,null,null,null,null,null,null,null,null,{"$f":"IF('Estimating baseline effects'!K69<>\"\", 'Estimating baseline effects'!K69,\"\")","v":""}]
[{"$f":"IF('Estimating baseline effects'!A70<>\"\", 'Estimating baseline effects'!A70,\"\")","v":0},null,null,null,null,null,null,null,null,null,{"$f":"IF('Estimating baseline effects'!K70<>\"\", 'Estimating baseline effects'!K70,\"\")","v":""}]
[{"$f":"IF('Estimating baseline effects'!A71<>\"\", 'Estimating baseline effects'!A71,\"\")","v":0},null,null,null,null,null,null,null,null,null,{"$f":"IF('Estimating baseline effects'!K71<>\"\", 'Estimating baseline effects'!K71,\"\")","v":""}]
[{"$f":"IF('Estimating baseline effects'!A72<>\"\", 'Estimating baseline effects'!A72,\"\")","v":0},null,null,null,null,null,null,null,null,null,{"$f":"IF('Estimating baseline effects'!K72<>\"\", 'Estimating baseline effects'!K72,\"\")","v":""}]
[{"$f":"IF('Estimating baseline effects'!A73<>\"\", 'Estimating baseline effects'!A73,\"\")","v":0},null,null,null,null,null,null,null,null,null,{"$f":"IF('Estimating baseline effects'!K73<>\"\", 'Estimating baseline effects'!K73,\"\")","v":""}]
[{"$f":"IF('Estimating baseline effects'!A74<>\"\", 'Estimating baseline effects'!A74,\"\")","v":0},null,null,null,null,null,null,null,null,null,{"$f":"IF('Estimating baseline effects'!K74<>\"\", 'Estimating baseline effects'!K74,\"\")","v":""}]
[{"$f":"IF('Estimating baseline effects'!A75<>\"\", 'Estimating baseline effects'!A75,\"\")","v":0},null,null,null,null,null,null,null,null,null,{"$f":"IF('Estimating baseline effects'!K75<>\"\", 'Estimating baseline effects'!K75,\"\")","v":""}]
[{"$f":"IF('Estimating baseline effects'!A76<>\"\", 'Estimating baseline effects'!A76,\"\")","v":0},null,null,null,null,null,null,null,null,null,{"$f":"IF('Estimating baseline effects'!K76<>\"\", 'Estimating baseline effects'!K76,\"\")","v":""}]
[{"$f":"IF('Estimating baseline effects'!A77<>\"\", 'Estimating baseline effects'!A77,\"\")","v":0},null,null,null,null,null,null,null,null,null,{"$f":"IF('Estimating baseline effects'!K77<>\"\", 'Estimating baseline effects'!K77,\"\")","v":""}]
[{"$f":"IF('Estimating baseline effects'!A78<>\"\", 'Estimating baseline effects'!A78,\"\")","v":0},null,null,null,null,null,null,null,null,null,{"$f":"IF('Estimating baseline effects'!K78<>\"\", 'Estimating baseline effects'!K78,\"\")","v":""}]
[{"$f":"IF('Estimating baseline effects'!A79<>\"\", 'Estimating baseline effects'!A79,\"\")","v":0},null,null,null,null,null,null,null,null,null,{"$f":"IF('Estimating baseline effects'!K79<>\"\", 'Estimating baseline effects'!K79,\"\")","v":""}]
[{"$f":"IF('Estimating baseline effects'!A80<>\"\", 'Estimating baseline effects'!A80,\"\")","v":0},null,null,null,null,null,null,null,null,null,{"$f":"IF('Estimating baseline effects'!K80<>\"\", 'Estimating baseline effects'!K80,\"\")","v":""}]
[{"$f":"IF('Estimating baseline effects'!A81<>\"\", 'Estimating baseline effects'!A81,\"\")","v":0},null,null,null,null,null,null,null,null,null,{"$f":"IF('Estimating baseline effects'!K81<>\"\", 'Estimating baseline effects'!K81,\"\")","v":""}]
[{"$f":"IF('Estimating baseline effects'!A82<>\"\", 'Estimating baseline effects'!A82,\"\")","v":0},null,null,null,null,null,null,null,null,null,{"$f":"IF('Estimating baseline effects'!K82<>\"\", 'Estimating baseline effects'!K82,\"\")","v":""}]
[{"$f":"IF('Estimating baseline effects'!A83<>\"\", 'Estimating baseline effects'!A83,\"\")","v":0},null,null,null,null,null,null,null,null,null,{"$f":"IF('Estimating baseline effects'!K83<>\"\", 'Estimating baseline effects'!K83,\"\")","v":""}]
[{"$f":"IF('Estimating baseline effects'!A84<>\"\", 'Estimating baseline effects'!A84,\"\")","v":0},null,null,null,null,null,null,null,null,null,{"$f":"IF('Estimating baseline effects'!K84<>\"\", 'Estimating baseline effects'!K84,\"\")","v":""}]
[{"$f":"IF('Estimating baseline effects'!A85<>\"\", 'Estimating baseline effects'!A85,\"\")","v":0},null,null,null,null,null,null,null,null,null,{"$f":"IF('Estimating baseline effects'!K85<>\"\", 'Estimating baseline effects'!K85,\"\")","v":""}]
[{"$f":"IF('Estimating baseline effects'!A86<>\"\", 'Estimating baseline effects'!A86,\"\")","v":0},null,null,null,null,null,null,null,null,null,{"$f":"IF('Estimating baseline effects'!K86<>\"\", 'Estimating baseline effects'!K86,\"\")","v":""}]
[{"$f":"IF('Estimating baseline effects'!A87<>\"\", 'Estimating baseline effects'!A87,\"\")","v":0},null,null,null,null,null,null,null,null,null,{"$f":"IF('Estimating baseline effects'!K87<>\"\", 'Estimating baseline effects'!K87,\"\")","v":""}]
[{"$f":"IF('Estimating baseline effects'!A88<>\"\", 'Estimating baseline effects'!A88,\"\")","v":0},null,null,null,null,null,null,null,null,null,{"$f":"IF('Estimating baseline effects'!K88<>\"\", 'Estimating baseline effects'!K88,\"\")","v":""}]
[{"$f":"IF('Estimating baseline effects'!A89<>\"\", 'Estimating baseline effects'!A89,\"\")","v":0},null,null,null,null,null,null,null,null,null,{"$f":"IF('Estimating baseline effects'!K89<>\"\", 'Estimating baseline effects'!K89,\"\")","v":""}]
[{"$f":"IF('Estimating baseline effects'!A90<>\"\", 'Estimating baseline effects'!A90,\"\")","v":0},null,null,null,null,null,null,null,null,null,{"$f":"IF('Estimating baseline effects'!K90<>\"\", 'Estimating baseline effects'!K90,\"\")","v":""}]
[{"$f":"IF('Estimating baseline effects'!A91<>\"\", 'Estimating baseline effects'!A91,\"\")","v":0},null,null,null,null,null,null,null,null,null,{"$f":"IF('Estimating baseline effects'!K91<>\"\", 'Estimating baseline effects'!K91,\"\")","v":""}]
[{"$f":"IF('Estimating baseline effects'!A92<>\"\", 'Estimating baseline effects'!A92,\"\")","v":0},null,null,null,null,null,null,null,null,null,{"$f":"IF('Estimating baseline effects'!K92<>\"\", 'Estimating baseline effects'!K92,\"\")","v":""}]
[{"$f":"IF('Estimating baseline effects'!A93<>\"\", 'Estimating baseline effects'!A93,\"\")","v":0},null,null,null,null,null,null,null,null,null,{"$f":"IF('Estimating baseline effects'!K93<>\"\", 'Estimating baseline effects'!K93,\"\")","v":""}]
[{"$f":"IF('Estimating baseline effects'!A94<>\"\", 'Estimating baseline effects'!A94,\"\")","v":0},null,null,null,null,null,null,null,null,null,{"$f":"IF('Estimating baseline effects'!K94<>\"\", 'Estimating baseline effects'!K94,\"\")","v":""}]
[{"$f":"IF('Estimating baseline effects'!A95<>\"\", 'Estimating baseline effects'!A95,\"\")","v":0},null,null,null,null,null,null,null,null,null,{"$f":"IF('Estimating baseline effects'!K95<>\"\", 'Estimating baseline effects'!K95,\"\")","v":""}]
[{"$f":"IF('Estimating baseline effects'!A96<>\"\", 'Estimating baseline effects'!A96,\"\")","v":0},null,null,null,null,null,null,null,null,null,{"$f":"IF('Estimating baseline effects'!K96<>\"\", 'Estimating baseline effects'!K96,\"\")","v":""}]
[{"$f":"IF('Estimating baseline effects'!A97<>\"\", 'Estimating baseline effects'!A97,\"\")","v":0},null,null,null,null,null,null,null,null,null,{"$f":"IF('Estimating baseline effects'!K97<>\"\", 'Estimating baseline effects'!K97,\"\")","v":""}]
[{"$f":"IF('Estimating baseline effects'!A98<>\"\", 'Estimating baseline effects'!A98,\"\")","v":0},null,null,null,null,null,null,null,null,null,{"$f":"IF('Estimating baseline effects'!K98<>\"\", 'Estimating baseline effects'!K98,\"\")","v":""}]
[{"$f":"IF('Estimating baseline effects'!A99<>\"\", 'Estimating baseline effects'!A99,\"\")","v":0},null,null,null,null,null,null,null,null,null,{"$f":"IF('Estimating baseline effects'!K99<>\"\", 'Estimating baseline effects'!K99,\"\")","v":""}]
[{"$f":"IF('Estimating baseline effects'!A100<>\"\", 'Estimating baseline effects'!A100,\"\")","v":0},null,null,null,null,null,null,null,null,null,{"$f":"IF('Estimating baseline effects'!K100<>\"\", 'Estimating baseline effects'!K100,\"\")","v":""}]
[{"$f":"IF('Estimating baseline effects'!A101<>\"\", 'Estimating baseline effects'!A101,\"\")","v":0},null,null,null,null,null,null,null,null,null,{"$f":"IF('Estimating baseline effects'!K101<>\"\", 'Estimating baseline effects'!K101,\"\")","v":""}]
[{"$f":"IF('Estimating baseline effects'!A102<>\"\", 'Estimating baseline effects'!A102,\"\")","v":0},null,null,null,null,null,null,null,null,null,{"$f":"IF('Estimating baseline effects'!K102<>\"\", 'Estimating baseline effects'!K102,\"\")","v":""}]
[{"$f":"IF('Estimating baseline effects'!A103<>\"\", 'Estimating baseline effects'!A103,\"\")","v":0},null,null,null,null,null,null,null,null,null,{"$f":"IF('Estimating baseline effects'!K103<>\"\", 'Estimating baseline effects'!K103,\"\")","v":""}]
[{"$f":"IF('Estimating baseline effects'!A104<>\"\", 'Estimating baseline effects'!A104,\"\")","v":0},null,null,null,null,null,null,null,null,null,{"$f":"IF('Estimating baseline effects'!K104<>\"\", 'Estimating baseline effects'!K104,\"\")","v":""}]
[{"$f":"IF('Estimating baseline effects'!A105<>\"\", 'Estimating baseline effects'!A105,\"\")","v":0},null,null,null,null,null,null,null,null,null,{"$f":"IF('Estimating baseline effects'!K105<>\"\", 'Estimating baseline effects'!K105,\"\")","v":""}]
[{"$f":"IF('Estimating baseline effects'!A106<>\"\", 'Estimating baseline effects'!A106,\"\")","v":0},null,null,null,null,null,null,null,null,null,{"$f":"IF('Estimating baseline effects'!K106<>\"\", 'Estimating baseline effects'!K106,\"\")","v":""}]
[{"$f":"IF('Estimating baseline effects'!A107<>\"\", 'Estimating baseline effects'!A107,\"\")","v":0},null,null,null,null,null,null,null,null,null,{"$f":"IF('Estimating baseline effects'!K107<>\"\", 'Estimating baseline effects'!K107,\"\")","v":""}]
[{"$f":"IF('Estimating baseline effects'!A108<>\"\", 'Estimating baseline effects'!A108,\"\")","v":0},null,null,null,null,null,null,null,null,null,{"$f":"IF('Estimating baseline effects'!K108<>\"\", 'Estimating baseline effects'!K108,\"\")","v":""}]
[{"$f":"IF('Estimating baseline effects'!A109<>\"\", 'Estimating baseline effects'!A109,\"\")","v":0},null,null,null,null,null,null,null,null,null,{"$f":"IF('Estimating baseline effects'!K109<>\"\", 'Estimating baseline effects'!K109,\"\")","v":""}]
[{"$f":"IF('Estimating baseline effects'!A110<>\"\", 'Estimating baseline effects'!A110,\"\")","v":0},null,null,null,null,null,null,null,null,null,{"$f":"IF('Estimating baseline effects'!K110<>\"\", 'Estimating baseline effects'!K110,\"\")","v":""}]
[{"$f":"IF('Estimating baseline effects'!A111<>\"\", 'Estimating baseline effects'!A111,\"\")","v":0},null,null,null,null,null,null,null,null,null,{"$f":"IF('Estimating baseline effects'!K111<>\"\", 'Estimating baseline effects'!K111,\"\")","v":""}]
[{"$f":"IF('Estimating baseline effects'!A112<>\"\", 'Estimating baseline effects'!A112,\"\")","v":0},null,null,null,null,null,null,null,null,null,{"$f":"IF('Estimating baseline effects'!K112<>\"\", 'Estimating baseline effects'!K112,\"\")","v":""}]
[{"$f":"IF('Estimating baseline effects'!A113<>\"\", 'Estimating baseline effects'!A113,\"\")","v":0},null,null,null,null,null,null,null,null,null,{"$f":"IF('Estimating baseline effects'!K113<>\"\", 'Estimating baseline effects'!K113,\"\")","v":""}]
[{"$f":"IF('Estimating baseline effects'!A114<>\"\", 'Estimating baseline effects'!A114,\"\")","v":0},null,null,null,null,null,null,null,null,null,{"$f":"IF('Estimating baseline effects'!K114<>\"\", 'Estimating baseline effects'!K114,\"\")","v":""}]
[{"$f":"IF('Estimating baseline effects'!A115<>\"\", 'Estimating baseline effects'!A115,\"\")","v":0},null,null,null,null,null,null,null,null,null,{"$f":"IF('Estimating baseline effects'!K115<>\"\", 'Estimating baseline effects'!K115,\"\")","v":""}]
[{"$f":"IF('Estimating baseline effects'!A116<>\"\", 'Estimating baseline effects'!A116,\"\")","v":0},null,null,null,null,null,null,null,null,null,{"$f":"IF('Estimating baseline effects'!K116<>\"\", 'Estimating baseline effects'!K116,\"\")","v":""}]
[{"$f":"IF('Estimating baseline effects'!A117<>\"\", 'Estimating baseline effects'!A117,\"\")","v":0},null,null,null,null,null,null,null,null,null,{"$f":"IF('Estimating baseline effects'!K117<>\"\", 'Estimating baseline effects'!K117,\"\")","v":""}]
[{"$f":"IF('Estimating baseline effects'!A118<>\"\", 'Estimating baseline effects'!A118,\"\")","v":0},null,null,null,null,null,null,null,null,null,{"$f":"IF('Estimating baseline effects'!K118<>\"\", 'Estimating baseline effects'!K118,\"\")","v":""}]
[{"$f":"IF('Estimating baseline effects'!A119<>\"\", 'Estimating baseline effects'!A119,\"\")","v":0},null,null,null,null,null,null,null,null,null,{"$f":"IF('Estimating baseline effects'!K119<>\"\", 'Estimating baseline effects'!K119,\"\")","v":""}]
[{"$f":"IF('Estimating baseline effects'!A120<>\"\", 'Estimating baseline effects'!A120,\"\")","v":0},null,null,null,null,null,null,null,null,null,{"$f":"IF('Estimating baseline effects'!K120<>\"\", 'Estimating baseline effects'!K120,\"\")","v":""}]
[{"$f":"IF('Estimating baseline effects'!A121<>\"\", 'Estimating baseline effects'!A121,\"\")","v":0},null,null,null,null,null,null,null,null,null,{"$f":"IF('Estimating baseline effects'!K121<>\"\", 'Estimating baseline effects'!K121,\"\")","v":""}]
[{"$f":"IF('Estimating baseline effects'!A122<>\"\", 'Estimating baseline effects'!A122,\"\")","v":0},null,null,null,null,null,null,null,null,null,{"$f":"IF('Estimating baseline effects'!K122<>\"\", 'Estimating baseline effects'!K122,\"\")","v":""}]
[{"$f":"IF('Estimating baseline effects'!A123<>\"\", 'Estimating baseline effects'!A123,\"\")","v":0},null,null,null,null,null,null,null,null,null,{"$f":"IF('Estimating baseline effects'!K123<>\"\", 'Estimating baseline effects'!K123,\"\")","v":""}]
[{"$f":"IF('Estimating baseline effects'!A124<>\"\", 'Estimating baseline effects'!A124,\"\")","v":0},null,null,null,null,null,null,null,null,null,{"$f":"IF('Estimating baseline effects'!K124<>\"\", 'Estimating baseline effects'!K124,\"\")","v":""}]
[{"$f":"IF('Estimating baseline effects'!A125<>\"\", 'Estimating baseline effects'!A125,\"\")","v":0},null,null,null,null,null,null,null,null,null,{"$f":"IF('Estimating baseline effects'!K125<>\"\", 'Estimating baseline effects'!K125,\"\")","v":""}]
[{"$f":"IF('Estimating baseline effects'!A126<>\"\", 'Estimating baseline effects'!A126,\"\")","v":0},null,null,null,null,null,null,null,null,null,{"$f":"IF('Estimating baseline effects'!K126<>\"\", 'Estimating baseline effects'!K126,\"\")","v":""}]
[{"$f":"IF('Estimating baseline effects'!A127<>\"\", 'Estimating baseline effects'!A127,\"\")","v":0},null,null,null,null,null,null,null,null,null,{"$f":"IF('Estimating baseline effects'!K127<>\"\", 'Estimating baseline effects'!K127,\"\")","v":""}]
[{"$f":"IF('Estimating baseline effects'!A128<>\"\", 'Estimating baseline effects'!A128,\"\")","v":0},null,null,null,null,null,null,null,null,null,{"$f":"IF('Estimating baseline effects'!K128<>\"\", 'Estimating baseline effects'!K128,\"\")","v":""}]
[{"$f":"IF('Estimating baseline effects'!A129<>\"\", 'Estimating baseline effects'!A129,\"\")","v":0},null,null,null,null,null,null,null,null,null,{"$f":"IF('Estimating baseline effects'!K129<>\"\", 'Estimating baseline effects'!K129,\"\")","v":""}]
[{"$f":"IF('Estimating baseline effects'!A130<>\"\", 'Estimating baseline effects'!A130,\"\")","v":0},null,null,null,null,null,null,null,null,null,{"$f":"IF('Estimating baseline effects'!K130<>\"\", 'Estimating baseline effects'!K130,\"\")","v":""}]
[{"$f":"IF('Estimating baseline effects'!A131<>\"\", 'Estimating baseline effects'!A131,\"\")","v":0},null,null,null,null,null,null,null,null,null,{"$f":"IF('Estimating baseline effects'!K131<>\"\", 'Estimating baseline effects'!K131,\"\")","v":""}]
[{"$f":"IF('Estimating baseline effects'!A132<>\"\", 'Estimating baseline effects'!A132,\"\")","v":0},null,null,null,null,null,null,null,null,null,{"$f":"IF('Estimating baseline effects'!K132<>\"\", 'Estimating baseline effects'!K132,\"\")","v":""}]
[{"$f":"IF('Estimating baseline effects'!A133<>\"\", 'Estimating baseline effects'!A133,\"\")","v":0},null,null,null,null,null,null,null,null,null,{"$f":"IF('Estimating baseline effects'!K133<>\"\", 'Estimating baseline effects'!K133,\"\")","v":""}]
[{"$f":"IF('Estimating baseline effects'!A134<>\"\", 'Estimating baseline effects'!A134,\"\")","v":0},null,null,null,null,null,null,null,null,null,{"$f":"IF('Estimating baseline effects'!K134<>\"\", 'Estimating baseline effects'!K134,\"\")","v":""}]
[{"$f":"IF('Estimating baseline effects'!A135<>\"\", 'Estimating baseline effects'!A135,\"\")","v":0},null,null,null,null,null,null,null,null,null,{"$f":"IF('Estimating baseline effects'!K135<>\"\", 'Estimating baseline effects'!K135,\"\")","v":""}]
[{"$f":"IF('Estimating baseline effects'!A136<>\"\", 'Estimating baseline effects'!A136,\"\")","v":0},null,null,null,null,null,null,null,null,null,{"$f":"IF('Estimating baseline effects'!K136<>\"\", 'Estimating baseline effects'!K136,\"\")","v":""}]
[{"$f":"IF('Estimating baseline effects'!A137<>\"\", 'Estimating baseline effects'!A137,\"\")","v":0},null,null,null,null,null,null,null,null,null,{"$f":"IF('Estimating baseline effects'!K137<>\"\", 'Estimating baseline effects'!K137,\"\")","v":""}]
[{"$f":"IF('Estimating baseline effects'!A138<>\"\", 'Estimating baseline effects'!A138,\"\")","v":0},null,null,null,null,null,null,null,null,null,{"$f":"IF('Estimating baseline effects'!K138<>\"\", 'Estimating baseline effects'!K138,\"\")","v":""}]
[{"$f":"IF('Estimating baseline effects'!A139<>\"\", 'Estimating baseline effects'!A139,\"\")","v":0},null,null,null,null,null,null,null,null,null,{"$f":"IF('Estimating baseline effects'!K139<>\"\", 'Estimating baseline effects'!K139,\"\")","v":""}]
[{"$f":"IF('Estimating baseline effects'!A140<>\"\", 'Estimating baseline effects'!A140,\"\")","v":0},null,null,null,null,null,null,null,null,null,{"$f":"IF('Estimating baseline effects'!K140<>\"\", 'Estimating baseline effects'!K140,\"\")","v":""}]
[{"$f":"IF('Estimating baseline effects'!A141<>\"\", 'Estimating baseline effects'!A141,\"\")","v":0},null,null,null,null,null,null,null,null,null,{"$f":"IF('Estimating baseline effects'!K141<>\"\", 'Estimating baseline effects'!K141,\"\")","v":""}]
[{"$f":"IF('Estimating baseline effects'!A142<>\"\", 'Estimating baseline effects'!A142,\"\")","v":0},null,null,null,null,null,null,null,null,null,{"$f":"IF('Estimating baseline effects'!K142<>\"\", 'Estimating baseline effects'!K142,\"\")","v":""}]
[{"$f":"IF('Estimating baseline effects'!A143<>\"\", 'Estimating baseline effects'!A143,\"\")","v":0},null,null,null,null,null,null,null,null,null,{"$f":"IF('Estimating baseline effects'!K143<>\"\", 'Estimating baseline effects'!K143,\"\")","v":""}]
[{"$f":"IF('Estimating baseline effects'!A144<>\"\", 'Estimating baseline effects'!A144,\"\")","v":0},null,null,null,null,null,null,null,null,null,{"$f":"IF('Estimating baseline effects'!K144<>\"\", 'Estimating baseline effects'!K144,\"\")","v":""}]
[{"$f":"IF('Estimating baseline effects'!A145<>\"\", 'Estimating baseline effects'!A145,\"\")","v":0},null,null,null,null,null,null,null,null,null,{"$f":"IF('Estimating baseline effects'!K145<>\"\", 'Estimating baseline effects'!K145,\"\")","v":""}]
[{"$f":"IF('Estimating baseline effects'!A146<>\"\", 'Estimating baseline effects'!A146,\"\")","v":0},null,null,null,null,null,null,null,null,null,{"$f":"IF('Estimating baseline effects'!K146<>\"\", 'Estimating baseline effects'!K146,\"\")","v":""}]
[{"$f":"IF('Estimating baseline effects'!A147<>\"\", 'Estimating baseline effects'!A147,\"\")","v":0},null,null,null,null,null,null,null,null,null,{"$f":"IF('Estimating baseline effects'!K147<>\"\", 'Estimating baseline effects'!K147,\"\")","v":""}]
[{"$f":"IF('Estimating baseline effects'!A148<>\"\", 'Estimating baseline effects'!A148,\"\")","v":0},null,null,null,null,null,null,null,null,null,{"$f":"IF('Estimating baseline effects'!K148<>\"\", 'Estimating baseline effects'!K148,\"\")","v":""}]
[{"$f":"IF('Estimating baseline effects'!A149<>\"\", 'Estimating baseline effects'!A149,\"\")","v":0},null,null,null,null,null,null,null,null,null,{"$f":"IF('Estimating baseline effects'!K149<>\"\", 'Estimating baseline effects'!K149,\"\")","v":""}]
[{"$f":"IF('Estimating baseline effects'!A150<>\"\", 'Estimating baseline effects'!A150,\"\")","v":0},null,null,null,null,null,null,null,null,null,{"$f":"IF('Estimating baseline effects'!K150<>\"\", 'Estimating baseline effects'!K150,\"\")","v":""}]
[{"$f":"IF('Estimating baseline effects'!A151<>\"\", 'Estimating baseline effects'!A151,\"\")","v":0},null,null,null,null,null,null,null,null,null,{"$f":"IF('Estimating baseline effects'!K151<>\"\", 'Estimating baseline effects'!K151,\"\")","v":""}]
[{"$f":"IF('Estimating baseline effects'!A152<>\"\", 'Estimating baseline effects'!A152,\"\")","v":0},null,null,null,null,null,null,null,null,null,{"$f":"IF('Estimating baseline effects'!K152<>\"\", 'Estimating baseline effects'!K152,\"\")","v":""}]
[{"$f":"IF('Estimating baseline effects'!A153<>\"\", 'Estimating baseline effects'!A153,\"\")","v":0},null,null,null,null,null,null,null,null,null,{"$f":"IF('Estimating baseline effects'!K153<>\"\", 'Estimating baseline effects'!K153,\"\")","v":""}]
[{"$f":"IF('Estimating baseline effects'!A154<>\"\", 'Estimating baseline effects'!A154,\"\")","v":0},null,null,null,null,null,null,null,null,null,{"$f":"IF('Estimating baseline effects'!K154<>\"\", 'Estimating baseline effects'!K154,\"\")","v":""}]
[{"$f":"IF('Estimating baseline effects'!A155<>\"\", 'Estimating baseline effects'!A155,\"\")","v":0},null,null,null,null,null,null,null,null,null,{"$f":"IF('Estimating baseline effects'!K155<>\"\", 'Estimating baseline effects'!K155,\"\")","v":""}]
[{"$f":"IF('Estimating baseline effects'!A156<>\"\", 'Estimating baseline effects'!A156,\"\")","v":0},null,null,null,null,null,null,null,null,null,{"$f":"IF('Estimating baseline effects'!K156<>\"\", 'Estimating baseline effects'!K156,\"\")","v":""}]
[{"$f":"IF('Estimating baseline effects'!A157<>\"\", 'Estimating baseline effects'!A157,\"\")","v":0},null,null,null,null,null,null,null,null,null,{"$f":"IF('Estimating baseline effects'!K157<>\"\", 'Estimating baseline effects'!K157,\"\")","v":""}]
[{"$f":"IF('Estimating baseline effects'!A158<>\"\", 'Estimating baseline effects'!A158,\"\")","v":0},null,null,null,null,null,null,null,null,null,{"$f":"IF('Estimating baseline effects'!K158<>\"\", 'Estimating baseline effects'!K158,\"\")","v":""}]
[{"$f":"IF('Estimating baseline effects'!A159<>\"\", 'Estimating baseline effects'!A159,\"\")","v":0},null,null,null,null,null,null,null,null,null,{"$f":"IF('Estimating baseline effects'!K159<>\"\", 'Estimating baseline effects'!K159,\"\")","v":""}]
[{"$f":"IF('Estimating baseline effects'!A160<>\"\", 'Estimating baseline effects'!A160,\"\")","v":0},null,null,null,null,null,null,null,null,null,{"$f":"IF('Estimating baseline effects'!K160<>\"\", 'Estimating baseline effects'!K160,\"\")","v":""}]
[{"$f":"IF('Estimating baseline effects'!A161<>\"\", 'Estimating baseline effects'!A161,\"\")","v":0},null,null,null,null,null,null,null,null,null,{"$f":"IF('Estimating baseline effects'!K161<>\"\", 'Estimating baseline effects'!K161,\"\")","v":""}]
[{"$f":"IF('Estimating baseline effects'!A162<>\"\", 'Estimating baseline effects'!A162,\"\")","v":0},null,null,null,null,null,null,null,null,null,{"$f":"IF('Estimating baseline effects'!K162<>\"\", 'Estimating baseline effects'!K162,\"\")","v":""}]
[{"$f":"IF('Estimating baseline effects'!A163<>\"\", 'Estimating baseline effects'!A163,\"\")","v":0},null,null,null,null,null,null,null,null,null,{"$f":"IF('Estimating baseline effects'!K163<>\"\", 'Estimating baseline effects'!K163,\"\")","v":""}]
[{"$f":"IF('Estimating baseline effects'!A164<>\"\", 'Estimating baseline effects'!A164,\"\")","v":0},null,null,null,null,null,null,null,null,null,{"$f":"IF('Estimating baseline effects'!K164<>\"\", 'Estimating baseline effects'!K164,\"\")","v":""}]
[{"$f":"IF('Estimating baseline effects'!A165<>\"\", 'Estimating baseline effects'!A165,\"\")","v":0},null,null,null,null,null,null,null,null,null,{"$f":"IF('Estimating baseline effects'!K165<>\"\", 'Estimating baseline effects'!K165,\"\")","v":""}]
[{"$f":"IF('Estimating baseline effects'!A166<>\"\", 'Estimating baseline effects'!A166,\"\")","v":0},null,null,null,null,null,null,null,null,null,{"$f":"IF('Estimating baseline effects'!K166<>\"\", 'Estimating baseline effects'!K166,\"\")","v":""}]
[{"$f":"IF('Estimating baseline effects'!A167<>\"\", 'Estimating baseline effects'!A167,\"\")","v":0},null,null,null,null,null,null,null,null,null,{"$f":"IF('Estimating baseline effects'!K167<>\"\", 'Estimating baseline effects'!K167,\"\")","v":""}]
[{"$f":"IF('Estimating baseline effects'!A168<>\"\", 'Estimating baseline effects'!A168,\"\")","v":0},null,null,null,null,null,null,null,null,null,{"$f":"IF('Estimating baseline effects'!K168<>\"\", 'Estimating baseline effects'!K168,\"\")","v":""}]
[{"$f":"IF('Estimating baseline effects'!A169<>\"\", 'Estimating baseline effects'!A169,\"\")","v":0},null,null,null,null,null,null,null,null,null,{"$f":"IF('Estimating baseline effects'!K169<>\"\", 'Estimating baseline effects'!K169,\"\")","v":""}]
[{"$f":"IF('Estimating baseline effects'!A170<>\"\", 'Estimating baseline effects'!A170,\"\")","v":0},null,null,null,null,null,null,null,null,null,{"$f":"IF('Estimating baseline effects'!K170<>\"\", 'Estimating baseline effects'!K170,\"\")","v":""}]
[{"$f":"IF('Estimating baseline effects'!A171<>\"\", 'Estimating baseline effects'!A171,\"\")","v":0},null,null,null,null,null,null,null,null,null,{"$f":"IF('Estimating baseline effects'!K171<>\"\", 'Estimating baseline effects'!K171,\"\")","v":""}]
[{"$f":"IF('Estimating baseline effects'!A172<>\"\", 'Estimating baseline effects'!A172,\"\")","v":0},null,null,null,null,null,null,null,null,null,{"$f":"IF('Estimating baseline effects'!K172<>\"\", 'Estimating baseline effects'!K172,\"\")","v":""}]
[{"$f":"IF('Estimating baseline effects'!A173<>\"\", 'Estimating baseline effects'!A173,\"\")","v":0},null,null,null,null,null,null,null,null,null,{"$f":"IF('Estimating baseline effects'!K173<>\"\", 'Estimating baseline effects'!K173,\"\")","v":""}]
[{"$f":"IF('Estimating baseline effects'!A174<>\"\", 'Estimating baseline effects'!A174,\"\")","v":0},null,null,null,null,null,null,null,null,null,{"$f":"IF('Estimating baseline effects'!K174<>\"\", 'Estimating baseline effects'!K174,\"\")","v":""}]
[{"$f":"IF('Estimating baseline effects'!A175<>\"\", 'Estimating baseline effects'!A175,\"\")","v":0},null,null,null,null,null,null,null,null,null,{"$f":"IF('Estimating baseline effects'!K175<>\"\", 'Estimating baseline effects'!K175,\"\")","v":""}]
[{"$f":"IF('Estimating baseline effects'!A176<>\"\", 'Estimating baseline effects'!A176,\"\")","v":0},null,null,null,null,null,null,null,null,null,{"$f":"IF('Estimating baseline effects'!K176<>\"\", 'Estimating baseline effects'!K176,\"\")","v":""}]
[{"$f":"IF('Estimating baseline effects'!A177<>\"\", 'Estimating baseline effects'!A177,\"\")","v":0},null,null,null,null,null,null,null,null,null,{"$f":"IF('Estimating baseline effects'!K177<>\"\", 'Estimating baseline effects'!K177,\"\")","v":""}]
[{"$f":"IF('Estimating baseline effects'!A178<>\"\", 'Estimating baseline effects'!A178,\"\")","v":0},null,null,null,null,null,null,null,null,null,{"$f":"IF('Estimating baseline effects'!K178<>\"\", 'Estimating baseline effects'!K178,\"\")","v":""}]
[{"$f":"IF('Estimating baseline effects'!A179<>\"\", 'Estimating baseline effects'!A179,\"\")","v":0},null,null,null,null,null,null,null,null,null,{"$f":"IF('Estimating baseline effects'!K179<>\"\", 'Estimating baseline effects'!K179,\"\")","v":""}]
[{"$f":"IF('Estimating baseline effects'!A180<>\"\", 'Estimating baseline effects'!A180,\"\")","v":0},null,null,null,null,null,null,null,null,null,{"$f":"IF('Estimating baseline effects'!K180<>\"\", 'Estimating baseline effects'!K180,\"\")","v":""},null,null,null,null,null,null,null,null,null,null,null,null,null,null,null,null,null,null,null,null,null,null,null,null,null,null,null,null,null,null,null,null,null,null,null,null,null,null,null,null,null,null,null,null,null,null,null,null,null,null,null,null,null,null,null,null,null,null,null,null,null,null,null,null,null,null,null,null,null,null,null,null,null,null,null,null,null,null,null,null,null,null,null,null,null,null,null,null,null,null,null,null,null,null,null,null,null,null,null,null,null,null,null,null,null,null,null,null,null,null,null,null,null,null,null,null,null,null,null,null,null,null,null,null,null,null,null,null,null,null,null,null,null,null,null,null,null,null,null,null,null,null,null,null,null,null,null,null,null,null,null,null,null,null,null,null,null,null,null,null,null,null,null,null,null,null,null,null,null,null,null,null,null,null,null,null,null,null,null,null,null,null,null,null,null,null,null,null,null,null,null,null,null,null,null,null,null,null,null,null,null,null,null,null,null,null,null,null,null,null,null,null,null,null,null,null,null,null,null,null,null,null,null,null,null,null,null,null,null,null,null,null,null,null,null,null,null,null,null,null,{"$f":"'Policy dynamic parameters'!$Q$42","v":0}]
[{"$f":"IF('Estimating baseline effects'!A181<>\"\", 'Estimating baseline effects'!A181,\"\")","v":0},null,null,null,null,null,null,null,null,null,{"$f":"IF('Estimating baseline effects'!K181<>\"\", 'Estimating baseline effects'!K181,\"\")","v":""},null,null,null,null,null,null,null,null,null,null,null,null,null,null,null,null,null,null,null,null,null,null,null,null,null,null,null,null,null,null,null,null,null,null,null,null,null,null,null,null,null,null,null,null,null,null,null,null,null,null,null,null,null,null,null,null,null,null,null,null,null,null,null,null,null,null,null,null,null,null,null,null,null,null,null,null,null,null,null,null,null,null,null,null,null,null,null,null,null,null,null,null,null,null,null,null,null,null,null,null,null,null,null,null,null,null,null,null,null,null,null,null,null,null,null,null,null,null,null,null,null,null,null,null,null,null,null,null,null,null,null,null,null,null,null,null,null,null,null,null,null,null,null,null,null,null,null,null,null,null,null,null,null,null,null,null,null,null,null,null,null,null,null,null,null,null,null,null,null,null,null,null,null,null,null,null,null,null,null,null,null,null,null,null,null,null,null,null,null,null,null,null,null,null,null,null,null,null,null,null,null,null,null,null,null,null,null,null,null,null,null,null,null,null,null,null,null,null,null,null,null,null,null,null,null,null,null,null,null,null,null,null,null,null,null,null,null,null,null,null,null,{"$f":"'Policy dynamic parameters'!$R$42","v":0}]
[{"$f":"IF('Estimating baseline effects'!A182<>\"\", 'Estimating baseline effects'!A182,\"\")","v":0},null,null,null,null,null,null,null,null,null,{"$f":"IF('Estimating baseline effects'!K182<>\"\", 'Estimating baseline effects'!K182,\"\")","v":""},null,null,null,null,null,null,null,null,null,null,null,null,null,null,null,null,null,null,null,null,null,null,null,null,null,null,null,null,null,null,null,null,null,null,null,null,null,null,null,null,null,null,null,null,null,null,null,null,null,null,null,null,null,null,null,null,null,null,null,null,null,null,null,null,null,null,null,null,null,null,null,null,null,null,null,null,null,null,null,null,null,null,null,null,null,null,null,null,null,null,null,null,null,null,null,null,null,null,null,null,null,null,null,null,null,null,null,null,null,null,null,null,null,null,null,null,null,null,null,null,null,null,null,null,null,null,null,null,null,null,null,null,null,null,null,null,null,null,null,null,null,null,null,null,null,null,null,null,null,null,null,null,null,null,null,null,null,null,null,null,null,null,null,null,null,null,null,null,null,null,null,null,null,null,null,null,null,null,null,null,null,null,null,null,null,null,null,null,null,null,null,null,null,null,null,null,null,null,null,null,null,null,null,null,null,null,null,null,null,null,null,null,null,null,null,null,null,null,null,null,null,null,null,null,null,null,null,null,null,null,null,null,null,null,null,null,null,null,null,null,null,null,{"$f":"'Policy dynamic parameters'!$S$42","v":0}]
[{"$f":"IF('Estimating baseline effects'!A183<>\"\", 'Estimating baseline effects'!A183,\"\")","v":0},null,null,null,null,null,null,null,null,null,{"$f":"IF('Estimating baseline effects'!K183<>\"\", 'Estimating baseline effects'!K183,\"\")","v":""},null,null,null,null,null,null,null,null,null,null,null,null,null,null,null,null,null,null,null,null,null,null,null,null,null,null,null,null,null,null,null,null,null,null,null,null,null,null,null,null,null,null,null,null,null,null,null,null,null,null,null,null,null,null,null,null,null,null,null,null,null,null,null,null,null,null,null,null,null,null,null,null,null,null,null,null,null,null,null,null,null,null,null,null,null,null,null,null,null,null,null,null,null,null,null,null,null,null,null,null,null,null,null,null,null,null,null,null,null,null,null,null,null,null,null,null,null,null,null,null,null,null,null,null,null,null,null,null,null,null,null,null,null,null,null,null,null,null,null,null,null,null,null,null,null,null,null,null,null,null,null,null,null,null,null,null,null,null,null,null,null,null,null,null,null,null,null,null,null,null,null,null,null,null,null,null,null,null,null,null,null,null,null,null,null,null,null,null,null,null,null,null,null,null,null,null,null,null,null,null,null,null,null,null,null,null,null,null,null,null,null,null,null,null,null,null,null,null,null,null,null,null,null,null,null,null,null,null,null,null,null,null,null,null,null,null,null,null,null,null,null,null,null,{"$f":"'Policy dynamic parameters'!$T$42","v":0}]
[{"$f":"IF('Estimating baseline effects'!A184<>\"\", 'Estimating baseline effects'!A184,\"\")","v":0},null,null,null,null,null,null,null,null,null,{"$f":"IF('Estimating baseline effects'!K184<>\"\", 'Estimating baseline effects'!K184,\"\")","v":""},null,null,null,null,null,null,null,null,null,null,null,null,null,null,null,null,null,null,null,null,null,null,null,null,null,null,null,null,null,null,null,null,null,null,null,null,null,null,null,null,null,null,null,null,null,null,null,null,null,null,null,null,null,null,null,null,null,null,null,null,null,null,null,null,null,null,null,null,null,null,null,null,null,null,null,null,null,null,null,null,null,null,null,null,null,null,null,null,null,null,null,null,null,null,null,null,null,null,null,null,null,null,null,null,null,null,null,null,null,null,null,null,null,null,null,null,null,null,null,null,null,null,null,null,null,null,null,null,null,null,null,null,null,null,null,null,null,null,null,null,null,null,null,null,null,null,null,null,null,null,null,null,null,null,null,null,null,null,null,null,null,null,null,null,null,null,null,null,null,null,null,null,null,null,null,null,null,null,null,null,null,null,null,null,null,null,null,null,null,null,null,null,null,null,null,null,null,null,null,null,null,null,null,null,null,null,null,null,null,null,null,null,null,null,null,null,null,null,null,null,null,null,null,null,null,null,null,null,null,null,null,null,null,null,null,null,null,null,null,null,null,null,null,null,{"$f":"'Policy dynamic parameters'!$U$42","v":0}]
[{"$f":"IF('Estimating baseline effects'!A185<>\"\", 'Estimating baseline effects'!A185,\"\")","v":0},null,null,null,null,null,null,null,null,null,{"$f":"IF('Estimating baseline effects'!K185<>\"\", 'Estimating baseline effects'!K185,\"\")","v":""},null,null,null,null,null,null,null,null,null,null,null,null,null,null,null,null,null,null,null,null,null,null,null,null,null,null,null,null,null,null,null,null,null,null,null,null,null,null,null,null,null,null,null,null,null,null,null,null,null,null,null,null,null,null,null,null,null,null,null,null,null,null,null,null,null,null,null,null,null,null,null,null,null,null,null,null,null,null,null,null,null,null,null,null,null,null,null,null,null,null,null,null,null,null,null,null,null,null,null,null,null,null,null,null,null,null,null,null,null,null,null,null,null,null,null,null,null,null,null,null,null,null,null,null,null,null,null,null,null,null,null,null,null,null,null,null,null,null,null,null,null,null,null,null,null,null,null,null,null,null,null,null,null,null,null,null,null,null,null,null,null,null,null,null,null,null,null,null,null,null,null,null,null,null,null,null,null,null,null,null,null,null,null,null,null,null,null,null,null,null,null,null,null,null,null,null,null,null,null,null,null,null,null,null,null,null,null,null,null,null,null,null,null,null,null,null,null,null,null,null,null,null,null,null,null,null,null,null,null,null,null,null,null,null,null,null,null,null,null,null,null,null,null,null,null,{"$f":"'Policy dynamic parameters'!$V$42","v":0}]
[{"$f":"IF('Estimating baseline effects'!A186<>\"\", 'Estimating baseline effects'!A186,\"\")","v":0},null,null,null,null,null,null,null,null,null,{"$f":"IF('Estimating baseline effects'!K186<>\"\", 'Estimating baseline effects'!K186,\"\")","v":""},null,null,null,null,null,null,null,null,null,null,null,null,null,null,null,null,null,null,null,null,null,null,null,null,null,null,null,null,null,null,null,null,null,null,null,null,null,null,null,null,null,null,null,null,null,null,null,null,null,null,null,null,null,null,null,null,null,null,null,null,null,null,null,null,null,null,null,null,null,null,null,null,null,null,null,null,null,null,null,null,null,null,null,null,null,null,null,null,null,null,null,null,null,null,null,null,null,null,null,null,null,null,null,null,null,null,null,null,null,null,null,null,null,null,null,null,null,null,null,null,null,null,null,null,null,null,null,null,null,null,null,null,null,null,null,null,null,null,null,null,null,null,null,null,null,null,null,null,null,null,null,null,null,null,null,null,null,null,null,null,null,null,null,null,null,null,null,null,null,null,null,null,null,null,null,null,null,null,null,null,null,null,null,null,null,null,null,null,null,null,null,null,null,null,null,null,null,null,null,null,null,null,null,null,null,null,null,null,null,null,null,null,null,null,null,null,null,null,null,null,null,null,null,null,null,null,null,null,null,null,null,null,null,null,null,null,null,null,null,null,null,null,null,null,null,null,{"$f":"'Policy dynamic parameters'!$W$42","v":2}]
[{"$f":"IF('Estimating baseline effects'!A187<>\"\", 'Estimating baseline effects'!A187,\"\")","v":0},null,null,null,null,null,null,null,null,null,{"$f":"IF('Estimating baseline effects'!K187<>\"\", 'Estimating baseline effects'!K187,\"\")","v":""},null,null,null,null,null,null,null,null,null,null,null,null,null,null,null,null,null,null,null,null,null,null,null,null,null,null,null,null,null,null,null,null,null,null,null,null,null,null,null,null,null,null,null,null,null,null,null,null,null,null,null,null,null,null,null,null,null,null,null,null,null,null,null,null,null,null,null,null,null,null,null,null,null,null,null,null,null,null,null,null,null,null,null,null,null,null,null,null,null,null,null,null,null,null,null,null,null,null,null,null,null,null,null,null,null,null,null,null,null,null,null,null,null,null,null,null,null,null,null,null,null,null,null,null,null,null,null,null,null,null,null,null,null,null,null,null,null,null,null,null,null,null,null,null,null,null,null,null,null,null,null,null,null,null,null,null,null,null,null,null,null,null,null,null,null,null,null,null,null,null,null,null,null,null,null,null,null,null,null,null,null,null,null,null,null,null,null,null,null,null,null,null,null,null,null,null,null,null,null,null,null,null,null,null,null,null,null,null,null,null,null,null,null,null,null,null,null,null,null,null,null,null,null,null,null,null,null,null,null,null,null,null,null,null,null,null,null,null,null,null,null,null,null,null,null,null,null,{"$f":"'Policy dynamic parameters'!$X$42","v":2}]
[{"$f":"IF('Estimating baseline effects'!A188<>\"\", 'Estimating baseline effects'!A188,\"\")","v":0},null,null,null,null,null,null,null,null,null,{"$f":"IF('Estimating baseline effects'!K188<>\"\", 'Estimating baseline effects'!K188,\"\")","v":""},null,null,null,null,null,null,null,null,null,null,null,null,null,null,null,null,null,null,null,null,null,null,null,null,null,null,null,null,null,null,null,null,null,null,null,null,null,null,null,null,null,null,null,null,null,null,null,null,null,null,null,null,null,null,null,null,null,null,null,null,null,null,null,null,null,null,null,null,null,null,null,null,null,null,null,null,null,null,null,null,null,null,null,null,null,null,null,null,null,null,null,null,null,null,null,null,null,null,null,null,null,null,null,null,null,null,null,null,null,null,null,null,null,null,null,null,null,null,null,null,null,null,null,null,null,null,null,null,null,null,null,null,null,null,null,null,null,null,null,null,null,null,null,null,null,null,null,null,null,null,null,null,null,null,null,null,null,null,null,null,null,null,null,null,null,null,null,null,null,null,null,null,null,null,null,null,null,null,null,null,null,null,null,null,null,null,null,null,null,null,null,null,null,null,null,null,null,null,null,null,null,null,null,null,null,null,null,null,null,null,null,null,null,null,null,null,null,null,null,null,null,null,null,null,null,null,null,null,null,null,null,null,null,null,null,null,null,null,null,null,null,null,null,null,null,null,null,null,{"$f":"'Policy dynamic parameters'!$Y$42","v":2}]
[{"$f":"IF('Estimating baseline effects'!A189<>\"\", 'Estimating baseline effects'!A189,\"\")","v":0},null,null,null,null,null,null,null,null,null,{"$f":"IF('Estimating baseline effects'!K189<>\"\", 'Estimating baseline effects'!K189,\"\")","v":""},null,null,null,null,null,null,null,null,null,null,null,null,null,null,null,null,null,null,null,null,null,null,null,null,null,null,null,null,null,null,null,null,null,null,null,null,null,null,null,null,null,null,null,null,null,null,null,null,null,null,null,null,null,null,null,null,null,null,null,null,null,null,null,null,null,null,null,null,null,null,null,null,null,null,null,null,null,null,null,null,null,null,null,null,null,null,null,null,null,null,null,null,null,null,null,null,null,null,null,null,null,null,null,null,null,null,null,null,null,null,null,null,null,null,null,null,null,null,null,null,null,null,null,null,null,null,null,null,null,null,null,null,null,null,null,null,null,null,null,null,null,null,null,null,null,null,null,null,null,null,null,null,null,null,null,null,null,null,null,null,null,null,null,null,null,null,null,null,null,null,null,null,null,null,null,null,null,null,null,null,null,null,null,null,null,null,null,null,null,null,null,null,null,null,null,null,null,null,null,null,null,null,null,null,null,null,null,null,null,null,null,null,null,null,null,null,null,null,null,null,null,null,null,null,null,null,null,null,null,null,null,null,null,null,null,null,null,null,null,null,null,null,null,null,null,null,null,null,null,{"$f":"'Policy dynamic parameters'!$Z$42","v":2}]
[{"$f":"IF('Estimating baseline effects'!A190<>\"\", 'Estimating baseline effects'!A190,\"\")","v":0},null,null,null,null,null,null,null,null,null,{"$f":"IF('Estimating baseline effects'!K190<>\"\", 'Estimating baseline effects'!K190,\"\")","v":""},null,null,null,null,null,null,null,null,null,null,null,null,null,null,null,null,null,null,null,null,null,null,null,null,null,null,null,null,null,null,null,null,null,null,null,null,null,null,null,null,null,null,null,null,null,null,null,null,null,null,null,null,null,null,null,null,null,null,null,null,null,null,null,null,null,null,null,null,null,null,null,null,null,null,null,null,null,null,null,null,null,null,null,null,null,null,null,null,null,null,null,null,null,null,null,null,null,null,null,null,null,null,null,null,null,null,null,null,null,null,null,null,null,null,null,null,null,null,null,null,null,null,null,null,null,null,null,null,null,null,null,null,null,null,null,null,null,null,null,null,null,null,null,null,null,null,null,null,null,null,null,null,null,null,null,null,null,null,null,null,null,null,null,null,null,null,null,null,null,null,null,null,null,null,null,null,null,null,null,null,null,null,null,null,null,null,null,null,null,null,null,null,null,null,null,null,null,null,null,null,null,null,null,null,null,null,null,null,null,null,null,null,null,null,null,null,null,null,null,null,null,null,null,null,null,null,null,null,null,null,null,null,null,null,null,null,null,null,null,null,null,null,null,null,null,null,null,null,null,null,{"$f":"'Policy dynamic parameters'!$AA$42","v":2}]
[{"$f":"IF('Estimating baseline effects'!A191<>\"\", 'Estimating baseline effects'!A191,\"\")","v":0},null,null,null,null,null,null,null,null,null,{"$f":"IF('Estimating baseline effects'!K191<>\"\", 'Estimating baseline effects'!K191,\"\")","v":""},null,null,null,null,null,null,null,null,null,null,null,null,null,null,null,null,null,null,null,null,null,null,null,null,null,null,null,null,null,null,null,null,null,null,null,null,null,null,null,null,null,null,null,null,null,null,null,null,null,null,null,null,null,null,null,null,null,null,null,null,null,null,null,null,null,null,null,null,null,null,null,null,null,null,null,null,null,null,null,null,null,null,null,null,null,null,null,null,null,null,null,null,null,null,null,null,null,null,null,null,null,null,null,null,null,null,null,null,null,null,null,null,null,null,null,null,null,null,null,null,null,null,null,null,null,null,null,null,null,null,null,null,null,null,null,null,null,null,null,null,null,null,null,null,null,null,null,null,null,null,null,null,null,null,null,null,null,null,null,null,null,null,null,null,null,null,null,null,null,null,null,null,null,null,null,null,null,null,null,null,null,null,null,null,null,null,null,null,null,null,null,null,null,null,null,null,null,null,null,null,null,null,null,null,null,null,null,null,null,null,null,null,null,null,null,null,null,null,null,null,null,null,null,null,null,null,null,null,null,null,null,null,null,null,null,null,null,null,null,null,null,null,null,null,null,null,null,null,null,null,null,{"$f":"'Policy dynamic parameters'!$AB$42","v":2}]
[{"$f":"IF('Estimating baseline effects'!A192<>\"\", 'Estimating baseline effects'!A192,\"\")","v":0},null,null,null,null,null,null,null,null,null,{"$f":"IF('Estimating baseline effects'!K192<>\"\", 'Estimating baseline effects'!K192,\"\")","v":""},null,null,null,null,null,null,null,null,null,null,null,null,null,null,null,null,null,null,null,null,null,null,null,null,null,null,null,null,null,null,null,null,null,null,null,null,null,null,null,null,null,null,null,null,null,null,null,null,null,null,null,null,null,null,null,null,null,null,null,null,null,null,null,null,null,null,null,null,null,null,null,null,null,null,null,null,null,null,null,null,null,null,null,null,null,null,null,null,null,null,null,null,null,null,null,null,null,null,null,null,null,null,null,null,null,null,null,null,null,null,null,null,null,null,null,null,null,null,null,null,null,null,null,null,null,null,null,null,null,null,null,null,null,null,null,null,null,null,null,null,null,null,null,null,null,null,null,null,null,null,null,null,null,null,null,null,null,null,null,null,null,null,null,null,null,null,null,null,null,null,null,null,null,null,null,null,null,null,null,null,null,null,null,null,null,null,null,null,null,null,null,null,null,null,null,null,null,null,null,null,null,null,null,null,null,null,null,null,null,null,null,null,null,null,null,null,null,null,null,null,null,null,null,null,null,null,null,null,null,null,null,null,null,null,null,null,null,null,null,null,null,null,null,null,null,null,null,null,null,null,null,null,{"$f":"'Policy dynamic parameters'!$AC$42","v":2}]
[{"$f":"IF('Estimating baseline effects'!A193<>\"\", 'Estimating baseline effects'!A193,\"\")","v":0},null,null,null,null,null,null,null,null,null,{"$f":"IF('Estimating baseline effects'!K193<>\"\", 'Estimating baseline effects'!K193,\"\")","v":""},null,null,null,null,null,null,null,null,null,null,null,null,null,null,null,null,null,null,null,null,null,null,null,null,null,null,null,null,null,null,null,null,null,null,null,null,null,null,null,null,null,null,null,null,null,null,null,null,null,null,null,null,null,null,null,null,null,null,null,null,null,null,null,null,null,null,null,null,null,null,null,null,null,null,null,null,null,null,null,null,null,null,null,null,null,null,null,null,null,null,null,null,null,null,null,null,null,null,null,null,null,null,null,null,null,null,null,null,null,null,null,null,null,null,null,null,null,null,null,null,null,null,null,null,null,null,null,null,null,null,null,null,null,null,null,null,null,null,null,null,null,null,null,null,null,null,null,null,null,null,null,null,null,null,null,null,null,null,null,null,null,null,null,null,null,null,null,null,null,null,null,null,null,null,null,null,null,null,null,null,null,null,null,null,null,null,null,null,null,null,null,null,null,null,null,null,null,null,null,null,null,null,null,null,null,null,null,null,null,null,null,null,null,null,null,null,null,null,null,null,null,null,null,null,null,null,null,null,null,null,null,null,null,null,null,null,null,null,null,null,null,null,null,null,null,null,null,null,null,null,null,null,null,{"$f":"'Policy dynamic parameters'!$AD$42","v":2}]
[{"$f":"IF('Estimating baseline effects'!A194<>\"\", 'Estimating baseline effects'!A194,\"\")","v":0},null,null,null,null,null,null,null,null,null,{"$f":"IF('Estimating baseline effects'!K194<>\"\", 'Estimating baseline effects'!K194,\"\")","v":""},null,null,null,null,null,null,null,null,null,null,null,null,null,null,null,null,null,null,null,null,null,null,null,null,null,null,null,null,null,null,null,null,null,null,null,null,null,null,null,null,null,null,null,null,null,null,null,null,null,null,null,null,null,null,null,null,null,null,null,null,null,null,null,null,null,null,null,null,null,null,null,null,null,null,null,null,null,null,null,null,null,null,null,null,null,null,null,null,null,null,null,null,null,null,null,null,null,null,null,null,null,null,null,null,null,null,null,null,null,null,null,null,null,null,null,null,null,null,null,null,null,null,null,null,null,null,null,null,null,null,null,null,null,null,null,null,null,null,null,null,null,null,null,null,null,null,null,null,null,null,null,null,null,null,null,null,null,null,null,null,null,null,null,null,null,null,null,null,null,null,null,null,null,null,null,null,null,null,null,null,null,null,null,null,null,null,null,null,null,null,null,null,null,null,null,null,null,null,null,null,null,null,null,null,null,null,null,null,null,null,null,null,null,null,null,null,null,null,null,null,null,null,null,null,null,null,null,null,null,null,null,null,null,null,null,null,null,null,null,null,null,null,null,null,null,null,null,null,null,null,null,null,null,null,{"$f":"'Policy dynamic parameters'!$AE$42","v":2}]
[{"$f":"IF('Estimating baseline effects'!A195<>\"\", 'Estimating baseline effects'!A195,\"\")","v":0},null,null,null,null,null,null,null,null,null,{"$f":"IF('Estimating baseline effects'!K195<>\"\", 'Estimating baseline effects'!K195,\"\")","v":""},null,null,null,null,null,null,null,null,null,null,null,null,null,null,null,null,null,null,null,null,null,null,null,null,null,null,null,null,null,null,null,null,null,null,null,null,null,null,null,null,null,null,null,null,null,null,null,null,null,null,null,null,null,null,null,null,null,null,null,null,null,null,null,null,null,null,null,null,null,null,null,null,null,null,null,null,null,null,null,null,null,null,null,null,null,null,null,null,null,null,null,null,null,null,null,null,null,null,null,null,null,null,null,null,null,null,null,null,null,null,null,null,null,null,null,null,null,null,null,null,null,null,null,null,null,null,null,null,null,null,null,null,null,null,null,null,null,null,null,null,null,null,null,null,null,null,null,null,null,null,null,null,null,null,null,null,null,null,null,null,null,null,null,null,null,null,null,null,null,null,null,null,null,null,null,null,null,null,null,null,null,null,null,null,null,null,null,null,null,null,null,null,null,null,null,null,null,null,null,null,null,null,null,null,null,null,null,null,null,null,null,null,null,null,null,null,null,null,null,null,null,null,null,null,null,null,null,null,null,null,null,null,null,null,null,null,null,null,null,null,null,null,null,null,null,null,null,null,null,null,null,null,null,null,null,{"$f":"'Policy dynamic parameters'!$AF$42","v":2}]
[{"$f":"IF('Estimating baseline effects'!A196<>\"\", 'Estimating baseline effects'!A196,\"\")","v":0},null,null,null,null,null,null,null,null,null,{"$f":"IF('Estimating baseline effects'!K196<>\"\", 'Estimating baseline effects'!K196,\"\")","v":""},null,null,null,null,null,null,null,null,null,null,null,null,null,null,null,null,null,null,null,null,null,null,null,null,null,null,null,null,null,null,null,null,null,null,null,null,null,null,null,null,null,null,null,null,null,null,null,null,null,null,null,null,null,null,null,null,null,null,null,null,null,null,null,null,null,null,null,null,null,null,null,null,null,null,null,null,null,null,null,null,null,null,null,null,null,null,null,null,null,null,null,null,null,null,null,null,null,null,null,null,null,null,null,null,null,null,null,null,null,null,null,null,null,null,null,null,null,null,null,null,null,null,null,null,null,null,null,null,null,null,null,null,null,null,null,null,null,null,null,null,null,null,null,null,null,null,null,null,null,null,null,null,null,null,null,null,null,null,null,null,null,null,null,null,null,null,null,null,null,null,null,null,null,null,null,null,null,null,null,null,null,null,null,null,null,null,null,null,null,null,null,null,null,null,null,null,null,null,null,null,null,null,null,null,null,null,null,null,null,null,null,null,null,null,null,null,null,null,null,null,null,null,null,null,null,null,null,null,null,null,null,null,null,null,null,null,null,null,null,null,null,null,null,null,null,null,null,null,null,null,null,null,null,null,null,null,{"$f":"'Policy dynamic parameters'!$AG$42","v":2}]
[{"$f":"IF('Estimating baseline effects'!A197<>\"\", 'Estimating baseline effects'!A197,\"\")","v":0},null,null,null,null,null,null,null,null,null,{"$f":"IF('Estimating baseline effects'!K197<>\"\", 'Estimating baseline effects'!K197,\"\")","v":""},null,null,null,null,null,null,null,null,null,null,null,null,null,null,null,null,null,null,null,null,null,null,null,null,null,null,null,null,null,null,null,null,null,null,null,null,null,null,null,null,null,null,null,null,null,null,null,null,null,null,null,null,null,null,null,null,null,null,null,null,null,null,null,null,null,null,null,null,null,null,null,null,null,null,null,null,null,null,null,null,null,null,null,null,null,null,null,null,null,null,null,null,null,null,null,null,null,null,null,null,null,null,null,null,null,null,null,null,null,null,null,null,null,null,null,null,null,null,null,null,null,null,null,null,null,null,null,null,null,null,null,null,null,null,null,null,null,null,null,null,null,null,null,null,null,null,null,null,null,null,null,null,null,null,null,null,null,null,null,null,null,null,null,null,null,null,null,null,null,null,null,null,null,null,null,null,null,null,null,null,null,null,null,null,null,null,null,null,null,null,null,null,null,null,null,null,null,null,null,null,null,null,null,null,null,null,null,null,null,null,null,null,null,null,null,null,null,null,null,null,null,null,null,null,null,null,null,null,null,null,null,null,null,null,null,null,null,null,null,null,null,null,null,null,null,null,null,null,null,null,null,null,null,null,null,null,null,{"$f":"'Policy dynamic parameters'!$AH$42","v":2}]
[{"$f":"IF('Estimating baseline effects'!A198<>\"\", 'Estimating baseline effects'!A198,\"\")","v":0},null,null,null,null,null,null,null,null,null,{"$f":"IF('Estimating baseline effects'!K198<>\"\", 'Estimating baseline effects'!K198,\"\")","v":""},null,null,null,null,null,null,null,null,null,null,null,null,null,null,null,null,null,null,null,null,null,null,null,null,null,null,null,null,null,null,null,null,null,null,null,null,null,null,null,null,null,null,null,null,null,null,null,null,null,null,null,null,null,null,null,null,null,null,null,null,null,null,null,null,null,null,null,null,null,null,null,null,null,null,null,null,null,null,null,null,null,null,null,null,null,null,null,null,null,null,null,null,null,null,null,null,null,null,null,null,null,null,null,null,null,null,null,null,null,null,null,null,null,null,null,null,null,null,null,null,null,null,null,null,null,null,null,null,null,null,null,null,null,null,null,null,null,null,null,null,null,null,null,null,null,null,null,null,null,null,null,null,null,null,null,null,null,null,null,null,null,null,null,null,null,null,null,null,null,null,null,null,null,null,null,null,null,null,null,null,null,null,null,null,null,null,null,null,null,null,null,null,null,null,null,null,null,null,null,null,null,null,null,null,null,null,null,null,null,null,null,null,null,null,null,null,null,null,null,null,null,null,null,null,null,null,null,null,null,null,null,null,null,null,null,null,null,null,null,null,null,null,null,null,null,null,null,null,null,null,null,null,null,null,null,null,null,null,{"$f":"'Policy dynamic parameters'!$AI$42","v":2}]
[{"$f":"IF('Estimating baseline effects'!A199<>\"\", 'Estimating baseline effects'!A199,\"\")","v":0},null,null,null,null,null,null,null,null,null,{"$f":"IF('Estimating baseline effects'!K199<>\"\", 'Estimating baseline effects'!K199,\"\")","v":""},null,null,null,null,null,null,null,null,null,null,null,null,null,null,null,null,null,null,null,null,null,null,null,null,null,null,null,null,null,null,null,null,null,null,null,null,null,null,null,null,null,null,null,null,null,null,null,null,null,null,null,null,null,null,null,null,null,null,null,null,null,null,null,null,null,null,null,null,null,null,null,null,null,null,null,null,null,null,null,null,null,null,null,null,null,null,null,null,null,null,null,null,null,null,null,null,null,null,null,null,null,null,null,null,null,null,null,null,null,null,null,null,null,null,null,null,null,null,null,null,null,null,null,null,null,null,null,null,null,null,null,null,null,null,null,null,null,null,null,null,null,null,null,null,null,null,null,null,null,null,null,null,null,null,null,null,null,null,null,null,null,null,null,null,null,null,null,null,null,null,null,null,null,null,null,null,null,null,null,null,null,null,null,null,null,null,null,null,null,null,null,null,null,null,null,null,null,null,null,null,null,null,null,null,null,null,null,null,null,null,null,null,null,null,null,null,null,null,null,null,null,null,null,null,null,null,null,null,null,null,null,null,null,null,null,null,null,null,null,null,null,null,null,null,null,null,null,null,null,null,null,null,null,null,null,null,null,null,null,{"$f":"'Policy dynamic parameters'!$AJ$42","v":2}]
[{"$f":"IF('Estimating baseline effects'!A200<>\"\", 'Estimating baseline effects'!A200,\"\")","v":0},null,null,null,null,null,null,null,null,null,{"$f":"IF('Estimating baseline effects'!K200<>\"\", 'Estimating baseline effects'!K200,\"\")","v":""},null,null,null,null,null,null,null,null,null,null,null,null,null,null,null,null,null,null,null,null,null,null,null,null,null,null,null,null,null,null,null,null,null,null,null,null,null,null,null,null,null,null,null,null,null,null,null,null,null,null,null,null,null,null,null,null,null,null,null,null,null,null,null,null,null,null,null,null,null,null,null,null,null,null,null,null,null,null,null,null,null,null,null,null,null,null,null,null,null,null,null,null,null,null,null,null,null,null,null,null,null,null,null,null,null,null,null,null,null,null,null,null,null,null,null,null,null,null,null,null,null,null,null,null,null,null,null,null,null,null,null,null,null,null,null,null,null,null,null,null,null,null,null,null,null,null,null,null,null,null,null,null,null,null,null,null,null,null,null,null,null,null,null,null,null,null,null,null,null,null,null,null,null,null,null,null,null,null,null,null,null,null,null,null,null,null,null,null,null,null,null,null,null,null,null,null,null,null,null,null,null,null,null,null,null,null,null,null,null,null,null,null,null,null,null,null,null,null,null,null,null,null,null,null,null,null,null,null,null,null,null,null,null,null,null,null,null,null,null,null,null,null,null,null,null,null,null,null,null,null,null,null,null,null,null,null,null,null,null,null,{"$f":"'Policy dynamic parameters'!$AK$42","v":2}]
[{"$f":"IF('Estimating baseline effects'!A201<>\"\", 'Estimating baseline effects'!A201,\"\")","v":0},null,null,null,null,null,null,null,null,null,{"$f":"IF('Estimating baseline effects'!K201<>\"\", 'Estimating baseline effects'!K201,\"\")","v":""},null,null,null,null,null,null,null,null,null,null,null,null,null,null,null,null,null,null,null,null,null,null,null,null,null,null,null,null,null,null,null,null,null,null,null,null,null,null,null,null,null,null,null,null,null,null,null,null,null,null,null,null,null,null,null,null,null,null,null,null,null,null,null,null,null,null,null,null,null,null,null,null,null,null,null,null,null,null,null,null,null,null,null,null,null,null,null,null,null,null,null,null,null,null,null,null,null,null,null,null,null,null,null,null,null,null,null,null,null,null,null,null,null,null,null,null,null,null,null,null,null,null,null,null,null,null,null,null,null,null,null,null,null,null,null,null,null,null,null,null,null,null,null,null,null,null,null,null,null,null,null,null,null,null,null,null,null,null,null,null,null,null,null,null,null,null,null,null,null,null,null,null,null,null,null,null,null,null,null,null,null,null,null,null,null,null,null,null,null,null,null,null,null,null,null,null,null,null,null,null,null,null,null,null,null,null,null,null,null,null,null,null,null,null,null,null,null,null,null,null,null,null,null,null,null,null,null,null,null,null,null,null,null,null,null,{"$f":"'Policy dynamic parameters'!$L$47","v":0}]
[{"$f":"IF('Estimating baseline effects'!A202<>\"\", 'Estimating baseline effects'!A202,\"\")","v":0},null,null,null,null,null,null,null,null,null,{"$f":"IF('Estimating baseline effects'!K202<>\"\", 'Estimating baseline effects'!K202,\"\")","v":""},null,null,null,null,null,null,null,null,null,null,null,null,null,null,null,null,null,null,null,null,null,null,null,null,null,null,null,null,null,null,null,null,null,null,null,null,null,null,null,null,null,null,null,null,null,null,null,null,null,null,null,null,null,null,null,null,null,null,null,null,null,null,null,null,null,null,null,null,null,null,null,null,null,null,null,null,null,null,null,null,null,null,null,null,null,null,null,null,null,null,null,null,null,null,null,null,null,null,null,null,null,null,null,null,null,null,null,null,null,null,null,null,null,null,null,null,null,null,null,null,null,null,null,null,null,null,null,null,null,null,null,null,null,null,null,null,null,null,null,null,null,null,null,null,null,null,null,null,null,null,null,null,null,null,null,null,null,null,null,null,null,null,null,null,null,null,null,null,null,null,null,null,null,null,null,null,null,null,null,null,null,null,null,null,null,null,null,null,null,null,null,null,null,null,null,null,null,null,null,null,null,null,null,null,null,null,null,null,null,null,null,null,null,null,null,null,null,null,null,null,null,null,null,null,null,null,null,null,null,null,null,null,null,null,null,null,{"$f":"'Policy dynamic parameters'!$M$47","v":0}]
[{"$f":"IF('Estimating baseline effects'!A203<>\"\", 'Estimating baseline effects'!A203,\"\")","v":0},null,null,null,null,null,null,null,null,null,{"$f":"IF('Estimating baseline effects'!K203<>\"\", 'Estimating baseline effects'!K203,\"\")","v":""},null,null,null,null,null,null,null,null,null,null,null,null,null,null,null,null,null,null,null,null,null,null,null,null,null,null,null,null,null,null,null,null,null,null,null,null,null,null,null,null,null,null,null,null,null,null,null,null,null,null,null,null,null,null,null,null,null,null,null,null,null,null,null,null,null,null,null,null,null,null,null,null,null,null,null,null,null,null,null,null,null,null,null,null,null,null,null,null,null,null,null,null,null,null,null,null,null,null,null,null,null,null,null,null,null,null,null,null,null,null,null,null,null,null,null,null,null,null,null,null,null,null,null,null,null,null,null,null,null,null,null,null,null,null,null,null,null,null,null,null,null,null,null,null,null,null,null,null,null,null,null,null,null,null,null,null,null,null,null,null,null,null,null,null,null,null,null,null,null,null,null,null,null,null,null,null,null,null,null,null,null,null,null,null,null,null,null,null,null,null,null,null,null,null,null,null,null,null,null,null,null,null,null,null,null,null,null,null,null,null,null,null,null,null,null,null,null,null,null,null,null,null,null,null,null,null,null,null,null,null,null,null,null,null,null,null,null,{"$f":"'Policy dynamic parameters'!$N$47","v":0}]
[{"$f":"IF('Estimating baseline effects'!A204<>\"\", 'Estimating baseline effects'!A204,\"\")","v":0},null,null,null,null,null,null,null,null,null,{"$f":"IF('Estimating baseline effects'!K204<>\"\", 'Estimating baseline effects'!K204,\"\")","v":""},null,null,null,null,null,null,null,null,null,null,null,null,null,null,null,null,null,null,null,null,null,null,null,null,null,null,null,null,null,null,null,null,null,null,null,null,null,null,null,null,null,null,null,null,null,null,null,null,null,null,null,null,null,null,null,null,null,null,null,null,null,null,null,null,null,null,null,null,null,null,null,null,null,null,null,null,null,null,null,null,null,null,null,null,null,null,null,null,null,null,null,null,null,null,null,null,null,null,null,null,null,null,null,null,null,null,null,null,null,null,null,null,null,null,null,null,null,null,null,null,null,null,null,null,null,null,null,null,null,null,null,null,null,null,null,null,null,null,null,null,null,null,null,null,null,null,null,null,null,null,null,null,null,null,null,null,null,null,null,null,null,null,null,null,null,null,null,null,null,null,null,null,null,null,null,null,null,null,null,null,null,null,null,null,null,null,null,null,null,null,null,null,null,null,null,null,null,null,null,null,null,null,null,null,null,null,null,null,null,null,null,null,null,null,null,null,null,null,null,null,null,null,null,null,null,null,null,null,null,null,null,null,null,null,null,null,null,null,{"$f":"'Policy dynamic parameters'!$O$47","v":0}]
[{"$f":"IF('Estimating baseline effects'!A205<>\"\", 'Estimating baseline effects'!A205,\"\")","v":0},null,null,null,null,null,null,null,null,null,{"$f":"IF('Estimating baseline effects'!K205<>\"\", 'Estimating baseline effects'!K205,\"\")","v":""},null,null,null,null,null,null,null,null,null,null,null,null,null,null,null,null,null,null,null,null,null,null,null,null,null,null,null,null,null,null,null,null,null,null,null,null,null,null,null,null,null,null,null,null,null,null,null,null,null,null,null,null,null,null,null,null,null,null,null,null,null,null,null,null,null,null,null,null,null,null,null,null,null,null,null,null,null,null,null,null,null,null,null,null,null,null,null,null,null,null,null,null,null,null,null,null,null,null,null,null,null,null,null,null,null,null,null,null,null,null,null,null,null,null,null,null,null,null,null,null,null,null,null,null,null,null,null,null,null,null,null,null,null,null,null,null,null,null,null,null,null,null,null,null,null,null,null,null,null,null,null,null,null,null,null,null,null,null,null,null,null,null,null,null,null,null,null,null,null,null,null,null,null,null,null,null,null,null,null,null,null,null,null,null,null,null,null,null,null,null,null,null,null,null,null,null,null,null,null,null,null,null,null,null,null,null,null,null,null,null,null,null,null,null,null,null,null,null,null,null,null,null,null,null,null,null,null,null,null,null,null,null,null,null,null,null,null,null,null,{"$f":"'Policy dynamic parameters'!$P$47","v":0}]
[{"$f":"IF('Estimating baseline effects'!A206<>\"\", 'Estimating baseline effects'!A206,\"\")","v":0},null,null,null,null,null,null,null,null,null,{"$f":"IF('Estimating baseline effects'!K206<>\"\", 'Estimating baseline effects'!K206,\"\")","v":""},null,null,null,null,null,null,null,null,null,null,null,null,null,null,null,null,null,null,null,null,null,null,null,null,null,null,null,null,null,null,null,null,null,null,null,null,null,null,null,null,null,null,null,null,null,null,null,null,null,null,null,null,null,null,null,null,null,null,null,null,null,null,null,null,null,null,null,null,null,null,null,null,null,null,null,null,null,null,null,null,null,null,null,null,null,null,null,null,null,null,null,null,null,null,null,null,null,null,null,null,null,null,null,null,null,null,null,null,null,null,null,null,null,null,null,null,null,null,null,null,null,null,null,null,null,null,null,null,null,null,null,null,null,null,null,null,null,null,null,null,null,null,null,null,null,null,null,null,null,null,null,null,null,null,null,null,null,null,null,null,null,null,null,null,null,null,null,null,null,null,null,null,null,null,null,null,null,null,null,null,null,null,null,null,null,null,null,null,null,null,null,null,null,null,null,null,null,null,null,null,null,null,null,null,null,null,null,null,null,null,null,null,null,null,null,null,null,null,null,null,null,null,null,null,null,null,null,null,null,null,null,null,null,null,null,null,null,null,null,null,{"$f":"'Policy dynamic parameters'!$Q$47","v":0}]
[{"$f":"IF('Estimating baseline effects'!#REF!<>\"\", 'Estimating baseline effects'!#REF!,\"\")","v":{"$error":"#REF!"}},null,null,null,null,null,null,null,null,null,{"$f":"IF('Estimating baseline effects'!K207<>\"\", 'Estimating baseline effects'!K207,\"\")","v":""},null,null,null,null,null,null,null,null,null,null,null,null,null,null,null,null,null,null,null,null,null,null,null,null,null,null,null,null,null,null,null,null,null,null,null,null,null,null,null,null,null,null,null,null,null,null,null,null,null,null,null,null,null,null,null,null,null,null,null,null,null,null,null,null,null,null,null,null,null,null,null,null,null,null,null,null,null,null,null,null,null,null,null,null,null,null,null,null,null,null,null,null,null,null,null,null,null,null,null,null,null,null,null,null,null,null,null,null,null,null,null,null,null,null,null,null,null,null,null,null,null,null,null,null,null,null,null,null,null,null,null,null,null,null,null,null,null,null,null,null,null,null,null,null,null,null,null,null,null,null,null,null,null,null,null,null,null,null,null,null,null,null,null,null,null,null,null,null,null,null,null,null,null,null,null,null,null,null,null,null,null,null,null,null,null,null,null,null,null,null,null,null,null,null,null,null,null,null,null,null,null,null,null,null,null,null,null,null,null,null,null,null,null,null,null,null,null,null,null,null,null,null,null,null,null,null,null,null,null,null,null,null,null,null,null,null,null,null,null,null,null,{"$f":"'Policy dynamic parameters'!$R$47","v":2}]
[null,"MAXIMUM NUMBER OF EFFECTS"]
[]
[]
[null,null,null,null,null,null,null,null,null,null,null,null,null,null,null,null,{"$f":"IF(B204<>\"\",IF($K$35=\"no\",J204*K204*SUM(R204:IJ204)/1000, SUM(IM204:RD204)*K204/1000), \"\")","v":""}]
[null,null,null,null,null,null,null,null,null,null,null,null,null,null,null,null,""]
[null,null,null,null,null,null,null,null,null,null,null,null,null,null,null,null,""]
[null,null,null,null,null,null,null,null,null,null,null,null,null,null,null,null,""]
[null,null,null,null,null,null,null,null,null,null,null,null,null,null,null,null,""]
[null,null,null,null,null,null,null,null,null,null,null,null,null,null,null,null,""]
[null,null,null,null,null,null,null,null,null,null,null,null,null,null,null,null,""]
[null,null,null,null,null,null,null,null,null,null,null,null,null,null,null,null,""]
[null,null,null,null,null,null,null,null,null,null,null,null,null,null,null,null,""]
[null,null,null,null,null,null,null,null,null,null,null,null,null,null,null,null,""]
[null,null,null,null,null,null,null,null,null,null,null,null,null,null,null,null,""]
[null,null,null,null,null,null,null,null,null,null,null,null,null,null,null,null,""]
[null,null,null,null,null,null,null,null,null,null,null,null,null,null,null,null,""]
[null,null,null,null,null,null,null,null,null,null,null,null,null,null,null,null,""]
[null,null,null,null,null,null,null,null,null,null,null,null,null,null,null,null,""]
[null,null,null,null,null,null,null,null,null,null,null,null,null,null,null,null,""]
[null,null,null,null,null,null,null,null,null,null,null,null,null,null,null,null,""]
[null,null,null,null,null,null,null,null,null,null,null,null,null,null,null,null,""]
[null,null,null,null,null,null,null,null,null,null,null,null,null,null,null,null,""]
[null,null,null,null,null,null,null,null,null,null,null,null,null,null,null,null,""]
[null,null,null,null,null,null,null,null,null,null,null,null,null,null,null,null,""]
[null,null,null,null,null,null,null,null,null,null,null,null,null,null,null,null,""]
[null,null,null,null,null,null,null,null,null,null,null,null,null,null,null,null,""]
[null,null,null,null,null,null,null,null,null,null,null,null,null,null,null,null,""]
[null,null,null,null,null,null,null,null,null,null,null,null,null,null,null,null,""]
[null,null,null,null,null,null,null,null,null,null,null,null,null,null,null,null,""]
[null,null,null,null,null,null,null,null,null,null,null,null,null,null,null,null,{"$f":"IF(B230<>\"\",IF($K$35=\"no\",J230*K230*SUM(R230:IJ230)/1000, SUM(IM230:RD230)*K230/1000), \"\")","v":""}]
[null,null,null,null,null,null,null,null,null,null,null,null,null,null,null,null,""]
[null,null,null,null,null,null,null,null,null,null,null,null,null,null,null,null,""]
[null,null,null,null,null,null,null,null,null,null,null,null,null,null,null,null,""]
[null,null,null,null,null,null,null,null,null,null,null,null,null,null,null,null,""]
[null,null,null,null,null,null,null,null,null,null,null,null,null,null,null,null,""]
[null,null,null,null,null,null,null,null,null,null,null,null,null,null,null,null,""]
[null,null,null,null,null,null,null,null,null,null,null,null,null,null,null,null,""]
[null,null,null,null,null,null,null,null,null,null,null,null,null,null,null,null,""]
[null,null,null,null,null,null,null,null,null,null,null,null,null,null,null,null,""]
[null,null,null,null,null,null,null,null,null,null,null,null,null,null,null,null,""]
[null,null,null,null,null,null,null,null,null,null,null,null,null,null,null,null,""]
[null,null,null,null,null,null,null,null,null,null,null,null,null,null,null,null,""]
[null,null,null,null,null,null,null,null,null,null,null,null,null,null,null,null,""]
[null,null,null,null,null,null,null,null,null,null,null,null,null,null,null,null,""]
[null,null,null,null,null,null,null,null,null,null,null,null,null,null,null,null,""]
[null,null,null,null,null,null,null,null,null,null,null,null,null,null,null,null,""]
[null,null,null,null,null,null,null,null,null,null,null,null,null,null,null,null,""]
[null,null,null,null,null,null,null,null,null,null,null,null,null,null,null,null,""]
[null,null,null,null,null,null,null,null,null,null,null,null,null,null,null,null,""]
[null,null,null,null,null,null,null,null,null,null,null,null,null,null,null,null,""]
[null,null,null,null,null,null,null,null,null,null,null,null,null,null,null,null,""]
[null,null,null,null,null,null,null,null,null,null,null,null,null,null,null,null,""]
[null,null,null,null,null,null,null,null,null,null,null,null,null,null,null,null,""]
[null,null,null,null,null,null,null,null,null,null,null,null,null,null,null,null,""]
[null,null,null,null,null,null,null,null,null,null,null,null,null,null,null,null,""]
[null,null,null,null,null,null,null,null,null,null,null,null,null,null,null,null,""]
[null,null,null,null,null,null,null,null,null,null,null,null,null,null,null,null,""]
[null,null,null,null,null,null,null,null,null,null,null,null,null,null,null,null,""]
[null,null,null,null,null,null,null,null,null,null,null,null,null,null,null,null,""]
[null,null,null,null,null,null,null,null,null,null,null,null,null,null,null,null,""]
[null,null,null,null,null,null,null,null,null,null,null,null,null,null,null,null,""]
[null,null,null,null,null,null,null,null,null,null,null,null,null,null,null,null,""]
[null,null,null,null,null,null,null,null,null,null,null,null,null,null,null,null,""]
[null,null,null,null,null,null,null,null,null,null,null,null,null,null,null,null,""]
[null,null,null,null,null,null,null,null,null,null,null,null,null,null,null,null,""]
[null,null,null,null,null,null,null,null,null,null,null,null,null,null,null,null,""]
[null,null,null,null,null,null,null,null,null,null,null,null,null,null,null,null,""]
[null,null,null,null,null,null,null,null,null,null,null,null,null,null,null,null,""]
[null,null,null,null,null,null,null,null,null,null,null,null,null,null,null,null,""]
[null,null,null,null,null,null,null,null,null,null,null,null,null,null,null,null,""]
[null,null,null,null,null,null,null,null,null,null,null,null,null,null,null,null,""]
[null,null,null,null,null,null,null,null,null,null,null,null,null,null,null,null,""]
[null,null,null,null,null,null,null,null,null,null,null,null,null,null,null,null,""]
[null,null,null,null,null,null,null,null,null,null,null,null,null,null,null,null,""]
[null,null,null,null,null,null,null,null,null,null,null,null,null,null,null,null,""]
[null,null,null,null,null,null,null,null,null,null,null,null,null,null,null,null,""]
[null,null,null,null,null,null,null,null,null,null,null,null,null,null,null,null,""]
[null,null,null,null,null,null,null,null,null,null,null,null,null,null,null,null,""]
[null,null,null,null,null,null,null,null,null,null,null,null,null,null,null,null,""]
[null,null,null,null,null,null,null,null,null,null,null,null,null,null,null,null,""]
[null,null,null,null,null,null,null,null,null,null,null,null,null,null,null,null,""]
[null,null,null,null,null,null,null,null,null,null,null,null,null,null,null,null,""]
[null,null,null,null,null,null,null,null,null,null,null,null,null,null,null,null,""]
[null,null,null,null,null,null,null,null,null,null,null,null,null,null,null,null,""]
[null,null,null,null,null,null,null,null,null,null,null,null,null,null,null,null,""]
[null,null,null,null,null,null,null,null,null,null,null,null,null,null,null,null,""]
[null,null,null,null,null,null,null,null,null,null,null,null,null,null,null,null,""]
[null,null,null,null,null,null,null,null,null,null,null,null,null,null,null,null,""]
[null,null,null,null,null,null,null,null,null,null,null,null,null,null,null,null,""]
[null,null,null,null,null,null,null,null,null,null,null,null,null,null,null,null,""]
[null,null,null,null,null,null,null,null,null,null,null,null,null,null,null,null,""]
[null,null,null,null,null,null,null,null,null,null,null,null,null,null,null,null,""]
[null,null,null,null,null,null,null,null,null,null,null,null,null,null,null,null,""]
[null,null,null,null,null,null,null,null,null,null,null,null,null,null,null,null,{"$f":"IF(B294<>\"\",IF($K$35=\"no\",J294*K294*SUM(R294:IJ294)/1000, SUM(IM294:RD294)*K294/1000), \"\")","v":""}]
[null,null,null,null,null,null,null,null,null,null,null,null,null,null,null,null,""]
[null,null,null,null,null,null,null,null,null,null,null,null,null,null,null,null,""]
[null,null,null,null,null,null,null,null,null,null,null,null,null,null,null,null,""]
[null,null,null,null,null,null,null,null,null,null,null,null,null,null,null,null,""]
[null,null,null,null,null,null,null,null,null,null,null,null,null,null,null,null,""]

{"sheet":"Policy dynamic parameters","index":7,"n_rows":305,"n_cols":238,"rows_kept":305,"cut":false,"hidden":false,"merged":[]}
[null,null,null,null,null,null,null,null,null,null,null,null,null,1,1,1]
[]
[]
[]
[]
[]
[]
[]
[]
[null,"On this page you can set up dynamic values for the parameters in your policy emissions scenario",null,null,null,"Note that custom parameters MUST default to 1 when they are not being used",null,null,null,"Note: this data is used on the"]
[null,null,null,null,null,"Note: Emissions are calculated using the formula: activity data x CP1 x CP2 x CP3 X EF X GWP",null,null,null,"results & uncertainty page"]
[null,{"$f":"'Estimating baseline effects'!B44","v":"GHG effect"},{"$f":"'Estimating baseline effects'!C44","v":"Source/Sink Category"},{"$f":"'Estimating baseline effects'!D44","v":"Source/sink description"},{"$f":"'Estimating baseline effects'!E44","v":"Relevant GHG"},"Parameter Name","Parameter Description","Default Emission Factor value","Use default value?","uncertainty - lower bound","uncertainty -  upper bound",{"$f":"IF('Estimating baseline effects'!Q44<>\"\",'Estimating baseline effects'!Q44,\"\")","v":2020},{"$f":"IF('Estimating baseline effects'!R44<>\"\",'Estimating baseline effects'!R44,\"\")","v":2021},{"$f":"IF('Estimating baseline effects'!S44<>\"\",'Estimating baseline effects'!S44,\"\")","v":2022},{"$f":"IF('Estimating baseline effects'!T44<>\"\",'Estimating baseline effects'!T44,\"\")","v":2023},{"$f":"IF('Estimating baseline effects'!U44<>\"\",'Estimating baseline effects'!U44,\"\")","v":2024},{"$f":"IF('Estimating baseline effects'!V44<>\"\",'Estimating baseline effects'!V44,\"\")","v":2025},{"$f":"IF('Estimating baseline effects'!W44<>\"\",'Estimating baseline effects'!W44,\"\")","v":""},{"$f":"IF('Estimating baseline effects'!X44<>\"\",'Estimating baseline effects'!X44,\"\")","v":""},{"$f":"IF('Estimating baseline effects'!Y44<>\"\",'Estimating baseline effects'!Y44,\"\")","v":""},{"$f":"IF('Estimating baseline effects'!Z44<>\"\",'Estimating baseline effects'!Z44,\"\")","v":""},{"$f":"IF('Estimating baseline effects'!AA44<>\"\",'Estimating baseline effects'!AA44,\"\")","v":""},{"$f":"IF('Estimating baseline effects'!AB44<>\"\",'Estimating baseline effects'!AB44,\"\")","v":""},{"$f":"IF('Estimating baseline effects'!AC44<>\"\",'Estimating baseline effects'!AC44,\"\")","v":""},{"$f":"IF('Estimating baseline effects'!AD44<>\"\",'Estimating baseline effects'!AD44,\"\")","v":""},{"$f":"IF('Estimating baseline effects'!AE44<>\"\",'Estimating baseline effects'!AE44,\"\")","v":""},{"$f":"IF('Estimating baseline effects'!AF44<>\"\",'Estimating baseline effects'!AF44,\"\")","v":""},{"$f":"IF('Estimating baseline effects'!AG44<>\"\",'Estimating baseline effects'!AG44,\"\")","v":""},{"$f":"IF('Estimating baseline effects'!AH44<>\"\",'Estimating baseline effects'!AH44,\"\")","v":""},{"$f":"IF('Estimating baseline effects'!AI44<>\"\",'Estimating baseline effects'!AI44,\"\")","v":""},{"$f":"IF('Estimating baseline effects'!AJ44<>\"\",'Estimating baseline effects'!AJ44,\"\")","v":""},{"$f":"IF('Estimating baseline effects'!AK44<>\"\",'Estimating baseline effects'!AK44,\"\")","v":""},{"$f":"IF('Estimating baseline effects'!AL44<>\"\",'Estimating baseline effects'!AL44,\"\")","v":""},{"$f":"IF('Estimating baseline effects'!AM44<>\"\",'Estimating baseline effects'!AM44,\"\")","v":""},{"$f":"IF('Estimating baseline effects'!AN44<>\"\",'Estimating baseline effects'!AN44,\"\")","v":""},{"$f":"IF('Estimating baseline effects'!AO44<>\"\",'Estimating baseline effects'!AO44,\"\")","v":""},{"$f":"IF('Estimating baseline effects'!AP44<>\"\",'Estimating baseline effects'!AP44,\"\")","v":""},{"$f":"IF('Estimating baseline effects'!AQ44<>\"\",'Estimating baseline effects'!AQ44,\"\")","v":""},{"$f":"IF('Estimating baseline effects'!AR44<>\"\",'Estimating baseline effects'!AR44,\"\")","v":""},{"$f":"IF('Estimating baseline effects'!AS44<>\"\",'Estimating baseline effects'!AS44,\"\")","v":""},{"$f":"IF('Estimating baseline effects'!AT44<>\"\",'Estimating baseline effects'!AT44,\"\")","v":""},{"$f":"IF('Estimating baseline effects'!AU44<>\"\",'Estimating baseline effects'!AU44,\"\")","v":""},{"$f":"IF('Estimating baseline effects'!AV44<>\"\",'Estimating baseline effects'!AV44,\"\")","v":""},{"$f":"IF('Estimating baseline effects'!AW44<>\"\",'Estimating baseline effects'!AW44,\"\")","v":""},{"$f":"IF('Estimating baseline effects'!AX44<>\"\",'Estimating baseline effects'!AX44,\"\")","v":""},{"$f":"IF('Estimating baseline effects'!AY44<>\"\",'Estimating baseline effects'!AY44,\"\")","v":""},{"$f":"IF('Estimating baseline effects'!AZ44<>\"\",'Estimating baseline effects'!AZ44,\"\")","v":""},{"$f":"IF('Estimating baseline effects'!BA44<>\"\",'Estimating baseline effects'!BA44,\"\")","v":""},{"$f":"IF('Estimating baseline effects'!BB44<>\"\",'Estimating baseline effects'!BB44,\"\")","v":""},{"$f":"IF('Estimating baseline effects'!BC44<>\"\",'Estimating baseline effects'!BC44,\"\")","v":""},{"$f":"IF('Estimating baseline effects'!BD44<>\"\",'Estimating baseline effects'!BD44,\"\")","v":""},{"$f":"IF('Estimating baseline effects'!BE44<>\"\",'Estimating baseline effects'!BE44,\"\")","v":""},{"$f":"IF('Estimating baseline effects'!BF44<>\"\",'Estimating baseline effects'!BF44,\"\")","v":""},{"$f":"IF('Estimating baseline effects'!BG44<>\"\",'Estimating baseline effects'!BG44,\"\")","v":""},{"$f":"IF('Estimating baseline effects'!BH44<>\"\",'Estimating baseline effects'!BH44,\"\")","v":""},{"$f":"IF('Estimating baseline effects'!BI44<>\"\",'Estimating baseline effects'!BI44,\"\")","v":""},{"$f":"IF('Estimating baseline effects'!BJ44<>\"\",'Estimating baseline effects'!BJ44,\"\")","v":""},{"$f":"IF('Estimating baseline effects'!BK44<>\"\",'Estimating baseline effects'!BK44,\"\")","v":""},{"$f":"IF('Estimating baseline effects'!BL44<>\"\",'Estimating baseline effects'!BL44,\"\")","v":""},{"$f":"IF('Estimating baseline effects'!BM44<>\"\",'Estimating baseline effects'!BM44,\"\")","v":""},{"$f":"IF('Estimating baseline effects'!BN44<>\"\",'Estimating baseline effects'!BN44,\"\")","v":""},{"$f":"IF('Estimating baseline effects'!BO44<>\"\",'Estimating baseline effects'!BO44,\"\")","v":""},{"$f":"IF('Estimating baseline effects'!BP44<>\"\",'Estimating baseline effects'!BP44,\"\")","v":""},{"$f":"IF('Estimating baseline effects'!BQ44<>\"\",'Estimating baseline effects'!BQ44,\"\")","v":""},{"$f":"IF('Estimating baseline effects'!BR44<>\"\",'Estimating baseline effects'!BR44,\"\")","v":""},{"$f":"IF('Estimating baseline effects'!BS44<>\"\",'Estimating baseline effects'!BS44,\"\")","v":""},{"$f":"IF('Estimating baseline effects'!BT44<>\"\",'Estimating baseline effects'!BT44,\"\")","v":""},{"$f":"IF('Estimating baseline effects'!BU44<>\"\",'Estimating baseline effects'!BU44,\"\")","v":""},{"$f":"IF('Estimating baseline effects'!BV44<>\"\",'Estimating baseline effects'!BV44,\"\")","v":""},{"$f":"IF('Estimating baseline effects'!BW44<>\"\",'Estimating baseline effects'!BW44,\"\")","v":""},{"$f":"IF('Estimating baseline effects'!BX44<>\"\",'Estimating baseline effects'!BX44,\"\")","v":""},{"$f":"IF('Estimating baseline effects'!BY44<>\"\",'Estimating baseline effects'!BY44,\"\")","v":""},{"$f":"IF('Estimating baseline effects'!BZ44<>\"\",'Estimating baseline effects'!BZ44,\"\")","v":""},{"$f":"IF('Estimating baseline effects'!CA44<>\"\",'Estimating baseline effects'!CA44,\"\")","v":""},{"$f":"IF('Estimating baseline effects'!CB44<>\"\",'Estimating baseline effects'!CB44,\"\")","v":""},{"$f":"IF('Estimating baseline effects'!CC44<>\"\",'Estimating baseline effects'!CC44,\"\")","v":""},{"$f":"IF('Estimating baseline effects'!CD44<>\"\",'Estimating baseline effects'!CD44,\"\")","v":""},{"$f":"IF('Estimating baseline effects'!CE44<>\"\",'Estimating baseline effects'!CE44,\"\")","v":""},{"$f":"IF('Estimating baseline effects'!CF44<>\"\",'Estimating baseline effects'!CF44,\"\")","v":""},{"$f":"IF('Estimating baseline effects'!CG44<>\"\",'Estimating baseline effects'!CG44,\"\")","v":""},{"$f":"IF('Estimating baseline effects'!CH44<>\"\",'Estimating baseline effects'!CH44,\"\")","v":""},{"$f":"IF('Estimating baseline effects'!CI44<>\"\",'Estimating baseline effects'!CI44,\"\")","v":""},{"$f":"IF('Estimating baseline effects'!CJ44<>\"\",'Estimating baseline effects'!CJ44,\"\")","v":""},{"$f":"IF('Estimating baseline effects'!CK44<>\"\",'Estimating baseline effects'!CK44,\"\")","v":""},{"$f":"IF('Estimating baseline effects'!CL44<>\"\",'Estimating baseline effects'!CL44,\"\")","v":""},{"$f":"IF('Estimating baseline effects'!CM44<>\"\",'Estimating baseline effects'!CM44,\"\")","v":""},{"$f":"IF('Estimating baseline effects'!CN44<>\"\",'Estimating baseline effects'!CN44,\"\")","v":""},{"$f":"IF('Estimating baseline effects'!CO44<>\"\",'Estimating baseline effects'!CO44,\"\")","v":""},{"$f":"IF('Estimating baseline effects'!CP44<>\"\",'Estimating baseline effects'!CP44,\"\")","v":""},{"$f":"IF('Estimating baseline effects'!CQ44<>\"\",'Estimating baseline effects'!CQ44,\"\")","v":""},{"$f":"IF('Estimating baseline effects'!CR44<>\"\",'Estimating baseline effects'!CR44,\"\")","v":""},{"$f":"IF('Estimating baseline effects'!CS44<>\"\",'Estimating baseline effects'!CS44,\"\")","v":""},{"$f":"IF('Estimating baseline effects'!CT44<>\"\",'Estimating baseline effects'!CT44,\"\")","v":""},{"$f":"IF('Estimating baseline effects'!CU44<>\"\",'Estimating baseline effects'!CU44,\"\")","v":""},{"$f":"IF('Estimating baseline effects'!CV44<>\"\",'Estimating baseline effects'!CV44,\"\")","v":""},{"$f":"IF('Estimating baseline effects'!CW44<>\"\",'Estimating baseline effects'!CW44,\"\")","v":""},{"$f":"IF('Estimating baseline effects'!CX44<>\"\",'Estimating baseline effects'!CX44,\"\")","v":""},{"$f":"IF('Estimating baseline effects'!CY44<>\"\",'Estimating baseline effects'!CY44,\"\")","v":""},{"$f":"IF('Estimating baseline effects'!CZ44<>\"\",'Estimating baseline effects'!CZ44,\"\")","v":""},{"$f":"IF('Estimating baseline effects'!DA44<>\"\",'Estimating baseline effects'!DA44,\"\")","v":""},{"$f":"IF('Estimating baseline effects'!DB44<>\"\",'Estimating baseline effects'!DB44,\"\")","v":""},{"$f":"IF('Estimating baseline effects'!DC44<>\"\",'Estimating baseline effects'!DC44,\"\")","v":""},{"$f":"IF('Estimating baseline effects'!DD44<>\"\",'Estimating baseline effects'!DD44,\"\")","v":""},{"$f":"IF('Estimating baseline effects'!DE44<>\"\",'Estimating baseline effects'!DE44,\"\")","v":""},{"$f":"IF('Estimating baseline effects'!DF44<>\"\",'Estimating baseline effects'!DF44,\"\")","v":""},{"$f":"IF('Estimating baseline effects'!DG44<>\"\",'Estimating baseline effects'!DG44,\"\")","v":""},{"$f":"IF('Estimating baseline effects'!DH44<>\"\",'Estimating baseline effects'!DH44,\"\")","v":""},{"$f":"IF('Estimating baseline effects'!DI44<>\"\",'Estimating baseline effects'!DI44,\"\")","v":""},{"$f":"IF('Estimating baseline effects'!DJ44<>\"\",'Estimating baseline effects'!DJ44,\"\")","v":""},{"$f":"IF('Estimating baseline effects'!DK44<>\"\",'Estimating baseline effects'!DK44,\"\")","v":""},{"$f":"IF('Estimating baseline effects'!DL44<>\"\",'Estimating baseline effects'!DL44,\"\")","v":""},{"$f":"IF('Estimating baseline effects'!DM44<>\"\",'Estimating baseline effects'!DM44,\"\")","v":""},{"$f":"IF('Estimating baseline effects'!DN44<>\"\",'Estimating baseline effects'!DN44,\"\")","v":""},{"$f":"IF('Estimating baseline effects'!DO44<>\"\",'Estimating baseline effects'!DO44,\"\")","v":""},{"$f":"IF('Estimating baseline effects'!DP44<>\"\",'Estimating baseline effects'!DP44,\"\")","v":""},{"$f":"IF('Estimating baseline effects'!DQ44<>\"\",'Estimating baseline effects'!DQ44,\"\")","v":""},{"$f":"IF('Estimating baseline effects'!DR44<>\"\",'Estimating baseline effects'!DR44,\"\")","v":""},{"$f":"IF('Estimating baseline effects'!DS44<>\"\",'Estimating baseline effects'!DS44,\"\")","v":""},{"$f":"IF('Estimating baseline effects'!DT44<>\"\",'Estimating baseline effects'!DT44,\"\")","v":""},{"$f":"IF('Estimating baseline effects'!DU44<>\"\",'Estimating baseline effects'!DU44,\"\")","v":""},{"$f":"IF('Estimating baseline effects'!DV44<>\"\",'Estimating baseline effects'!DV44,\"\")","v":""},{"$f":"IF('Estimating baseline effects'!DW44<>\"\",'Estimating baseline effects'!DW44,\"\")","v":""},{"$f":"IF('Estimating baseline effects'!DX44<>\"\",'Estimating baseline effects'!DX44,\"\")","v":""},{"$f":"IF('Estimating baseline effects'!DY44<>\"\",'Estimating baseline effects'!DY44,\"\")","v":""},{"$f":"IF('Estimating baseline effects'!DZ44<>\"\",'Estimating baseline effects'!DZ44,\"\")","v":""},{"$f":"IF('Estimating baseline effects'!EA44<>\"\",'Estimating baseline effects'!EA44,\"\")","v":""},{"$f":"IF('Estimating baseline effects'!EB44<>\"\",'Estimating baseline effects'!EB44,\"\")","v":""},{"$f":"IF('Estimating baseline effects'!EC44<>\"\",'Estimating baseline effects'!EC44,\"\")","v":""},{"$f":"IF('Estimating baseline effects'!ED44<>\"\",'Estimating baseline effects'!ED44,\"\")","v":""},{"$f":"IF('Estimating baseline effects'!EE44<>\"\",'Estimating baseline effects'!EE44,\"\")","v":""},{"$f":"IF('Estimating baseline effects'!EF44<>\"\",'Estimating baseline effects'!EF44,\"\")","v":""},{"$f":"IF('Estimating baseline effects'!EG44<>\"\",'Estimating baseline effects'!EG44,\"\")","v":""},{"$f":"IF('Estimating baseline effects'!EH44<>\"\",'Estimating baseline effects'!EH44,\"\")","v":""},{"$f":"IF('Estimating baseline effects'!EI44<>\"\",'Estimating baseline effects'!EI44,\"\")","v":""},{"$f":"IF('Estimating baseline effects'!EJ44<>\"\",'Estimating baseline effects'!EJ44,\"\")","v":""},{"$f":"IF('Estimating baseline effects'!EK44<>\"\",'Estimating baseline effects'!EK44,\"\")","v":""},{"$f":"IF('Estimating baseline effects'!EL44<>\"\",'Estimating baseline effects'!EL44,\"\")","v":""},{"$f":"IF('Estimating baseline effects'!EM44<>\"\",'Estimating baseline effects'!EM44,\"\")","v":""},{"$f":"IF('Estimating baseline effects'!EN44<>\"\",'Estimating baseline effects'!EN44,\"\")","v":""},{"$f":"IF('Estimating baseline effects'!EO44<>\"\",'Estimating baseline effects'!EO44,\"\")","v":""},{"$f":"IF('Estimating baseline effects'!EP44<>\"\",'Estimating baseline effects'!EP44,\"\")","v":""},{"$f":"IF('Estimating baseline effects'!EQ44<>\"\",'Estimating baseline effects'!EQ44,\"\")","v":""},{"$f":"IF('Estimating baseline effects'!ER44<>\"\",'Estimating baseline effects'!ER44,\"\")","v":""},{"$f":"IF('Estimating baseline effects'!ES44<>\"\",'Estimating baseline effects'!ES44,\"\")","v":""},{"$f":"IF('Estimating baseline effects'!ET44<>\"\",'Estimating baseline effects'!ET44,\"\")","v":""},{"$f":"IF('Estimating baseline effects'!EU44<>\"\",'Estimating baseline effects'!EU44,\"\")","v":""},{"$f":"IF('Estimating baseline effects'!EV44<>\"\",'Estimating baseline effects'!EV44,\"\")","v":""},{"$f":"IF('Estimating baseline effects'!EW44<>\"\",'Estimating baseline effects'!EW44,\"\")","v":""},{"$f":"IF('Estimating baseline effects'!EX44<>\"\",'Estimating baseline effects'!EX44,\"\")","v":""},{"$f":"IF('Estimating baseline effects'!EY44<>\"\",'Estimating baseline effects'!EY44,\"\")","v":""},{"$f":"IF('Estimating baseline effects'!EZ44<>\"\",'Estimating baseline effects'!EZ44,\"\")","v":""},{"$f":"IF('Estimating baseline effects'!FA44<>\"\",'Estimating baseline effects'!FA44,\"\")","v":""},{"$f":"IF('Estimating baseline effects'!FB44<>\"\",'Estimating baseline effects'!FB44,\"\")","v":""},{"$f":"IF('Estimating baseline effects'!FC44<>\"\",'Estimating baseline effects'!FC44,\"\")","v":""},{"$f":"IF('Estimating baseline effects'!FD44<>\"\",'Estimating baseline effects'!FD44,\"\")","v":""},{"$f":"IF('Estimating baseline effects'!FE44<>\"\",'Estimating baseline effects'!FE44,\"\")","v":""},{"$f":"IF('Estimating baseline effects'!FF44<>\"\",'Estimating baseline effects'!FF44,\"\")","v":""},{"$f":"IF('Estimating baseline effects'!FG44<>\"\",'Estimating baseline effects'!FG44,\"\")","v":""},{"$f":"IF('Estimating baseline effects'!FH44<>\"\",'Estimating baseline effects'!FH44,\"\")","v":""},{"$f":"IF('Estimating baseline effects'!FI44<>\"\",'Estimating baseline effects'!FI44,\"\")","v":""},{"$f":"IF('Estimating baseline effects'!FJ44<>\"\",'Estimating baseline effects'!FJ44,\"\")","v":""},{"$f":"IF('Estimating baseline effects'!FK44<>\"\",'Estimating baseline effects'!FK44,\"\")","v":""},{"$f":"IF('Estimating baseline effects'!FL44<>\"\",'Estimating baseline effects'!FL44,\"\")","v":""},{"$f":"IF('Estimating baseline effects'!FM44<>\"\",'Estimating baseline effects'!FM44,\"\")","v":""},{"$f":"IF('Estimating baseline effects'!FN44<>\"\",'Estimating baseline effects'!FN44,\"\")","v":""},{"$f":"IF('Estimating baseline effects'!FO44<>\"\",'Estimating baseline effects'!FO44,\"\")","v":""},{"$f":"IF('Estimating baseline effects'!FP44<>\"\",'Estimating baseline effects'!FP44,\"\")","v":""},{"$f":"IF('Estimating baseline effects'!FQ44<>\"\",'Estimating baseline effects'!FQ44,\"\")","v":""},{"$f":"IF('Estimating baseline effects'!FR44<>\"\",'Estimating baseline effects'!FR44,\"\")","v":""},{"$f":"IF('Estimating baseline effects'!FS44<>\"\",'Estimating baseline effects'!FS44,\"\")","v":""},{"$f":"IF('Estimating baseline effects'!FT44<>\"\",'Estimating baseline effects'!FT44,\"\")","v":""},{"$f":"IF('Estimating baseline effects'!FU44<>\"\",'Estimating baseline effects'!FU44,\"\")","v":""},{"$f":"IF('Estimating baseline effects'!FV44<>\"\",'Estimating baseline effects'!FV44,\"\")","v":""},{"$f":"IF('Estimating baseline effects'!FW44<>\"\",'Estimating baseline effects'!FW44,\"\")","v":""},{"$f":"IF('Estimating baseline effects'!FX44<>\"\",'Estimating baseline effects'!FX44,\"\")","v":""},{"$f":"IF('Estimating baseline effects'!FY44<>\"\",'Estimating baseline effects'!FY44,\"\")","v":""},{"$f":"IF('Estimating baseline effects'!FZ44<>\"\",'Estimating baseline effects'!FZ44,\"\")","v":""},{"$f":"IF('Estimating baseline effects'!GA44<>\"\",'Estimating baseline effects'!GA44,\"\")","v":""},{"$f":"IF('Estimating baseline effects'!GB44<>\"\",'Estimating baseline effects'!GB44,\"\")","v":""},{"$f":"IF('Estimating baseline effects'!GC44<>\"\",'Estimating baseline effects'!GC44,\"\")","v":""},{"$f":"IF('Estimating baseline effects'!GD44<>\"\",'Estimating baseline effects'!GD44,\"\")","v":""},{"$f":"IF('Estimating baseline effects'!GE44<>\"\",'Estimating baseline effects'!GE44,\"\")","v":""},{"$f":"IF('Estimating baseline effects'!GF44<>\"\",'Estimating baseline effects'!GF44,\"\")","v":""},{"$f":"IF('Estimating baseline effects'!GG44<>\"\",'Estimating baseline effects'!GG44,\"\")","v":""},{"$f":"IF('Estimating baseline effects'!GH44<>\"\",'Estimating baseline effects'!GH44,\"\")","v":""},{"$f":"IF('Estimating baseline effects'!GI44<>\"\",'Estimating baseline effects'!GI44,\"\")","v":""},{"$f":"IF('Estimating baseline effects'!GJ44<>\"\",'Estimating baseline effects'!GJ44,\"\")","v":""},{"$f":"IF('Estimating baseline effects'!GK44<>\"\",'Estimating baseline effects'!GK44,\"\")","v":""},{"$f":"IF('Estimating baseline effects'!GL44<>\"\",'Estimating baseline effects'!GL44,\"\")","v":""},{"$f":"IF('Estimating baseline effects'!GM44<>\"\",'Estimating baseline effects'!GM44,\"\")","v":""},{"$f":"IF('Estimating baseline effects'!GN44<>\"\",'Estimating baseline effects'!GN44,\"\")","v":""},{"$f":"IF('Estimating baseline effects'!GO44<>\"\",'Estimating baseline effects'!GO44,\"\")","v":""},{"$f":"IF('Estimating baseline effects'!GP44<>\"\",'Estimating baseline effects'!GP44,\"\")","v":""},{"$f":"IF('Estimating baseline effects'!GQ44<>\"\",'Estimating baseline effects'!GQ44,\"\")","v":""},{"$f":"IF('Estimating baseline effects'!GR44<>\"\",'Estimating baseline effects'!GR44,\"\")","v":""},{"$f":"IF('Estimating baseline effects'!GS44<>\"\",'Estimating baseline effects'!GS44,\"\")","v":""},{"$f":"IF('Estimating baseline effects'!GT44<>\"\",'Estimating baseline effects'!GT44,\"\")","v":""},{"$f":"IF('Estimating baseline effects'!GU44<>\"\",'Estimating baseline effects'!GU44,\"\")","v":""},{"$f":"IF('Estimating baseline effects'!GV44<>\"\",'Estimating baseline effects'!GV44,\"\")","v":""},{"$f":"IF('Estimating baseline effects'!GW44<>\"\",'Estimating baseline effects'!GW44,\"\")","v":""},{"$f":"IF('Estimating baseline effects'!GX44<>\"\",'Estimating baseline effects'!GX44,\"\")","v":""},{"$f":"IF('Estimating baseline effects'!GY44<>\"\",'Estimating baseline effects'!GY44,\"\")","v":""},{"$f":"IF('Estimating baseline effects'!GZ44<>\"\",'Estimating baseline effects'!GZ44,\"\")","v":""},{"$f":"IF('Estimating baseline effects'!HA44<>\"\",'Estimating baseline effects'!HA44,\"\")","v":""},{"$f":"IF('Estimating baseline effects'!HB44<>\"\",'Estimating baseline effects'!HB44,\"\")","v":""},{"$f":"IF('Estimating baseline effects'!HC44<>\"\",'Estimating baseline effects'!HC44,\"\")","v":""},{"$f":"IF('Estimating baseline effects'!HD44<>\"\",'Estimating baseline effects'!HD44,\"\")","v":""},{"$f":"IF('Estimating baseline effects'!HE44<>\"\",'Estimating baseline effects'!HE44,\"\")","v":""},{"$f":"IF('Estimating baseline effects'!HF44<>\"\",'Estimating baseline effects'!HF44,\"\")","v":""},{"$f":"IF('Estimating baseline effects'!HG44<>\"\",'Estimating baseline effects'!HG44,\"\")","v":""},{"$f":"IF('Estimating baseline effects'!HH44<>\"\",'Estimating baseline effects'!HH44,\"\")","v":""},{"$f":"IF('Estimating baseline effects'!HI44<>\"\",'Estimating baseline effects'!HI44,\"\")","v":""},{"$f":"IF('Estimating baseline effects'!HJ44<>\"\",'Estimating baseline effects'!HJ44,\"\")","v":""},{"$f":"IF('Estimating baseline effects'!HK44<>\"\",'Estimating baseline effects'!HK44,\"\")","v":""},{"$f":"IF('Estimating baseline effects'!HL44<>\"\",'Estimating baseline effects'!HL44,\"\")","v":""},{"$f":"IF('Estimating baseline effects'!HM44<>\"\",'Estimating baseline effects'!HM44,\"\")","v":""},{"$f":"IF('Estimating baseline effects'!HN44<>\"\",'Estimating baseline effects'!HN44,\"\")","v":""},{"$f":"IF('Estimating baseline effects'!HO44<>\"\",'Estimating baseline effects'!HO44,\"\")","v":""},{"$f":"IF('Estimating baseline effects'!HP44<>\"\",'Estimating baseline effects'!HP44,\"\")","v":""},{"$f":"IF('Estimating baseline effects'!HQ44<>\"\",'Estimating baseline effects'!HQ44,\"\")","v":""},{"$f":"IF('Estimating baseline effects'!HR44<>\"\",'Estimating baseline effects'!HR44,\"\")","v":""},{"$f":"IF('Estimating baseline effects'!HS44<>\"\",'Estimating baseline effects'!HS44,\"\")","v":""},{"$f":"IF('Estimating baseline effects'!HT44<>\"\",'Estimating baseline effects'!HT44,\"\")","v":""},{"$f":"IF('Estimating baseline effects'!HU44<>\"\",'Estimating baseline effects'!HU44,\"\")","v":""},{"$f":"IF('Estimating baseline effects'!HV44<>\"\",'Estimating baseline effects'!HV44,\"\")","v":""},{"$f":"IF('Estimating baseline effects'!HW44<>\"\",'Estimating baseline effects'!HW44,\"\")","v":""},{"$f":"IF('Estimating baseline effects'!HX44<>\"\",'Estimating baseline effects'!HX44,\"\")","v":""},{"$f":"IF('Estimating baseline effects'!HY44<>\"\",'Estimating baseline effects'!HY44,\"\")","v":""},{"$f":"IF('Estimating baseline effects'!HZ44<>\"\",'Estimating baseline effects'!HZ44,\"\")","v":""},{"$f":"IF('Estimating baseline effects'!IA44<>\"\",'Estimating baseline effects'!IA44,\"\")","v":""},{"$f":"IF('Estimating baseline effects'!IB44<>\"\",'Estimating baseline effects'!IB44,\"\")","v":""},{"$f":"IF('Estimating baseline effects'!IC44<>\"\",'Estimating baseline effects'!IC44,\"\")","v":""},{"$f":"IF('Estimating baseline effects'!ID44<>\"\",'Estimating baseline effects'!ID44,\"\")","v":""},{"$f":"IF('Estimating baseline effects'!IE44<>\"\",'Estimating baseline effects'!IE44,\"\")","v":""},{"$f":"IF('Estimating baseline effects'!IF44<>\"\",'Estimating baseline effects'!IF44,\"\")","v":""},{"$f":"IF('Estimating baseline effects'!IG44<>\"\",'Estimating baseline effects'!IG44,\"\")","v":""},{"$f":"IF('Estimating baseline effects'!IH44<>\"\",'Estimating baseline effects'!IH44,\"\")","v":""},{"$f":"IF('Estimating baseline effects'!II44<>\"\",'Estimating baseline effects'!II44,\"\")","v":""}]
[null,{"$f":"IF('Baseline dynamic parameters'!B13<>\"\",'Baseline dynamic parameters'!B13,\"\")","v":"example effect 1"},{"$f":"IF('Baseline dynamic parameters'!C13<>\"\",'Baseline dynamic parameters'!C13,\"\")","v":"stationary fossil fuel combustion (source)"},{"$f":"IF('Baseline dynamic parameters'!D13<>\"\",'Baseline dynamic parameters'!D13,\"\")","v":""},{"$f":"IF('Baseline dynamic parameters'!E13<>\"\",'Baseline dynamic parameters'!E13,\"\")","v":"CO2"},{"$f":"IF('Baseline dynamic parameters'!F13<>\"\",'Baseline dynamic parameters'!F13,\"\")","v":"Emission Factor"},null,{"$f":"'Estimate ex ante GHG'!$J$38","v":1000},"yes",0,0,1000,1000,1000,1000,1000,1000,0,0,0,0,0,9.4280004501342773,9.4280004501342773,9.4280004501342773,9.4280004501342773,9.4280004501342773,9.4280004501342773,9.4280004501342773,9.4280004501342773,9.4280004501342773,9.4280004501342773,9.4280004501342773,9.4280004501342773,9.4280004501342773,9.4280004501342773,9.4280004501342773,9.4280004501342773,9.4280004501342773,9.4280004501342773,9.4280004501342773,9.4280004501342773]
[null,{"$f":"IF('Baseline dynamic parameters'!B14<>\"\",'Baseline dynamic parameters'!B14,\"\")","v":""},{"$f":"IF('Baseline dynamic parameters'!C14<>\"\",'Baseline dynamic parameters'!C14,\"\")","v":""},{"$f":"IF('Baseline dynamic parameters'!D14<>\"\",'Baseline dynamic parameters'!D14,\"\")","v":""},{"$f":"IF('Baseline dynamic parameters'!E14<>\"\",'Baseline dynamic parameters'!E14,\"\")","v":""},{"$f":"IF('Baseline dynamic parameters'!F14<>\"\",'Baseline dynamic parameters'!F14,\"\")","v":"Custom Parameter 1"},null,1,"yes",0,0,1,1,1,1,1,1,1,1,1,1,1,1,1,1,1,1,1,1,1,1,1,1,1,1,1,1,1,1,1,1,1]
[null,{"$f":"IF('Baseline dynamic parameters'!B15<>\"\",'Baseline dynamic parameters'!B15,\"\")","v":""},{"$f":"IF('Baseline dynamic parameters'!C15<>\"\",'Baseline dynamic parameters'!C15,\"\")","v":""},{"$f":"IF('Baseline dynamic parameters'!D15<>\"\",'Baseline dynamic parameters'!D15,\"\")","v":""},{"$f":"IF('Baseline dynamic parameters'!E15<>\"\",'Baseline dynamic parameters'!E15,\"\")","v":""},{"$f":"IF('Baseline dynamic parameters'!F15<>\"\",'Baseline dynamic parameters'!F15,\"\")","v":"Custom Parameter 2"},null,1,"yes",0,0,1,1,1,1,1,1,1,1,1,1,1,1,1,1,1,1,1,1,1,1,1,1,1,1,1,1,1,1,1,1,1]
[null,{"$f":"IF('Baseline dynamic parameters'!B16<>\"\",'Baseline dynamic parameters'!B16,\"\")","v":""},{"$f":"IF('Baseline dynamic parameters'!C16<>\"\",'Baseline dynamic parameters'!C16,\"\")","v":""},{"$f":"IF('Baseline dynamic parameters'!D16<>\"\",'Baseline dynamic parameters'!D16,\"\")","v":""},{"$f":"IF('Baseline dynamic parameters'!E16<>\"\",'Baseline dynamic parameters'!E16,\"\")","v":""},{"$f":"IF('Baseline dynamic parameters'!F16<>\"\",'Baseline dynamic parameters'!F16,\"\")","v":"Custom Parameter 3"},null,1,"yes",0,0,1,1,1,1,1,1,1,1,1,1,1,1,1,1,1,1,1,1,1,1,1,1,1,1,1,1,1,1,1,1,1]
[null,{"$f":"IF('Baseline dynamic parameters'!B17<>\"\",'Baseline dynamic parameters'!B17,\"\")","v":""},{"$f":"IF('Baseline dynamic parameters'!C17<>\"\",'Baseline dynamic parameters'!C17,\"\")","v":""},{"$f":"IF('Baseline dynamic parameters'!D17<>\"\",'Baseline dynamic parameters'!D17,\"\")","v":""},{"$f":"IF('Baseline dynamic parameters'!E17<>\"\",'Baseline dynamic parameters'!E17,\"\")","v":""},{"$f":"IF('Baseline dynamic parameters'!F17<>\"\",'Baseline dynamic parameters'!F17,\"\")","v":"calculated"},null,null,null,null,null,{"$f":"INDIRECT(\"R[-1]\",FALSE) * INDIRECT(\"R[-2]\",FALSE) * INDIRECT(\"R[-3]\",FALSE) * INDIRECT(\"R[-4]\",FALSE)","v":1000},1000,1000,1000,1000,1000,{"$f":"INDIRECT(\"R[-1]\",FALSE) * INDIRECT(\"R[-2]\",FALSE) * INDIRECT(\"R[-3]\",FALSE) * INDIRECT(\"R[-4]\",FALSE)","v":0},0,0,0,0,{"$f":"INDIRECT(\"R[-1]\",FALSE) * INDIRECT(\"R[-2]\",FALSE) * INDIRECT(\"R[-3]\",FALSE) * INDIRECT(\"R[-4]\",FALSE)","v":9.4280004501342773},9.4280004501342773,9.4280004501342773,9.4280004501342773,9.4280004501342773,9.4280004501342773,9.4280004501342773,9.4280004501342773,9.4280004501342773,9.4280004501342773,9.4280004501342773,9.4280004501342773,9.4280004501342773,9.4280004501342773,9.4280004501342773,9.4280004501342773,9.4280004501342773,9.4280004501342773,9.4280004501342773,9.4280004501342773]
[null,{"$f":"IF('Baseline dynamic parameters'!B18<>\"\",'Baseline dynamic parameters'!B18,\"\")","v":"example effect 1"},{"$f":"IF('Baseline dynamic parameters'!C18<>\"\",'Baseline dynamic parameters'!C18,\"\")","v":"stationary fossil fuel combustion (source)"},{"$f":"IF('Baseline dynamic parameters'!D18<>\"\",'Baseline dynamic parameters'!D18,\"\")","v":""},{"$f":"IF('Baseline dynamic parameters'!E18<>\"\",'Baseline dynamic parameters'!E18,\"\")","v":"CH4"},{"$f":"IF('Baseline dynamic parameters'!F18<>\"\",'Baseline dynamic parameters'!F18,\"\")","v":"Emission Factor"},null,{"$f":"'Estimate ex ante GHG'!$J$39","v":0},"yes",0,0,0,0,0,0,0,0,0,0,0,0,0,2,2,2,2,2,2,2,2,2,2,2,2,2,2,2,2,2,2,2,2]
[null,{"$f":"IF('Baseline dynamic parameters'!B19<>\"\",'Baseline dynamic parameters'!B19,\"\")","v":""},{"$f":"IF('Baseline dynamic parameters'!C19<>\"\",'Baseline dynamic parameters'!C19,\"\")","v":""},{"$f":"IF('Baseline dynamic parameters'!D19<>\"\",'Baseline dynamic parameters'!D19,\"\")","v":""},{"$f":"IF('Baseline dynamic parameters'!E19<>\"\",'Baseline dynamic parameters'!E19,\"\")","v":""},{"$f":"IF('Baseline dynamic parameters'!F19<>\"\",'Baseline dynamic parameters'!F19,\"\")","v":"Custom Parameter 1"},null,1,"yes",0,0,1,1,1,1,1,1,1,1,1,1,1,1,1,1,1,1,1,1,1,1,1,1,1,1,1,1,1,1,1,1,1]
[null,{"$f":"IF('Baseline dynamic parameters'!B20<>\"\",'Baseline dynamic parameters'!B20,\"\")","v":""},{"$f":"IF('Baseline dynamic parameters'!C20<>\"\",'Baseline dynamic parameters'!C20,\"\")","v":""},{"$f":"IF('Baseline dynamic parameters'!D20<>\"\",'Baseline dynamic parameters'!D20,\"\")","v":""},{"$f":"IF('Baseline dynamic parameters'!E20<>\"\",'Baseline dynamic parameters'!E20,\"\")","v":""},{"$f":"IF('Baseline dynamic parameters'!F20<>\"\",'Baseline dynamic parameters'!F20,\"\")","v":"Custom Parameter 2"},null,1,"yes",0,0,1,1,1,1,1,1,1,1,1,1,1,1,1,1,1,1,1,1,1,1,1,1,1,1,1,1,1,1,1,1,1]
[null,{"$f":"IF('Baseline dynamic parameters'!B21<>\"\",'Baseline dynamic parameters'!B21,\"\")","v":""},{"$f":"IF('Baseline dynamic parameters'!C21<>\"\",'Baseline dynamic parameters'!C21,\"\")","v":""},{"$f":"IF('Baseline dynamic parameters'!D21<>\"\",'Baseline dynamic parameters'!D21,\"\")","v":""},{"$f":"IF('Baseline dynamic parameters'!E21<>\"\",'Baseline dynamic parameters'!E21,\"\")","v":""},{"$f":"IF('Baseline dynamic parameters'!F21<>\"\",'Baseline dynamic parameters'!F21,\"\")","v":"Custom Parameter 3"},null,1,"yes",0,0,1,1,1,1,1,1,1,1,1,1,1,1,1,1,1,1,1,1,1,1,1,1,1,1,1,1,1,1,1,1,1]
[null,{"$f":"IF('Baseline dynamic parameters'!B22<>\"\",'Baseline dynamic parameters'!B22,\"\")","v":""},{"$f":"IF('Baseline dynamic parameters'!C22<>\"\",'Baseline dynamic parameters'!C22,\"\")","v":""},{"$f":"IF('Baseline dynamic parameters'!D22<>\"\",'Baseline dynamic parameters'!D22,\"\")","v":""},{"$f":"IF('Baseline dynamic parameters'!E22<>\"\",'Baseline dynamic parameters'!E22,\"\")","v":""},{"$f":"IF('Baseline dynamic parameters'!F22<>\"\",'Baseline dynamic parameters'!F22,\"\")","v":"calculated"},null,null,null,null,null,{"$f":"INDIRECT(\"R[-1]\",FALSE) * INDIRECT(\"R[-2]\",FALSE) * INDIRECT(\"R[-3]\",FALSE) * INDIRECT(\"R[-4]\",FALSE)","v":0},0,0,0,0,0,{"$f":"INDIRECT(\"R[-1]\",FALSE) * INDIRECT(\"R[-2]\",FALSE) * INDIRECT(\"R[-3]\",FALSE) * INDIRECT(\"R[-4]\",FALSE)","v":0},0,0,0,0,{"$f":"INDIRECT(\"R[-1]\",FALSE) * INDIRECT(\"R[-2]\",FALSE) * INDIRECT(\"R[-3]\",FALSE) * INDIRECT(\"R[-4]\",FALSE)","v":2},2,2,2,2,2,2,2,2,2,2,2,2,2,2,2,2,2,2,2]
[null,{"$f":"IF('Baseline dynamic parameters'!B23<>\"\",'Baseline dynamic parameters'!B23,\"\")","v":"example effect 1"},{"$f":"IF('Baseline dynamic parameters'!C23<>\"\",'Baseline dynamic parameters'!C23,\"\")","v":"stationary fossil fuel combustion (source)"},{"$f":"IF('Baseline dynamic parameters'!D23<>\"\",'Baseline dynamic parameters'!D23,\"\")","v":""},{"$f":"IF('Baseline dynamic parameters'!E23<>\"\",'Baseline dynamic parameters'!E23,\"\")","v":"N2O"},{"$f":"IF('Baseline dynamic parameters'!F23<>\"\",'Baseline dynamic parameters'!F23,\"\")","v":"Emission Factor"},null,{"$f":"'Estimate ex ante GHG'!$J$40","v":0},"yes",0,0,0,0,0,0,0,0,0,0,0,0,0,2,2,2,2,2,2,2,2,2,2,2,2,2,2,2,2,2,2,2,2]
[null,{"$f":"IF('Baseline dynamic parameters'!B24<>\"\",'Baseline dynamic parameters'!B24,\"\")","v":""},{"$f":"IF('Baseline dynamic parameters'!C24<>\"\",'Baseline dynamic parameters'!C24,\"\")","v":""},{"$f":"IF('Baseline dynamic parameters'!D24<>\"\",'Baseline dynamic parameters'!D24,\"\")","v":""},{"$f":"IF('Baseline dynamic parameters'!E24<>\"\",'Baseline dynamic parameters'!E24,\"\")","v":""},{"$f":"IF('Baseline dynamic parameters'!F24<>\"\",'Baseline dynamic parameters'!F24,\"\")","v":"Custom Parameter 1"},null,1,"yes",0,0,1,1,1,1,1,1,1,1,1,1,1,1,1,1,1,1,1,1,1,1,1,1,1,1,1,1,1,1,1,1,1]
[null,{"$f":"IF('Baseline dynamic parameters'!B25<>\"\",'Baseline dynamic parameters'!B25,\"\")","v":""},{"$f":"IF('Baseline dynamic parameters'!C25<>\"\",'Baseline dynamic parameters'!C25,\"\")","v":""},{"$f":"IF('Baseline dynamic parameters'!D25<>\"\",'Baseline dynamic parameters'!D25,\"\")","v":""},{"$f":"IF('Baseline dynamic parameters'!E25<>\"\",'Baseline dynamic parameters'!E25,\"\")","v":""},{"$f":"IF('Baseline dynamic parameters'!F25<>\"\",'Baseline dynamic parameters'!F25,\"\")","v":"Custom Parameter 2"},null,1,"yes",0,0,1,1,1,1,1,1,1,1,1,1,1,1,1,1,1,1,1,1,1,1,1,1,1,1,1,1,1,1,1,1,1]
[null,{"$f":"IF('Baseline dynamic parameters'!B26<>\"\",'Baseline dynamic parameters'!B26,\"\")","v":""},{"$f":"IF('Baseline dynamic parameters'!C26<>\"\",'Baseline dynamic parameters'!C26,\"\")","v":""},{"$f":"IF('Baseline dynamic parameters'!D26<>\"\",'Baseline dynamic parameters'!D26,\"\")","v":""},{"$f":"IF('Baseline dynamic parameters'!E26<>\"\",'Baseline dynamic parameters'!E26,\"\")","v":""},{"$f":"IF('Baseline dynamic parameters'!F26<>\"\",'Baseline dynamic parameters'!F26,\"\")","v":"Custom Parameter 3"},null,1,"yes",0,0,1,1,1,1,1,1,1,1,1,1,1,1,1,1,1,1,1,1,1,1,1,1,1,1,1,1,1,1,1,1,1]
[null,{"$f":"IF('Baseline dynamic parameters'!B27<>\"\",'Baseline dynamic parameters'!B27,\"\")","v":""},{"$f":"IF('Baseline dynamic parameters'!C27<>\"\",'Baseline dynamic parameters'!C27,\"\")","v":""},{"$f":"IF('Baseline dynamic parameters'!D27<>\"\",'Baseline dynamic parameters'!D27,\"\")","v":""},{"$f":"IF('Baseline dynamic parameters'!E27<>\"\",'Baseline dynamic parameters'!E27,\"\")","v":""},{"$f":"IF('Baseline dynamic parameters'!F27<>\"\",'Baseline dynamic parameters'!F27,\"\")","v":"calculated"},null,null,null,null,null,{"$f":"INDIRECT(\"R[-1]\",FALSE) * INDIRECT(\"R[-2]\",FALSE) * INDIRECT(\"R[-3]\",FALSE) * INDIRECT(\"R[-4]\",FALSE)","v":0},0,0,0,0,0,{"$f":"INDIRECT(\"R[-1]\",FALSE) * INDIRECT(\"R[-2]\",FALSE) * INDIRECT(\"R[-3]\",FALSE) * INDIRECT(\"R[-4]\",FALSE)","v":0},0,0,0,0,{"$f":"INDIRECT(\"R[-1]\",FALSE) * INDIRECT(\"R[-2]\",FALSE) * INDIRECT(\"R[-3]\",FALSE) * INDIRECT(\"R[-4]\",FALSE)","v":2},2,2,2,2,2,2,2,2,2,2,2,2,2,2,2,2,2,2,2]
[null,{"$f":"IF('Baseline dynamic parameters'!B28<>\"\",'Baseline dynamic parameters'!B28,\"\")","v":""},{"$f":"IF('Baseline dynamic parameters'!C28<>\"\",'Baseline dynamic parameters'!C28,\"\")","v":""},{"$f":"IF('Baseline dynamic parameters'!D28<>\"\",'Baseline dynamic parameters'!D28,\"\")","v":""},{"$f":"IF('Baseline dynamic parameters'!E28<>\"\",'Baseline dynamic parameters'!E28,\"\")","v":""},{"$f":"IF('Baseline dynamic parameters'!F28<>\"\",'Baseline dynamic parameters'!F28,\"\")","v":""},null,{"$f":"'Estimate ex ante GHG'!$J$41","v":0},null,null,null,0,0,0,0,0,0,0,0,0,0,0,2,2,2,2,2,2,2,2,2,2,2,2,2,2,2,2,2,2,2,2]
[null,{"$f":"IF('Baseline dynamic parameters'!B29<>\"\",'Baseline dynamic parameters'!B29,\"\")","v":""},{"$f":"IF('Baseline dynamic parameters'!C29<>\"\",'Baseline dynamic parameters'!C29,\"\")","v":""},{"$f":"IF('Baseline dynamic parameters'!D29<>\"\",'Baseline dynamic parameters'!D29,\"\")","v":""},{"$f":"IF('Baseline dynamic parameters'!E29<>\"\",'Baseline dynamic parameters'!E29,\"\")","v":""},{"$f":"IF('Baseline dynamic parameters'!F29<>\"\",'Baseline dynamic parameters'!F29,\"\")","v":""},null,1,null,null,null,1,1,1,1,1,1,1,1,1,1,1,1,1,1,1,1,1,1,1,1,1,1,1,1,1,1,1,1,1,1,1]
[null,{"$f":"IF('Baseline dynamic parameters'!B30<>\"\",'Baseline dynamic parameters'!B30,\"\")","v":""},{"$f":"IF('Baseline dynamic parameters'!C30<>\"\",'Baseline dynamic parameters'!C30,\"\")","v":""},{"$f":"IF('Baseline dynamic parameters'!D30<>\"\",'Baseline dynamic parameters'!D30,\"\")","v":""},{"$f":"IF('Baseline dynamic parameters'!E30<>\"\",'Baseline dynamic parameters'!E30,\"\")","v":""},{"$f":"IF('Baseline dynamic parameters'!F30<>\"\",'Baseline dynamic parameters'!F30,\"\")","v":""},null,1,null,null,null,1,1,1,1,1,1,1,1,1,1,1,1,1,1,1,1,1,1,1,1,1,1,1,1,1,1,1,1,1,1,1]
[null,{"$f":"IF('Baseline dynamic parameters'!B31<>\"\",'Baseline dynamic parameters'!B31,\"\")","v":""},{"$f":"IF('Baseline dynamic parameters'!C31<>\"\",'Baseline dynamic parameters'!C31,\"\")","v":""},{"$f":"IF('Baseline dynamic parameters'!D31<>\"\",'Baseline dynamic parameters'!D31,\"\")","v":""},{"$f":"IF('Baseline dynamic parameters'!E31<>\"\",'Baseline dynamic parameters'!E31,\"\")","v":""},{"$f":"IF('Baseline dynamic parameters'!F31<>\"\",'Baseline dynamic parameters'!F31,\"\")","v":""},null,1,null,null,null,1,1,1,1,1,1,1,1,1,1,1,1,1,1,1,1,1,1,1,1,1,1,1,1,1,1,1,1,1,1,1]
[null,{"$f":"IF('Baseline dynamic parameters'!B32<>\"\",'Baseline dynamic parameters'!B32,\"\")","v":""},{"$f":"IF('Baseline dynamic parameters'!C32<>\"\",'Baseline dynamic parameters'!C32,\"\")","v":""},{"$f":"IF('Baseline dynamic parameters'!D32<>\"\",'Baseline dynamic parameters'!D32,\"\")","v":""},{"$f":"IF('Baseline dynamic parameters'!E32<>\"\",'Baseline dynamic parameters'!E32,\"\")","v":""},{"$f":"IF('Baseline dynamic parameters'!F32<>\"\",'Baseline dynamic parameters'!F32,\"\")","v":""},null,null,null,null,null,{"$f":"INDIRECT(\"R[-1]\",FALSE) * INDIRECT(\"R[-2]\",FALSE) * INDIRECT(\"R[-3]\",FALSE) * INDIRECT(\"R[-4]\",FALSE)","v":0},0,0,0,0,0,{"$f":"INDIRECT(\"R[-1]\",FALSE) * INDIRECT(\"R[-2]\",FALSE) * INDIRECT(\"R[-3]\",FALSE) * INDIRECT(\"R[-4]\",FALSE)","v":0},0,0,0,0,{"$f":"INDIRECT(\"R[-1]\",FALSE) * INDIRECT(\"R[-2]\",FALSE) * INDIRECT(\"R[-3]\",FALSE) * INDIRECT(\"R[-4]\",FALSE)","v":2},2,2,2,2,2,2,2,2,2,2,2,2,2,2,2,2,2,2,2]
[null,{"$f":"IF('Baseline dynamic parameters'!B33<>\"\",'Baseline dynamic parameters'!B33,\"\")","v":""},{"$f":"IF('Baseline dynamic parameters'!C33<>\"\",'Baseline dynamic parameters'!C33,\"\")","v":""},{"$f":"IF('Baseline dynamic parameters'!D33<>\"\",'Baseline dynamic parameters'!D33,\"\")","v":""},{"$f":"IF('Baseline dynamic parameters'!E33<>\"\",'Baseline dynamic parameters'!E33,\"\")","v":""},{"$f":"IF('Baseline dynamic parameters'!F33<>\"\",'Baseline dynamic parameters'!F33,\"\")","v":""},null,{"$f":"'Estimate ex ante GHG'!$J$42","v":0},null,null,null,0,0,0,0,0,0,0,0,0,0,0,2,2,2,2,2,2,2,2,2,2,2,2,2,2,2,2,2,2,2,2]
[null,{"$f":"IF('Baseline dynamic parameters'!B34<>\"\",'Baseline dynamic parameters'!B34,\"\")","v":""},{"$f":"IF('Baseline dynamic parameters'!C34<>\"\",'Baseline dynamic parameters'!C34,\"\")","v":""},{"$f":"IF('Baseline dynamic parameters'!D34<>\"\",'Baseline dynamic parameters'!D34,\"\")","v":""},{"$f":"IF('Baseline dynamic parameters'!E34<>\"\",'Baseline dynamic parameters'!E34,\"\")","v":""},{"$f":"IF('Baseline dynamic parameters'!F34<>\"\",'Baseline dynamic parameters'!F34,\"\")","v":""},null,1,null,null,null,1,1,1,1,1,1,1,1,1,1,1,1,1,1,1,1,1,1,1,1,1,1,1,1,1,1,1,1,1,1,1]
[null,{"$f":"IF('Baseline dynamic parameters'!B35<>\"\",'Baseline dynamic parameters'!B35,\"\")","v":""},{"$f":"IF('Baseline dynamic parameters'!C35<>\"\",'Baseline dynamic parameters'!C35,\"\")","v":""},{"$f":"IF('Baseline dynamic parameters'!D35<>\"\",'Baseline dynamic parameters'!D35,\"\")","v":""},{"$f":"IF('Baseline dynamic parameters'!E35<>\"\",'Baseline dynamic parameters'!E35,\"\")","v":""},{"$f":"IF('Baseline dynamic parameters'!F35<>\"\",'Baseline dynamic parameters'!F35,\"\")","v":""},null,1,null,null,null,1,1,1,1,1,1,1,1,1,1,1,1,1,1,1,1,1,1,1,1,1,1,1,1,1,1,1,1,1,1,1]
[null,{"$f":"IF('Baseline dynamic parameters'!B36<>\"\",'Baseline dynamic parameters'!B36,\"\")","v":""},{"$f":"IF('Baseline dynamic parameters'!C36<>\"\",'Baseline dynamic parameters'!C36,\"\")","v":""},{"$f":"IF('Baseline dynamic parameters'!D36<>\"\",'Baseline dynamic parameters'!D36,\"\")","v":""},{"$f":"IF('Baseline dynamic parameters'!E36<>\"\",'Baseline dynamic parameters'!E36,\"\")","v":""},{"$f":"IF('Baseline dynamic parameters'!F36<>\"\",'Baseline dynamic parameters'!F36,\"\")","v":""},null,1,null,null,null,1,1,1,1,1,1,1,1,1,1,1,1,1,1,1,1,1,1,1,1,1,1,1,1,1,1,1,1,1,1,1]
[null,{"$f":"IF('Baseline dynamic parameters'!B37<>\"\",'Baseline dynamic parameters'!B37,\"\")","v":""},{"$f":"IF('Baseline dynamic parameters'!C37<>\"\",'Baseline dynamic parameters'!C37,\"\")","v":""},{"$f":"IF('Baseline dynamic parameters'!D37<>\"\",'Baseline dynamic parameters'!D37,\"\")","v":""},{"$f":"IF('Baseline dynamic parameters'!E37<>\"\",'Baseline dynamic parameters'!E37,\"\")","v":""},{"$f":"IF('Baseline dynamic parameters'!F37<>\"\",'Baseline dynamic parameters'!F37,\"\")","v":""},null,null,null,null,null,{"$f":"INDIRECT(\"R[-1]\",FALSE) * INDIRECT(\"R[-2]\",FALSE) * INDIRECT(\"R[-3]\",FALSE) * INDIRECT(\"R[-4]\",FALSE)","v":0},0,0,0,0,0,{"$f":"INDIRECT(\"R[-1]\",FALSE) * INDIRECT(\"R[-2]\",FALSE) * INDIRECT(\"R[-3]\",FALSE) * INDIRECT(\"R[-4]\",FALSE)","v":0},0,0,0,0,{"$f":"INDIRECT(\"R[-1]\",FALSE) * INDIRECT(\"R[-2]\",FALSE) * INDIRECT(\"R[-3]\",FALSE) * INDIRECT(\"R[-4]\",FALSE)","v":2},2,2,2,2,2,2,2,2,2,2,2,2,2,2,2,2,2,2,2]
[null,{"$f":"IF('Baseline dynamic parameters'!B38<>\"\",'Baseline dynamic parameters'!B38,\"\")","v":""},{"$f":"IF('Baseline dynamic parameters'!C38<>\"\",'Baseline dynamic parameters'!C38,\"\")","v":""},{"$f":"IF('Baseline dynamic parameters'!D38<>\"\",'Baseline dynamic parameters'!D38,\"\")","v":""},{"$f":"IF('Baseline dynamic parameters'!E38<>\"\",'Baseline dynamic parameters'!E38,\"\")","v":""},{"$f":"IF('Baseline dynamic parameters'!F38<>\"\",'Baseline dynamic parameters'!F38,\"\")","v":""},null,{"$f":"'Estimate ex ante GHG'!$J$43","v":0},null,null,null,0,0,0,0,0,0,0,0,0,0,0,2,2,2,2,2,2,2,2,2,2,2,2,2,2,2,2,2,2,2,2]
[null,{"$f":"IF('Baseline dynamic parameters'!B39<>\"\",'Baseline dynamic parameters'!B39,\"\")","v":""},{"$f":"IF('Baseline dynamic parameters'!C39<>\"\",'Baseline dynamic parameters'!C39,\"\")","v":""},{"$f":"IF('Baseline dynamic parameters'!D39<>\"\",'Baseline dynamic parameters'!D39,\"\")","v":""},{"$f":"IF('Baseline dynamic parameters'!E39<>\"\",'Baseline dynamic parameters'!E39,\"\")","v":""},{"$f":"IF('Baseline dynamic parameters'!F39<>\"\",'Baseline dynamic parameters'!F39,\"\")","v":""},null,1,null,null,null,1,1,1,1,1,1,1,1,1,1,1,1,1,1,1,1,1,1,1,1,1,1,1,1,1,1,1,1,1,1,1]
[null,{"$f":"IF('Baseline dynamic parameters'!B40<>\"\",'Baseline dynamic parameters'!B40,\"\")","v":""},{"$f":"IF('Baseline dynamic parameters'!C40<>\"\",'Baseline dynamic parameters'!C40,\"\")","v":""},{"$f":"IF('Baseline dynamic parameters'!D40<>\"\",'Baseline dynamic parameters'!D40,\"\")","v":""},{"$f":"IF('Baseline dynamic parameters'!E40<>\"\",'Baseline dynamic parameters'!E40,\"\")","v":""},{"$f":"IF('Baseline dynamic parameters'!F40<>\"\",'Baseline dynamic parameters'!F40,\"\")","v":""},null,1,null,null,null,1,1,1,1,1,1,1,1,1,1,1,1,1,1,1,1,1,1,1,1,1,1,1,1,1,1,1,1,1,1,1]
[null,{"$f":"IF('Baseline dynamic parameters'!B41<>\"\",'Baseline dynamic parameters'!B41,\"\")","v":""},{"$f":"IF('Baseline dynamic parameters'!C41<>\"\",'Baseline dynamic parameters'!C41,\"\")","v":""},{"$f":"IF('Baseline dynamic parameters'!D41<>\"\",'Baseline dynamic parameters'!D41,\"\")","v":""},{"$f":"IF('Baseline dynamic parameters'!E41<>\"\",'Baseline dynamic parameters'!E41,\"\")","v":""},{"$f":"IF('Baseline dynamic parameters'!F41<>\"\",'Baseline dynamic parameters'!F41,\"\")","v":""},null,1,null,null,null,1,1,1,1,1,1,1,1,1,1,1,1,1,1,1,1,1,1,1,1,1,1,1,1,1,1,1,1,1,1,1]
[null,{"$f":"IF('Baseline dynamic parameters'!B42<>\"\",'Baseline dynamic parameters'!B42,\"\")","v":""},{"$f":"IF('Baseline dynamic parameters'!C42<>\"\",'Baseline dynamic parameters'!C42,\"\")","v":""},{"$f":"IF('Baseline dynamic parameters'!D42<>\"\",'Baseline dynamic parameters'!D42,\"\")","v":""},{"$f":"IF('Baseline dynamic parameters'!E42<>\"\",'Baseline dynamic parameters'!E42,\"\")","v":""},{"$f":"IF('Baseline dynamic parameters'!F42<>\"\",'Baseline dynamic parameters'!F42,\"\")","v":""},null,null,null,null,null,{"$f":"INDIRECT(\"R[-1]\",FALSE) * INDIRECT(\"R[-2]\",FALSE) * INDIRECT(\"R[-3]\",FALSE) * INDIRECT(\"R[-4]\",FALSE)","v":0},0,0,0,0,0,{"$f":"INDIRECT(\"R[-1]\",FALSE) * INDIRECT(\"R[-2]\",FALSE) * INDIRECT(\"R[-3]\",FALSE) * INDIRECT(\"R[-4]\",FALSE)","v":0},0,0,0,{"$f":"INDIRECT(\"R[-1]\",FALSE) * INDIRECT(\"R[-2]\",FALSE) * INDIRECT(\"R[-3]\",FALSE) * INDIRECT(\"R[-4]\",FALSE)","v":0},2,2,2,2,2,2,2,2,2,2,2,2,2,2,2,2,2,2,2,2]
[null,{"$f":"IF('Baseline dynamic parameters'!B43<>\"\",'Baseline dynamic parameters'!B43,\"\")","v":""},{"$f":"IF('Baseline dynamic parameters'!C43<>\"\",'Baseline dynamic parameters'!C43,\"\")","v":""},{"$f":"IF('Baseline dynamic parameters'!D43<>\"\",'Baseline dynamic parameters'!D43,\"\")","v":""},{"$f":"IF('Baseline dynamic parameters'!E43<>\"\",'Baseline dynamic parameters'!E43,\"\")","v":""},{"$f":"IF('Baseline dynamic parameters'!F43<>\"\",'Baseline dynamic parameters'!F43,\"\")","v":""},null,{"$f":"'Estimate ex ante GHG'!$J$44","v":0},null,null,null,0,0,0,0,0,0,2,2,2,2,2,2,2,2,2,2,2,2,2,2,2,2,2,2,2,2,2,2,2,2,2]
[null,{"$f":"IF('Baseline dynamic parameters'!B44<>\"\",'Baseline dynamic parameters'!B44,\"\")","v":""},{"$f":"IF('Baseline dynamic parameters'!C44<>\"\",'Baseline dynamic parameters'!C44,\"\")","v":""},{"$f":"IF('Baseline dynamic parameters'!D44<>\"\",'Baseline dynamic parameters'!D44,\"\")","v":""},{"$f":"IF('Baseline dynamic parameters'!E44<>\"\",'Baseline dynamic parameters'!E44,\"\")","v":""},{"$f":"IF('Baseline dynamic parameters'!F44<>\"\",'Baseline dynamic parameters'!F44,\"\")","v":""},null,1,null,null,null,1,1,1,1,1,1,1,1,1,1,1,1,1,1,1,1,1,1,1,1,1,1,1,1,1,1,1,1,1,1,1]
[null,{"$f":"IF('Baseline dynamic parameters'!B45<>\"\",'Baseline dynamic parameters'!B45,\"\")","v":""},{"$f":"IF('Baseline dynamic parameters'!C45<>\"\",'Baseline dynamic parameters'!C45,\"\")","v":""},{"$f":"IF('Baseline dynamic parameters'!D45<>\"\",'Baseline dynamic parameters'!D45,\"\")","v":""},{"$f":"IF('Baseline dynamic parameters'!E45<>\"\",'Baseline dynamic parameters'!E45,\"\")","v":""},{"$f":"IF('Baseline dynamic parameters'!F45<>\"\",'Baseline dynamic parameters'!F45,\"\")","v":""},null,1,null,null,null,1,1,1,1,1,1,1,1,1,1,1,1,1,1,1,1,1,1,1,1,1,1,1,1,1,1,1,1,1,1,1]
[null,{"$f":"IF('Baseline dynamic parameters'!B46<>\"\",'Baseline dynamic parameters'!B46,\"\")","v":""},{"$f":"IF('Baseline dynamic parameters'!C46<>\"\",'Baseline dynamic parameters'!C46,\"\")","v":""},{"$f":"IF('Baseline dynamic parameters'!D46<>\"\",'Baseline dynamic parameters'!D46,\"\")","v":""},{"$f":"IF('Baseline dynamic parameters'!E46<>\"\",'Baseline dynamic parameters'!E46,\"\")","v":""},{"$f":"IF('Baseline dynamic parameters'!F46<>\"\",'Baseline dynamic parameters'!F46,\"\")","v":""},null,1,null,null,null,1,1,1,1,1,1,1,1,1,1,1,1,1,1,1,1,1,1,1,1,1,1,1,1,1,1,1,1,1,1,1]
[null,{"$f":"IF('Baseline dynamic parameters'!B47<>\"\",'Baseline dynamic parameters'!B47,\"\")","v":""},{"$f":"IF('Baseline dynamic parameters'!C47<>\"\",'Baseline dynamic parameters'!C47,\"\")","v":""},{"$f":"IF('Baseline dynamic parameters'!D47<>\"\",'Baseline dynamic parameters'!D47,\"\")","v":""},{"$f":"IF('Baseline dynamic parameters'!E47<>\"\",'Baseline dynamic parameters'!E47,\"\")","v":""},{"$f":"IF('Baseline dynamic parameters'!F47<>\"\",'Baseline dynamic parameters'!F47,\"\")","v":""},null,null,null,null,null,{"$f":"INDIRECT(\"R[-1]\",FALSE) * INDIRECT(\"R[-2]\",FALSE) * INDIRECT(\"R[-3]\",FALSE) * INDIRECT(\"R[-4]\",FALSE)","v":0},0,0,0,0,0,{"$f":"INDIRECT(\"R[-1]\",FALSE) * INDIRECT(\"R[-2]\",FALSE) * INDIRECT(\"R[-3]\",FALSE) * INDIRECT(\"R[-4]\",FALSE)","v":2},2,2,2,{"$f":"INDIRECT(\"R[-1]\",FALSE) * INDIRECT(\"R[-2]\",FALSE) * INDIRECT(\"R[-3]\",FALSE) * INDIRECT(\"R[-4]\",FALSE)","v":2},2,2,2,2,2,2,2,2,2,2,2,2,2,2,2,2,2,2,2,2]
[null,{"$f":"IF('Baseline dynamic parameters'!B48<>\"\",'Baseline dynamic parameters'!B48,\"\")","v":""},{"$f":"IF('Baseline dynamic parameters'!C48<>\"\",'Baseline dynamic parameters'!C48,\"\")","v":""},{"$f":"IF('Baseline dynamic parameters'!D48<>\"\",'Baseline dynamic parameters'!D48,\"\")","v":""},{"$f":"IF('Baseline dynamic parameters'!E48<>\"\",'Baseline dynamic parameters'!E48,\"\")","v":""},{"$f":"IF('Baseline dynamic parameters'!F48<>\"\",'Baseline dynamic parameters'!F48,\"\")","v":""},null,{"$f":"'Estimate ex ante GHG'!$J$45","v":0},null,null,null,0,0,0,0,0,0,2,2,2,2,2,2,2,2,2,2,2,2,2,2,2,2,2,2,2,2,2,2,2,2,2]
[null,{"$f":"IF('Baseline dynamic parameters'!B49<>\"\",'Baseline dynamic parameters'!B49,\"\")","v":""},{"$f":"IF('Baseline dynamic parameters'!C49<>\"\",'Baseline dynamic parameters'!C49,\"\")","v":""},{"$f":"IF('Baseline dynamic parameters'!D49<>\"\",'Baseline dynamic parameters'!D49,\"\")","v":""},{"$f":"IF('Baseline dynamic parameters'!E49<>\"\",'Baseline dynamic parameters'!E49,\"\")","v":""},{"$f":"IF('Baseline dynamic parameters'!F49<>\"\",'Baseline dynamic parameters'!F49,\"\")","v":""},null,1,null,null,null,1,1,1,1,1,1,1,1,1,1,1,1,1,1,1,1,1,1,1,1,1,1,1,1,1,1,1,1,1,1,1]
[null,{"$f":"IF('Baseline dynamic parameters'!B50<>\"\",'Baseline dynamic parameters'!B50,\"\")","v":""},{"$f":"IF('Baseline dynamic parameters'!C50<>\"\",'Baseline dynamic parameters'!C50,\"\")","v":""},{"$f":"IF('Baseline dynamic parameters'!D50<>\"\",'Baseline dynamic parameters'!D50,\"\")","v":""},{"$f":"IF('Baseline dynamic parameters'!E50<>\"\",'Baseline dynamic parameters'!E50,\"\")","v":""},{"$f":"IF('Baseline dynamic parameters'!F50<>\"\",'Baseline dynamic parameters'!F50,\"\")","v":""},null,1,null,null,null,1,1,1,1,1,1,1,1,1,1,1,1,1,1,1,1,1,1,1,1,1,1,1,1,1,1,1,1,1,1,1]
[null,{"$f":"IF('Baseline dynamic parameters'!B51<>\"\",'Baseline dynamic parameters'!B51,\"\")","v":""},{"$f":"IF('Baseline dynamic parameters'!C51<>\"\",'Baseline dynamic parameters'!C51,\"\")","v":""},{"$f":"IF('Baseline dynamic parameters'!D51<>\"\",'Baseline dynamic parameters'!D51,\"\")","v":""},{"$f":"IF('Baseline dynamic parameters'!E51<>\"\",'Baseline dynamic parameters'!E51,\"\")","v":""},{"$f":"IF('Baseline dynamic parameters'!F51<>\"\",'Baseline dynamic parameters'!F51,\"\")","v":""},null,1,null,null,null,1,1,1,1,1,1,1,1,1,1,1,1,1,1,1,1,1,1,1,1,1,1,1,1,1,1,1,1,1,1,1]
[null,{"$f":"IF('Baseline dynamic parameters'!B52<>\"\",'Baseline dynamic parameters'!B52,\"\")","v":""},{"$f":"IF('Baseline dynamic parameters'!C52<>\"\",'Baseline dynamic parameters'!C52,\"\")","v":""},{"$f":"IF('Baseline dynamic parameters'!D52<>\"\",'Baseline dynamic parameters'!D52,\"\")","v":""},{"$f":"IF('Baseline dynamic parameters'!E52<>\"\",'Baseline dynamic parameters'!E52,\"\")","v":""},{"$f":"IF('Baseline dynamic parameters'!F52<>\"\",'Baseline dynamic parameters'!F52,\"\")","v":""},null,null,null,null,null,{"$f":"INDIRECT(\"R[-1]\",FALSE) * INDIRECT(\"R[-2]\",FALSE) * INDIRECT(\"R[-3]\",FALSE) * INDIRECT(\"R[-4]\",FALSE)","v":0},0,0,0,0,0,{"$f":"INDIRECT(\"R[-1]\",FALSE) * INDIRECT(\"R[-2]\",FALSE) * INDIRECT(\"R[-3]\",FALSE) * INDIRECT(\"R[-4]\",FALSE)","v":2},2,2,2,{"$f":"INDIRECT(\"R[-1]\",FALSE) * INDIRECT(\"R[-2]\",FALSE) * INDIRECT(\"R[-3]\",FALSE) * INDIRECT(\"R[-4]\",FALSE)","v":2},2,2,2,2,2,2,2,2,2,2,2,2,2,2,2,2,2,2,2,2]
[null,{"$f":"IF('Baseline dynamic parameters'!B53<>\"\",'Baseline dynamic parameters'!B53,\"\")","v":""},{"$f":"IF('Baseline dynamic parameters'!C53<>\"\",'Baseline dynamic parameters'!C53,\"\")","v":""},{"$f":"IF('Baseline dynamic parameters'!D53<>\"\",'Baseline dynamic parameters'!D53,\"\")","v":""},{"$f":"IF('Baseline dynamic parameters'!E53<>\"\",'Baseline dynamic parameters'!E53,\"\")","v":""},{"$f":"IF('Baseline dynamic parameters'!F53<>\"\",'Baseline dynamic parameters'!F53,\"\")","v":""},null,{"$f":"'Estimate ex ante GHG'!$J$46","v":0},null,null,null,0,0,0,0,0,0,2,2,2,2,2,2,2,2,2,2,2,2,2,2,2,2,2,2,2,2,2,2,2,2,2]
[null,{"$f":"IF('Baseline dynamic parameters'!B54<>\"\",'Baseline dynamic parameters'!B54,\"\")","v":""},{"$f":"IF('Baseline dynamic parameters'!C54<>\"\",'Baseline dynamic parameters'!C54,\"\")","v":""},{"$f":"IF('Baseline dynamic parameters'!D54<>\"\",'Baseline dynamic parameters'!D54,\"\")","v":""},{"$f":"IF('Baseline dynamic parameters'!E54<>\"\",'Baseline dynamic parameters'!E54,\"\")","v":""},{"$f":"IF('Baseline dynamic parameters'!F54<>\"\",'Baseline dynamic parameters'!F54,\"\")","v":""},null,1,null,null,null,1,1,1,1,1,1,1,1,1,1,1,1,1,1,1,1,1,1,1,1,1,1,1,1,1,1,1,1,1,1,1]
[null,{"$f":"IF('Baseline dynamic parameters'!B55<>\"\",'Baseline dynamic parameters'!B55,\"\")","v":""},{"$f":"IF('Baseline dynamic parameters'!C55<>\"\",'Baseline dynamic parameters'!C55,\"\")","v":""},{"$f":"IF('Baseline dynamic parameters'!D55<>\"\",'Baseline dynamic parameters'!D55,\"\")","v":""},{"$f":"IF('Baseline dynamic parameters'!E55<>\"\",'Baseline dynamic parameters'!E55,\"\")","v":""},{"$f":"IF('Baseline dynamic parameters'!F55<>\"\",'Baseline dynamic parameters'!F55,\"\")","v":""},null,1,null,null,null,1,1,1,1,1,1,1,1,1,1,1,1,1,1,1,1,1,1,1,1,1,1,1,1,1,1,1,1,1,1,1]
[null,{"$f":"IF('Baseline dynamic parameters'!B56<>\"\",'Baseline dynamic parameters'!B56,\"\")","v":""},{"$f":"IF('Baseline dynamic parameters'!C56<>\"\",'Baseline dynamic parameters'!C56,\"\")","v":""},{"$f":"IF('Baseline dynamic parameters'!D56<>\"\",'Baseline dynamic parameters'!D56,\"\")","v":""},{"$f":"IF('Baseline dynamic parameters'!E56<>\"\",'Baseline dynamic parameters'!E56,\"\")","v":""},{"$f":"IF('Baseline dynamic parameters'!F56<>\"\",'Baseline dynamic parameters'!F56,\"\")","v":""},null,1,null,null,null,1,1,1,1,1,1,1,1,1,1,1,1,1,1,1,1,1,1,1,1,1,1,1,1,1,1,1,1,1,1,1]
[null,{"$f":"IF('Baseline dynamic parameters'!B57<>\"\",'Baseline dynamic parameters'!B57,\"\")","v":""},{"$f":"IF('Baseline dynamic parameters'!C57<>\"\",'Baseline dynamic parameters'!C57,\"\")","v":""},{"$f":"IF('Baseline dynamic parameters'!D57<>\"\",'Baseline dynamic parameters'!D57,\"\")","v":""},{"$f":"IF('Baseline dynamic parameters'!E57<>\"\",'Baseline dynamic parameters'!E57,\"\")","v":""},{"$f":"IF('Baseline dynamic parameters'!F57<>\"\",'Baseline dynamic parameters'!F57,\"\")","v":""},null,null,null,null,null,{"$f":"INDIRECT(\"R[-1]\",FALSE) * INDIRECT(\"R[-2]\",FALSE) * INDIRECT(\"R[-3]\",FALSE) * INDIRECT(\"R[-4]\",FALSE)","v":0},0,0,0,0,0,2,2,2,2,2,2,2,2,2,2,2,2,2,2,2,2,2,2,2,2,2,2,2,2,2]
[null,{"$f":"IF('Baseline dynamic parameters'!B58<>\"\",'Baseline dynamic parameters'!B58,\"\")","v":""},{"$f":"IF('Baseline dynamic parameters'!C58<>\"\",'Baseline dynamic parameters'!C58,\"\")","v":""},{"$f":"IF('Baseline dynamic parameters'!D58<>\"\",'Baseline dynamic parameters'!D58,\"\")","v":""},{"$f":"IF('Baseline dynamic parameters'!E58<>\"\",'Baseline dynamic parameters'!E58,\"\")","v":""},{"$f":"IF('Baseline dynamic parameters'!F58<>\"\",'Baseline dynamic parameters'!F58,\"\")","v":""},null,{"$f":"'Estimate ex ante GHG'!$J$47","v":0},null,null,null,1,1,1,1,1,1]
[null,{"$f":"IF('Baseline dynamic parameters'!B59<>\"\",'Baseline dynamic parameters'!B59,\"\")","v":""},{"$f":"IF('Baseline dynamic parameters'!C59<>\"\",'Baseline dynamic parameters'!C59,\"\")","v":""},{"$f":"IF('Baseline dynamic parameters'!D59<>\"\",'Baseline dynamic parameters'!D59,\"\")","v":""},{"$f":"IF('Baseline dynamic parameters'!E59<>\"\",'Baseline dynamic parameters'!E59,\"\")","v":""},{"$f":"IF('Baseline dynamic parameters'!F59<>\"\",'Baseline dynamic parameters'!F59,\"\")","v":""},null,1,null,null,null,1,1,1,1,1,1]
[null,{"$f":"IF('Baseline dynamic parameters'!B60<>\"\",'Baseline dynamic parameters'!B60,\"\")","v":""},{"$f":"IF('Baseline dynamic parameters'!C60<>\"\",'Baseline dynamic parameters'!C60,\"\")","v":""},{"$f":"IF('Baseline dynamic parameters'!D60<>\"\",'Baseline dynamic parameters'!D60,\"\")","v":""},{"$f":"IF('Baseline dynamic parameters'!E60<>\"\",'Baseline dynamic parameters'!E60,\"\")","v":""},{"$f":"IF('Baseline dynamic parameters'!F60<>\"\",'Baseline dynamic parameters'!F60,\"\")","v":""},null,1]
[null,{"$f":"IF('Baseline dynamic parameters'!B61<>\"\",'Baseline dynamic parameters'!B61,\"\")","v":""},{"$f":"IF('Baseline dynamic parameters'!C61<>\"\",'Baseline dynamic parameters'!C61,\"\")","v":""},{"$f":"IF('Baseline dynamic parameters'!D61<>\"\",'Baseline dynamic parameters'!D61,\"\")","v":""},{"$f":"IF('Baseline dynamic parameters'!E61<>\"\",'Baseline dynamic parameters'!E61,\"\")","v":""},{"$f":"IF('Baseline dynamic parameters'!F61<>\"\",'Baseline dynamic parameters'!F61,\"\")","v":""},null,1]
[null,{"$f":"IF('Baseline dynamic parameters'!B62<>\"\",'Baseline dynamic parameters'!B62,\"\")","v":""},{"$f":"IF('Baseline dynamic parameters'!C62<>\"\",'Baseline dynamic parameters'!C62,\"\")","v":""},{"$f":"IF('Baseline dynamic parameters'!D62<>\"\",'Baseline dynamic parameters'!D62,\"\")","v":""},{"$f":"IF('Baseline dynamic parameters'!E62<>\"\",'Baseline dynamic parameters'!E62,\"\")","v":""},{"$f":"IF('Baseline dynamic parameters'!F62<>\"\",'Baseline dynamic parameters'!F62,\"\")","v":""}]
[null,{"$f":"IF('Baseline dynamic parameters'!B63<>\"\",'Baseline dynamic parameters'!B63,\"\")","v":""},{"$f":"IF('Baseline dynamic parameters'!C63<>\"\",'Baseline dynamic parameters'!C63,\"\")","v":""},{"$f":"IF('Baseline dynamic parameters'!D63<>\"\",'Baseline dynamic parameters'!D63,\"\")","v":""},{"$f":"IF('Baseline dynamic parameters'!E63<>\"\",'Baseline dynamic parameters'!E63,\"\")","v":""},{"$f":"IF('Baseline dynamic parameters'!F63<>\"\",'Baseline dynamic parameters'!F63,\"\")","v":""},null,{"$f":"'Estimate ex ante GHG'!$J$48","v":0}]
[null,{"$f":"IF('Baseline dynamic parameters'!B64<>\"\",'Baseline dynamic parameters'!B64,\"\")","v":""},{"$f":"IF('Baseline dynamic parameters'!C64<>\"\",'Baseline dynamic parameters'!C64,\"\")","v":""},{"$f":"IF('Baseline dynamic parameters'!D64<>\"\",'Baseline dynamic parameters'!D64,\"\")","v":""},{"$f":"IF('Baseline dynamic parameters'!E64<>\"\",'Baseline dynamic parameters'!E64,\"\")","v":""},{"$f":"IF('Baseline dynamic parameters'!F64<>\"\",'Baseline dynamic parameters'!F64,\"\")","v":""},null,1]
[null,{"$f":"IF('Baseline dynamic parameters'!B65<>\"\",'Baseline dynamic parameters'!B65,\"\")","v":""},{"$f":"IF('Baseline dynamic parameters'!C65<>\"\",'Baseline dynamic parameters'!C65,\"\")","v":""},{"$f":"IF('Baseline dynamic parameters'!D65<>\"\",'Baseline dynamic parameters'!D65,\"\")","v":""},{"$f":"IF('Baseline dynamic parameters'!E65<>\"\",'Baseline dynamic parameters'!E65,\"\")","v":""},{"$f":"IF('Baseline dynamic parameters'!F65<>\"\",'Baseline dynamic parameters'!F65,\"\")","v":""},null,1]
[null,{"$f":"IF('Baseline dynamic parameters'!B66<>\"\",'Baseline dynamic parameters'!B66,\"\")","v":""},{"$f":"IF('Baseline dynamic parameters'!C66<>\"\",'Baseline dynamic parameters'!C66,\"\")","v":""},{"$f":"IF('Baseline dynamic parameters'!D66<>\"\",'Baseline dynamic parameters'!D66,\"\")","v":""},{"$f":"IF('Baseline dynamic parameters'!E66<>\"\",'Baseline dynamic parameters'!E66,\"\")","v":""},{"$f":"IF('Baseline dynamic parameters'!F66<>\"\",'Baseline dynamic parameters'!F66,\"\")","v":""},null,1]
[null,{"$f":"IF('Baseline dynamic parameters'!B67<>\"\",'Baseline dynamic parameters'!B67,\"\")","v":""},{"$f":"IF('Baseline dynamic parameters'!C67<>\"\",'Baseline dynamic parameters'!C67,\"\")","v":""},{"$f":"IF('Baseline dynamic parameters'!D67<>\"\",'Baseline dynamic parameters'!D67,\"\")","v":""},{"$f":"IF('Baseline dynamic parameters'!E67<>\"\",'Baseline dynamic parameters'!E67,\"\")","v":""},{"$f":"IF('Baseline dynamic parameters'!F67<>\"\",'Baseline dynamic parameters'!F67,\"\")","v":""}]
[null,{"$f":"IF('Baseline dynamic parameters'!B68<>\"\",'Baseline dynamic parameters'!B68,\"\")","v":""},{"$f":"IF('Baseline dynamic parameters'!C68<>\"\",'Baseline dynamic parameters'!C68,\"\")","v":""},{"$f":"IF('Baseline dynamic parameters'!D68<>\"\",'Baseline dynamic parameters'!D68,\"\")","v":""},{"$f":"IF('Baseline dynamic parameters'!E68<>\"\",'Baseline dynamic parameters'!E68,\"\")","v":""},{"$f":"IF('Baseline dynamic parameters'!F68<>\"\",'Baseline dynamic parameters'!F68,\"\")","v":""},null,{"$f":"'Estimate ex ante GHG'!$J$49","v":0}]
[null,{"$f":"IF('Baseline dynamic parameters'!B69<>\"\",'Baseline dynamic parameters'!B69,\"\")","v":""},{"$f":"IF('Baseline dynamic parameters'!C69<>\"\",'Baseline dynamic parameters'!C69,\"\")","v":""},{"$f":"IF('Baseline dynamic parameters'!D69<>\"\",'Baseline dynamic parameters'!D69,\"\")","v":""},{"$f":"IF('Baseline dynamic parameters'!E69<>\"\",'Baseline dynamic parameters'!E69,\"\")","v":""},{"$f":"IF('Baseline dynamic parameters'!F69<>\"\",'Baseline dynamic parameters'!F69,\"\")","v":""},null,1]
[null,{"$f":"IF('Baseline dynamic parameters'!B70<>\"\",'Baseline dynamic parameters'!B70,\"\")","v":""},{"$f":"IF('Baseline dynamic parameters'!C70<>\"\",'Baseline dynamic parameters'!C70,\"\")","v":""},{"$f":"IF('Baseline dynamic parameters'!D70<>\"\",'Baseline dynamic parameters'!D70,\"\")","v":""},{"$f":"IF('Baseline dynamic parameters'!E70<>\"\",'Baseline dynamic parameters'!E70,\"\")","v":""},{"$f":"IF('Baseline dynamic parameters'!F70<>\"\",'Baseline dynamic parameters'!F70,\"\")","v":""},null,1]
[null,{"$f":"IF('Baseline dynamic parameters'!B71<>\"\",'Baseline dynamic parameters'!B71,\"\")","v":""},{"$f":"IF('Baseline dynamic parameters'!C71<>\"\",'Baseline dynamic parameters'!C71,\"\")","v":""},{"$f":"IF('Baseline dynamic parameters'!D71<>\"\",'Baseline dynamic parameters'!D71,\"\")","v":""},{"$f":"IF('Baseline dynamic parameters'!E71<>\"\",'Baseline dynamic parameters'!E71,\"\")","v":""},{"$f":"IF('Baseline dynamic parameters'!F71<>\"\",'Baseline dynamic parameters'!F71,\"\")","v":""},null,1]
[null,{"$f":"IF('Baseline dynamic parameters'!B72<>\"\",'Baseline dynamic parameters'!B72,\"\")","v":""},{"$f":"IF('Baseline dynamic parameters'!C72<>\"\",'Baseline dynamic parameters'!C72,\"\")","v":""},{"$f":"IF('Baseline dynamic parameters'!D72<>\"\",'Baseline dynamic parameters'!D72,\"\")","v":""},{"$f":"IF('Baseline dynamic parameters'!E72<>\"\",'Baseline dynamic parameters'!E72,\"\")","v":""},{"$f":"IF('Baseline dynamic parameters'!F72<>\"\",'Baseline dynamic parameters'!F72,\"\")","v":""}]
[null,{"$f":"IF('Baseline dynamic parameters'!B73<>\"\",'Baseline dynamic parameters'!B73,\"\")","v":""},{"$f":"IF('Baseline dynamic parameters'!C73<>\"\",'Baseline dynamic parameters'!C73,\"\")","v":""},{"$f":"IF('Baseline dynamic parameters'!D73<>\"\",'Baseline dynamic parameters'!D73,\"\")","v":""},{"$f":"IF('Baseline dynamic parameters'!E73<>\"\",'Baseline dynamic parameters'!E73,\"\")","v":""},{"$f":"IF('Baseline dynamic parameters'!F73<>\"\",'Baseline dynamic parameters'!F73,\"\")","v":""},null,{"$f":"'Estimate ex ante GHG'!$J$50","v":0}]
[null,{"$f":"IF('Baseline dynamic parameters'!B74<>\"\",'Baseline dynamic parameters'!B74,\"\")","v":""},{"$f":"IF('Baseline dynamic parameters'!C74<>\"\",'Baseline dynamic parameters'!C74,\"\")","v":""},{"$f":"IF('Baseline dynamic parameters'!D74<>\"\",'Baseline dynamic parameters'!D74,\"\")","v":""},{"$f":"IF('Baseline dynamic parameters'!E74<>\"\",'Baseline dynamic parameters'!E74,\"\")","v":""},{"$f":"IF('Baseline dynamic parameters'!F74<>\"\",'Baseline dynamic parameters'!F74,\"\")","v":""},null,1]
[null,{"$f":"IF('Baseline dynamic parameters'!B75<>\"\",'Baseline dynamic parameters'!B75,\"\")","v":""},{"$f":"IF('Baseline dynamic parameters'!C75<>\"\",'Baseline dynamic parameters'!C75,\"\")","v":""},{"$f":"IF('Baseline dynamic parameters'!D75<>\"\",'Baseline dynamic parameters'!D75,\"\")","v":""},{"$f":"IF('Baseline dynamic parameters'!E75<>\"\",'Baseline dynamic parameters'!E75,\"\")","v":""},{"$f":"IF('Baseline dynamic parameters'!F75<>\"\",'Baseline dynamic parameters'!F75,\"\")","v":""},null,1]
[null,{"$f":"IF('Baseline dynamic parameters'!B76<>\"\",'Baseline dynamic parameters'!B76,\"\")","v":""},{"$f":"IF('Baseline dynamic parameters'!C76<>\"\",'Baseline dynamic parameters'!C76,\"\")","v":""},{"$f":"IF('Baseline dynamic parameters'!D76<>\"\",'Baseline dynamic parameters'!D76,\"\")","v":""},{"$f":"IF('Baseline dynamic parameters'!E76<>\"\",'Baseline dynamic parameters'!E76,\"\")","v":""},{"$f":"IF('Baseline dynamic parameters'!F76<>\"\",'Baseline dynamic parameters'!F76,\"\")","v":""},null,1]
[null,{"$f":"IF('Baseline dynamic parameters'!B77<>\"\",'Baseline dynamic parameters'!B77,\"\")","v":""},{"$f":"IF('Baseline dynamic parameters'!C77<>\"\",'Baseline dynamic parameters'!C77,\"\")","v":""},{"$f":"IF('Baseline dynamic parameters'!D77<>\"\",'Baseline dynamic parameters'!D77,\"\")","v":""},{"$f":"IF('Baseline dynamic parameters'!E77<>\"\",'Baseline dynamic parameters'!E77,\"\")","v":""},{"$f":"IF('Baseline dynamic parameters'!F77<>\"\",'Baseline dynamic parameters'!F77,\"\")","v":""}]
[null,{"$f":"IF('Baseline dynamic parameters'!B78<>\"\",'Baseline dynamic parameters'!B78,\"\")","v":""},{"$f":"IF('Baseline dynamic parameters'!C78<>\"\",'Baseline dynamic parameters'!C78,\"\")","v":""},{"$f":"IF('Baseline dynamic parameters'!D78<>\"\",'Baseline dynamic parameters'!D78,\"\")","v":""},{"$f":"IF('Baseline dynamic parameters'!E78<>\"\",'Baseline dynamic parameters'!E78,\"\")","v":""},{"$f":"IF('Baseline dynamic parameters'!F78<>\"\",'Baseline dynamic parameters'!F78,\"\")","v":""},null,{"$f":"'Estimate ex ante GHG'!$J$51","v":0}]
[null,{"$f":"IF('Baseline dynamic parameters'!B79<>\"\",'Baseline dynamic parameters'!B79,\"\")","v":""},{"$f":"IF('Baseline dynamic parameters'!C79<>\"\",'Baseline dynamic parameters'!C79,\"\")","v":""},{"$f":"IF('Baseline dynamic parameters'!D79<>\"\",'Baseline dynamic parameters'!D79,\"\")","v":""},{"$f":"IF('Baseline dynamic parameters'!E79<>\"\",'Baseline dynamic parameters'!E79,\"\")","v":""},{"$f":"IF('Baseline dynamic parameters'!F79<>\"\",'Baseline dynamic parameters'!F79,\"\")","v":""},null,1]
[null,{"$f":"IF('Baseline dynamic parameters'!B80<>\"\",'Baseline dynamic parameters'!B80,\"\")","v":""},{"$f":"IF('Baseline dynamic parameters'!C80<>\"\",'Baseline dynamic parameters'!C80,\"\")","v":""},{"$f":"IF('Baseline dynamic parameters'!D80<>\"\",'Baseline dynamic parameters'!D80,\"\")","v":""},{"$f":"IF('Baseline dynamic parameters'!E80<>\"\",'Baseline dynamic parameters'!E80,\"\")","v":""},{"$f":"IF('Baseline dynamic parameters'!F80<>\"\",'Baseline dynamic parameters'!F80,\"\")","v":""},null,1]
[null,{"$f":"IF('Baseline dynamic parameters'!B81<>\"\",'Baseline dynamic parameters'!B81,\"\")","v":""},{"$f":"IF('Baseline dynamic parameters'!C81<>\"\",'Baseline dynamic parameters'!C81,\"\")","v":""},{"$f":"IF('Baseline dynamic parameters'!D81<>\"\",'Baseline dynamic parameters'!D81,\"\")","v":""},{"$f":"IF('Baseline dynamic parameters'!E81<>\"\",'Baseline dynamic parameters'!E81,\"\")","v":""},{"$f":"IF('Baseline dynamic parameters'!F81<>\"\",'Baseline dynamic parameters'!F81,\"\")","v":""},null,1]
[null,{"$f":"IF('Baseline dynamic parameters'!B82<>\"\",'Baseline dynamic parameters'!B82,\"\")","v":""},{"$f":"IF('Baseline dynamic parameters'!C82<>\"\",'Baseline dynamic parameters'!C82,\"\")","v":""},{"$f":"IF('Baseline dynamic parameters'!D82<>\"\",'Baseline dynamic parameters'!D82,\"\")","v":""},{"$f":"IF('Baseline dynamic parameters'!E82<>\"\",'Baseline dynamic parameters'!E82,\"\")","v":""},{"$f":"IF('Baseline dynamic parameters'!F82<>\"\",'Baseline dynamic parameters'!F82,\"\")","v":""}]
[null,{"$f":"IF('Baseline dynamic parameters'!B83<>\"\",'Baseline dynamic parameters'!B83,\"\")","v":""},{"$f":"IF('Baseline dynamic parameters'!C83<>\"\",'Baseline dynamic parameters'!C83,\"\")","v":""},{"$f":"IF('Baseline dynamic parameters'!D83<>\"\",'Baseline dynamic parameters'!D83,\"\")","v":""},{"$f":"IF('Baseline dynamic parameters'!E83<>\"\",'Baseline dynamic parameters'!E83,\"\")","v":""},{"$f":"IF('Baseline dynamic parameters'!F83<>\"\",'Baseline dynamic parameters'!F83,\"\")","v":""},null,{"$f":"'Estimate ex ante GHG'!$J$52","v":0}]
[null,{"$f":"IF('Baseline dynamic parameters'!B84<>\"\",'Baseline dynamic parameters'!B84,\"\")","v":""},{"$f":"IF('Baseline dynamic parameters'!C84<>\"\",'Baseline dynamic parameters'!C84,\"\")","v":""},{"$f":"IF('Baseline dynamic parameters'!D84<>\"\",'Baseline dynamic parameters'!D84,\"\")","v":""},{"$f":"IF('Baseline dynamic parameters'!E84<>\"\",'Baseline dynamic parameters'!E84,\"\")","v":""},{"$f":"IF('Baseline dynamic parameters'!F84<>\"\",'Baseline dynamic parameters'!F84,\"\")","v":""},null,1]
[null,{"$f":"IF('Baseline dynamic parameters'!B85<>\"\",'Baseline dynamic parameters'!B85,\"\")","v":""},{"$f":"IF('Baseline dynamic parameters'!C85<>\"\",'Baseline dynamic parameters'!C85,\"\")","v":""},{"$f":"IF('Baseline dynamic parameters'!D85<>\"\",'Baseline dynamic parameters'!D85,\"\")","v":""},{"$f":"IF('Baseline dynamic parameters'!E85<>\"\",'Baseline dynamic parameters'!E85,\"\")","v":""},{"$f":"IF('Baseline dynamic parameters'!F85<>\"\",'Baseline dynamic parameters'!F85,\"\")","v":""},null,1]
[null,{"$f":"IF('Baseline dynamic parameters'!B86<>\"\",'Baseline dynamic parameters'!B86,\"\")","v":""},{"$f":"IF('Baseline dynamic parameters'!C86<>\"\",'Baseline dynamic parameters'!C86,\"\")","v":""},{"$f":"IF('Baseline dynamic parameters'!D86<>\"\",'Baseline dynamic parameters'!D86,\"\")","v":""},{"$f":"IF('Baseline dynamic parameters'!E86<>\"\",'Baseline dynamic parameters'!E86,\"\")","v":""},{"$f":"IF('Baseline dynamic parameters'!F86<>\"\",'Baseline dynamic parameters'!F86,\"\")","v":""},null,1]
[null,{"$f":"IF('Baseline dynamic parameters'!B87<>\"\",'Baseline dynamic parameters'!B87,\"\")","v":""},{"$f":"IF('Baseline dynamic parameters'!C87<>\"\",'Baseline dynamic parameters'!C87,\"\")","v":""},{"$f":"IF('Baseline dynamic parameters'!D87<>\"\",'Baseline dynamic parameters'!D87,\"\")","v":""},{"$f":"IF('Baseline dynamic parameters'!E87<>\"\",'Baseline dynamic parameters'!E87,\"\")","v":""},{"$f":"IF('Baseline dynamic parameters'!F87<>\"\",'Baseline dynamic parameters'!F87,\"\")","v":""}]
[null,{"$f":"IF('Baseline dynamic parameters'!B88<>\"\",'Baseline dynamic parameters'!B88,\"\")","v":""},{"$f":"IF('Baseline dynamic parameters'!C88<>\"\",'Baseline dynamic parameters'!C88,\"\")","v":""},{"$f":"IF('Baseline dynamic parameters'!D88<>\"\",'Baseline dynamic parameters'!D88,\"\")","v":""},{"$f":"IF('Baseline dynamic parameters'!E88<>\"\",'Baseline dynamic parameters'!E88,\"\")","v":""},{"$f":"IF('Baseline dynamic parameters'!F88<>\"\",'Baseline dynamic parameters'!F88,\"\")","v":""},null,{"$f":"'Estimate ex ante GHG'!$J$53","v":0}]
[null,{"$f":"IF('Baseline dynamic parameters'!B89<>\"\",'Baseline dynamic parameters'!B89,\"\")","v":""},{"$f":"IF('Baseline dynamic parameters'!C89<>\"\",'Baseline dynamic parameters'!C89,\"\")","v":""},{"$f":"IF('Baseline dynamic parameters'!D89<>\"\",'Baseline dynamic parameters'!D89,\"\")","v":""},{"$f":"IF('Baseline dynamic parameters'!E89<>\"\",'Baseline dynamic parameters'!E89,\"\")","v":""},{"$f":"IF('Baseline dynamic parameters'!F89<>\"\",'Baseline dynamic parameters'!F89,\"\")","v":""},null,1]
[null,{"$f":"IF('Baseline dynamic parameters'!B90<>\"\",'Baseline dynamic parameters'!B90,\"\")","v":""},{"$f":"IF('Baseline dynamic parameters'!C90<>\"\",'Baseline dynamic parameters'!C90,\"\")","v":""},{"$f":"IF('Baseline dynamic parameters'!D90<>\"\",'Baseline dynamic parameters'!D90,\"\")","v":""},{"$f":"IF('Baseline dynamic parameters'!E90<>\"\",'Baseline dynamic parameters'!E90,\"\")","v":""},{"$f":"IF('Baseline dynamic parameters'!F90<>\"\",'Baseline dynamic parameters'!F90,\"\")","v":""},null,1]
[null,{"$f":"IF('Baseline dynamic parameters'!B91<>\"\",'Baseline dynamic parameters'!B91,\"\")","v":""},{"$f":"IF('Baseline dynamic parameters'!C91<>\"\",'Baseline dynamic parameters'!C91,\"\")","v":""},{"$f":"IF('Baseline dynamic parameters'!D91<>\"\",'Baseline dynamic parameters'!D91,\"\")","v":""},{"$f":"IF('Baseline dynamic parameters'!E91<>\"\",'Baseline dynamic parameters'!E91,\"\")","v":""},{"$f":"IF('Baseline dynamic parameters'!F91<>\"\",'Baseline dynamic parameters'!F91,\"\")","v":""},null,1]
[null,{"$f":"IF('Baseline dynamic parameters'!B92<>\"\",'Baseline dynamic parameters'!B92,\"\")","v":""},{"$f":"IF('Baseline dynamic parameters'!C92<>\"\",'Baseline dynamic parameters'!C92,\"\")","v":""},{"$f":"IF('Baseline dynamic parameters'!D92<>\"\",'Baseline dynamic parameters'!D92,\"\")","v":""},{"$f":"IF('Baseline dynamic parameters'!E92<>\"\",'Baseline dynamic parameters'!E92,\"\")","v":""},{"$f":"IF('Baseline dynamic parameters'!F92<>\"\",'Baseline dynamic parameters'!F92,\"\")","v":""}]
[null,{"$f":"IF('Baseline dynamic parameters'!B93<>\"\",'Baseline dynamic parameters'!B93,\"\")","v":""},{"$f":"IF('Baseline dynamic parameters'!C93<>\"\",'Baseline dynamic parameters'!C93,\"\")","v":""},{"$f":"IF('Baseline dynamic parameters'!D93<>\"\",'Baseline dynamic parameters'!D93,\"\")","v":""},{"$f":"IF('Baseline dynamic parameters'!E93<>\"\",'Baseline dynamic parameters'!E93,\"\")","v":""},{"$f":"IF('Baseline dynamic parameters'!F93<>\"\",'Baseline dynamic parameters'!F93,\"\")","v":""},null,{"$f":"'Estimate ex ante GHG'!$J$54","v":0}]
[null,{"$f":"IF('Baseline dynamic parameters'!B94<>\"\",'Baseline dynamic parameters'!B94,\"\")","v":""},{"$f":"IF('Baseline dynamic parameters'!C94<>\"\",'Baseline dynamic parameters'!C94,\"\")","v":""},{"$f":"IF('Baseline dynamic parameters'!D94<>\"\",'Baseline dynamic parameters'!D94,\"\")","v":""},{"$f":"IF('Baseline dynamic parameters'!E94<>\"\",'Baseline dynamic parameters'!E94,\"\")","v":""},{"$f":"IF('Baseline dynamic parameters'!F94<>\"\",'Baseline dynamic parameters'!F94,\"\")","v":""},null,1]
[null,{"$f":"IF('Baseline dynamic parameters'!B95<>\"\",'Baseline dynamic parameters'!B95,\"\")","v":""},{"$f":"IF('Baseline dynamic parameters'!C95<>\"\",'Baseline dynamic parameters'!C95,\"\")","v":""},{"$f":"IF('Baseline dynamic parameters'!D95<>\"\",'Baseline dynamic parameters'!D95,\"\")","v":""},{"$f":"IF('Baseline dynamic parameters'!E95<>\"\",'Baseline dynamic parameters'!E95,\"\")","v":""},{"$f":"IF('Baseline dynamic parameters'!F95<>\"\",'Baseline dynamic parameters'!F95,\"\")","v":""},null,1]
[null,{"$f":"IF('Baseline dynamic parameters'!B96<>\"\",'Baseline dynamic parameters'!B96,\"\")","v":""},{"$f":"IF('Baseline dynamic parameters'!C96<>\"\",'Baseline dynamic parameters'!C96,\"\")","v":""},{"$f":"IF('Baseline dynamic parameters'!D96<>\"\",'Baseline dynamic parameters'!D96,\"\")","v":""},{"$f":"IF('Baseline dynamic parameters'!E96<>\"\",'Baseline dynamic parameters'!E96,\"\")","v":""},{"$f":"IF('Baseline dynamic parameters'!F96<>\"\",'Baseline dynamic parameters'!F96,\"\")","v":""},null,1]
[null,{"$f":"IF('Baseline dynamic parameters'!B97<>\"\",'Baseline dynamic parameters'!B97,\"\")","v":""},{"$f":"IF('Baseline dynamic parameters'!C97<>\"\",'Baseline dynamic parameters'!C97,\"\")","v":""},{"$f":"IF('Baseline dynamic parameters'!D97<>\"\",'Baseline dynamic parameters'!D97,\"\")","v":""},{"$f":"IF('Baseline dynamic parameters'!E97<>\"\",'Baseline dynamic parameters'!E97,\"\")","v":""},{"$f":"IF('Baseline dynamic parameters'!F97<>\"\",'Baseline dynamic parameters'!F97,\"\")","v":""}]
[null,{"$f":"IF('Baseline dynamic parameters'!B98<>\"\",'Baseline dynamic parameters'!B98,\"\")","v":""},{"$f":"IF('Baseline dynamic parameters'!C98<>\"\",'Baseline dynamic parameters'!C98,\"\")","v":""},{"$f":"IF('Baseline dynamic parameters'!D98<>\"\",'Baseline dynamic parameters'!D98,\"\")","v":""},{"$f":"IF('Baseline dynamic parameters'!E98<>\"\",'Baseline dynamic parameters'!E98,\"\")","v":""},{"$f":"IF('Baseline dynamic parameters'!F98<>\"\",'Baseline dynamic parameters'!F98,\"\")","v":""},null,{"$f":"'Estimate ex ante GHG'!$J$55","v":0}]
[null,{"$f":"IF('Baseline dynamic parameters'!B99<>\"\",'Baseline dynamic parameters'!B99,\"\")","v":""},{"$f":"IF('Baseline dynamic parameters'!C99<>\"\",'Baseline dynamic parameters'!C99,\"\")","v":""},{"$f":"IF('Baseline dynamic parameters'!D99<>\"\",'Baseline dynamic parameters'!D99,\"\")","v":""},{"$f":"IF('Baseline dynamic parameters'!E99<>\"\",'Baseline dynamic parameters'!E99,\"\")","v":""},{"$f":"IF('Baseline dynamic parameters'!F99<>\"\",'Baseline dynamic parameters'!F99,\"\")","v":""},null,1]
[null,{"$f":"IF('Baseline dynamic parameters'!B100<>\"\",'Baseline dynamic parameters'!B100,\"\")","v":""},{"$f":"IF('Baseline dynamic parameters'!C100<>\"\",'Baseline dynamic parameters'!C100,\"\")","v":""},{"$f":"IF('Baseline dynamic parameters'!D100<>\"\",'Baseline dynamic parameters'!D100,\"\")","v":""},{"$f":"IF('Baseline dynamic parameters'!E100<>\"\",'Baseline dynamic parameters'!E100,\"\")","v":""},{"$f":"IF('Baseline dynamic parameters'!F100<>\"\",'Baseline dynamic parameters'!F100,\"\")","v":""},null,1]
[null,{"$f":"IF('Baseline dynamic parameters'!B101<>\"\",'Baseline dynamic parameters'!B101,\"\")","v":""},{"$f":"IF('Baseline dynamic parameters'!C101<>\"\",'Baseline dynamic parameters'!C101,\"\")","v":""},{"$f":"IF('Baseline dynamic parameters'!D101<>\"\",'Baseline dynamic parameters'!D101,\"\")","v":""},{"$f":"IF('Baseline dynamic parameters'!E101<>\"\",'Baseline dynamic parameters'!E101,\"\")","v":""},{"$f":"IF('Baseline dynamic parameters'!F101<>\"\",'Baseline dynamic parameters'!F101,\"\")","v":""},null,1]
[null,{"$f":"IF('Baseline dynamic parameters'!B102<>\"\",'Baseline dynamic parameters'!B102,\"\")","v":""},{"$f":"IF('Baseline dynamic parameters'!C102<>\"\",'Baseline dynamic parameters'!C102,\"\")","v":""},{"$f":"IF('Baseline dynamic parameters'!D102<>\"\",'Baseline dynamic parameters'!D102,\"\")","v":""},{"$f":"IF('Baseline dynamic parameters'!E102<>\"\",'Baseline dynamic parameters'!E102,\"\")","v":""},{"$f":"IF('Baseline dynamic parameters'!F102<>\"\",'Baseline dynamic parameters'!F102,\"\")","v":""}]
[null,{"$f":"IF('Baseline dynamic parameters'!B103<>\"\",'Baseline dynamic parameters'!B103,\"\")","v":""},{"$f":"IF('Baseline dynamic parameters'!C103<>\"\",'Baseline dynamic parameters'!C103,\"\")","v":""},{"$f":"IF('Baseline dynamic parameters'!D103<>\"\",'Baseline dynamic parameters'!D103,\"\")","v":""},{"$f":"IF('Baseline dynamic parameters'!E103<>\"\",'Baseline dynamic parameters'!E103,\"\")","v":""},{"$f":"IF('Baseline dynamic parameters'!F103<>\"\",'Baseline dynamic parameters'!F103,\"\")","v":""},null,{"$f":"'Estimate ex ante GHG'!$J$56","v":0}]
[null,{"$f":"IF('Baseline dynamic parameters'!B104<>\"\",'Baseline dynamic parameters'!B104,\"\")","v":""},{"$f":"IF('Baseline dynamic parameters'!C104<>\"\",'Baseline dynamic parameters'!C104,\"\")","v":""},{"$f":"IF('Baseline dynamic parameters'!D104<>\"\",'Baseline dynamic parameters'!D104,\"\")","v":""},{"$f":"IF('Baseline dynamic parameters'!E104<>\"\",'Baseline dynamic parameters'!E104,\"\")","v":""},{"$f":"IF('Baseline dynamic parameters'!F104<>\"\",'Baseline dynamic parameters'!F104,\"\")","v":""},null,1]
[null,{"$f":"IF('Baseline dynamic parameters'!B105<>\"\",'Baseline dynamic parameters'!B105,\"\")","v":""},{"$f":"IF('Baseline dynamic parameters'!C105<>\"\",'Baseline dynamic parameters'!C105,\"\")","v":""},{"$f":"IF('Baseline dynamic parameters'!D105<>\"\",'Baseline dynamic parameters'!D105,\"\")","v":""},{"$f":"IF('Baseline dynamic parameters'!E105<>\"\",'Baseline dynamic parameters'!E105,\"\")","v":""},{"$f":"IF('Baseline dynamic parameters'!F105<>\"\",'Baseline dynamic parameters'!F105,\"\")","v":""},null,1]
[null,{"$f":"IF('Baseline dynamic parameters'!B106<>\"\",'Baseline dynamic parameters'!B106,\"\")","v":""},{"$f":"IF('Baseline dynamic parameters'!C106<>\"\",'Baseline dynamic parameters'!C106,\"\")","v":""},{"$f":"IF('Baseline dynamic parameters'!D106<>\"\",'Baseline dynamic parameters'!D106,\"\")","v":""},{"$f":"IF('Baseline dynamic parameters'!E106<>\"\",'Baseline dynamic parameters'!E106,\"\")","v":""},{"$f":"IF('Baseline dynamic parameters'!F106<>\"\",'Baseline dynamic parameters'!F106,\"\")","v":""},null,1]
[null,{"$f":"IF('Baseline dynamic parameters'!B107<>\"\",'Baseline dynamic parameters'!B107,\"\")","v":""},{"$f":"IF('Baseline dynamic parameters'!C107<>\"\",'Baseline dynamic parameters'!C107,\"\")","v":""},{"$f":"IF('Baseline dynamic parameters'!D107<>\"\",'Baseline dynamic parameters'!D107,\"\")","v":""},{"$f":"IF('Baseline dynamic parameters'!E107<>\"\",'Baseline dynamic parameters'!E107,\"\")","v":""},{"$f":"IF('Baseline dynamic parameters'!F107<>\"\",'Baseline dynamic parameters'!F107,\"\")","v":""}]
[null,{"$f":"IF('Baseline dynamic parameters'!B108<>\"\",'Baseline dynamic parameters'!B108,\"\")","v":""},{"$f":"IF('Baseline dynamic parameters'!C108<>\"\",'Baseline dynamic parameters'!C108,\"\")","v":""},{"$f":"IF('Baseline dynamic parameters'!D108<>\"\",'Baseline dynamic parameters'!D108,\"\")","v":""},{"$f":"IF('Baseline dynamic parameters'!E108<>\"\",'Baseline dynamic parameters'!E108,\"\")","v":""},{"$f":"IF('Baseline dynamic parameters'!F108<>\"\",'Baseline dynamic parameters'!F108,\"\")","v":""},null,{"$f":"'Estimate ex ante GHG'!$J$57","v":0}]
[null,{"$f":"IF('Baseline dynamic parameters'!B109<>\"\",'Baseline dynamic parameters'!B109,\"\")","v":""},{"$f":"IF('Baseline dynamic parameters'!C109<>\"\",'Baseline dynamic parameters'!C109,\"\")","v":""},{"$f":"IF('Baseline dynamic parameters'!D109<>\"\",'Baseline dynamic parameters'!D109,\"\")","v":""},{"$f":"IF('Baseline dynamic parameters'!E109<>\"\",'Baseline dynamic parameters'!E109,\"\")","v":""},{"$f":"IF('Baseline dynamic parameters'!F109<>\"\",'Baseline dynamic parameters'!F109,\"\")","v":""},null,1]
[null,{"$f":"IF('Baseline dynamic parameters'!B110<>\"\",'Baseline dynamic parameters'!B110,\"\")","v":""},{"$f":"IF('Baseline dynamic parameters'!C110<>\"\",'Baseline dynamic parameters'!C110,\"\")","v":""},{"$f":"IF('Baseline dynamic parameters'!D110<>\"\",'Baseline dynamic parameters'!D110,\"\")","v":""},{"$f":"IF('Baseline dynamic parameters'!E110<>\"\",'Baseline dynamic parameters'!E110,\"\")","v":""},{"$f":"IF('Baseline dynamic parameters'!F110<>\"\",'Baseline dynamic parameters'!F110,\"\")","v":""},null,1]
[null,{"$f":"IF('Baseline dynamic parameters'!B111<>\"\",'Baseline dynamic parameters'!B111,\"\")","v":""},{"$f":"IF('Baseline dynamic parameters'!C111<>\"\",'Baseline dynamic parameters'!C111,\"\")","v":""},{"$f":"IF('Baseline dynamic parameters'!D111<>\"\",'Baseline dynamic parameters'!D111,\"\")","v":""},{"$f":"IF('Baseline dynamic parameters'!E111<>\"\",'Baseline dynamic parameters'!E111,\"\")","v":""},{"$f":"IF('Baseline dynamic parameters'!F111<>\"\",'Baseline dynamic parameters'!F111,\"\")","v":""},null,1]
[null,{"$f":"IF('Baseline dynamic parameters'!B112<>\"\",'Baseline dynamic parameters'!B112,\"\")","v":""},{"$f":"IF('Baseline dynamic parameters'!C112<>\"\",'Baseline dynamic parameters'!C112,\"\")","v":""},{"$f":"IF('Baseline dynamic parameters'!D112<>\"\",'Baseline dynamic parameters'!D112,\"\")","v":""},{"$f":"IF('Baseline dynamic parameters'!E112<>\"\",'Baseline dynamic parameters'!E112,\"\")","v":""},{"$f":"IF('Baseline dynamic parameters'!F112<>\"\",'Baseline dynamic parameters'!F112,\"\")","v":""}]
[null,{"$f":"IF('Baseline dynamic parameters'!B113<>\"\",'Baseline dynamic parameters'!B113,\"\")","v":""},{"$f":"IF('Baseline dynamic parameters'!C113<>\"\",'Baseline dynamic parameters'!C113,\"\")","v":""},{"$f":"IF('Baseline dynamic parameters'!D113<>\"\",'Baseline dynamic parameters'!D113,\"\")","v":""},{"$f":"IF('Baseline dynamic parameters'!E113<>\"\",'Baseline dynamic parameters'!E113,\"\")","v":""},{"$f":"IF('Baseline dynamic parameters'!F113<>\"\",'Baseline dynamic parameters'!F113,\"\")","v":""},null,{"$f":"'Estimate ex ante GHG'!$J$58","v":0}]
[null,{"$f":"IF('Baseline dynamic parameters'!B114<>\"\",'Baseline dynamic parameters'!B114,\"\")","v":""},{"$f":"IF('Baseline dynamic parameters'!C114<>\"\",'Baseline dynamic parameters'!C114,\"\")","v":""},{"$f":"IF('Baseline dynamic parameters'!D114<>\"\",'Baseline dynamic parameters'!D114,\"\")","v":""},{"$f":"IF('Baseline dynamic parameters'!E114<>\"\",'Baseline dynamic parameters'!E114,\"\")","v":""},{"$f":"IF('Baseline dynamic parameters'!F114<>\"\",'Baseline dynamic parameters'!F114,\"\")","v":""},null,1]
[null,{"$f":"IF('Baseline dynamic parameters'!B115<>\"\",'Baseline dynamic parameters'!B115,\"\")","v":""},{"$f":"IF('Baseline dynamic parameters'!C115<>\"\",'Baseline dynamic parameters'!C115,\"\")","v":""},{"$f":"IF('Baseline dynamic parameters'!D115<>\"\",'Baseline dynamic parameters'!D115,\"\")","v":""},{"$f":"IF('Baseline dynamic parameters'!E115<>\"\",'Baseline dynamic parameters'!E115,\"\")","v":""},{"$f":"IF('Baseline dynamic parameters'!F115<>\"\",'Baseline dynamic parameters'!F115,\"\")","v":""},null,1]
[null,{"$f":"IF('Baseline dynamic parameters'!B116<>\"\",'Baseline dynamic parameters'!B116,\"\")","v":""},{"$f":"IF('Baseline dynamic parameters'!C116<>\"\",'Baseline dynamic parameters'!C116,\"\")","v":""},{"$f":"IF('Baseline dynamic parameters'!D116<>\"\",'Baseline dynamic parameters'!D116,\"\")","v":""},{"$f":"IF('Baseline dynamic parameters'!E116<>\"\",'Baseline dynamic parameters'!E116,\"\")","v":""},{"$f":"IF('Baseline dynamic parameters'!F116<>\"\",'Baseline dynamic parameters'!F116,\"\")","v":""},null,1]
[null,{"$f":"IF('Baseline dynamic parameters'!B117<>\"\",'Baseline dynamic parameters'!B117,\"\")","v":""},{"$f":"IF('Baseline dynamic parameters'!C117<>\"\",'Baseline dynamic parameters'!C117,\"\")","v":""},{"$f":"IF('Baseline dynamic parameters'!D117<>\"\",'Baseline dynamic parameters'!D117,\"\")","v":""},{"$f":"IF('Baseline dynamic parameters'!E117<>\"\",'Baseline dynamic parameters'!E117,\"\")","v":""},{"$f":"IF('Baseline dynamic parameters'!F117<>\"\",'Baseline dynamic parameters'!F117,\"\")","v":""}]
[null,{"$f":"IF('Baseline dynamic parameters'!B118<>\"\",'Baseline dynamic parameters'!B118,\"\")","v":""},{"$f":"IF('Baseline dynamic parameters'!C118<>\"\",'Baseline dynamic parameters'!C118,\"\")","v":""},{"$f":"IF('Baseline dynamic parameters'!D118<>\"\",'Baseline dynamic parameters'!D118,\"\")","v":""},{"$f":"IF('Baseline dynamic parameters'!E118<>\"\",'Baseline dynamic parameters'!E118,\"\")","v":""},{"$f":"IF('Baseline dynamic parameters'!F118<>\"\",'Baseline dynamic parameters'!F118,\"\")","v":""},null,{"$f":"'Estimate ex ante GHG'!$J$59","v":0}]
[null,{"$f":"IF('Baseline dynamic parameters'!B119<>\"\",'Baseline dynamic parameters'!B119,\"\")","v":""},{"$f":"IF('Baseline dynamic parameters'!C119<>\"\",'Baseline dynamic parameters'!C119,\"\")","v":""},{"$f":"IF('Baseline dynamic parameters'!D119<>\"\",'Baseline dynamic parameters'!D119,\"\")","v":""},{"$f":"IF('Baseline dynamic parameters'!E119<>\"\",'Baseline dynamic parameters'!E119,\"\")","v":""},{"$f":"IF('Baseline dynamic parameters'!F119<>\"\",'Baseline dynamic parameters'!F119,\"\")","v":""},null,1]
[null,{"$f":"IF('Baseline dynamic parameters'!B120<>\"\",'Baseline dynamic parameters'!B120,\"\")","v":""},{"$f":"IF('Baseline dynamic parameters'!C120<>\"\",'Baseline dynamic parameters'!C120,\"\")","v":""},{"$f":"IF('Baseline dynamic parameters'!D120<>\"\",'Baseline dynamic parameters'!D120,\"\")","v":""},{"$f":"IF('Baseline dynamic parameters'!E120<>\"\",'Baseline dynamic parameters'!E120,\"\")","v":""},{"$f":"IF('Baseline dynamic parameters'!F120<>\"\",'Baseline dynamic parameters'!F120,\"\")","v":""},null,1]
[null,{"$f":"IF('Baseline dynamic parameters'!B121<>\"\",'Baseline dynamic parameters'!B121,\"\")","v":""},{"$f":"IF('Baseline dynamic parameters'!C121<>\"\",'Baseline dynamic parameters'!C121,\"\")","v":""},{"$f":"IF('Baseline dynamic parameters'!D121<>\"\",'Baseline dynamic parameters'!D121,\"\")","v":""},{"$f":"IF('Baseline dynamic parameters'!E121<>\"\",'Baseline dynamic parameters'!E121,\"\")","v":""},{"$f":"IF('Baseline dynamic parameters'!F121<>\"\",'Baseline dynamic parameters'!F121,\"\")","v":""},null,1]
[null,{"$f":"IF('Baseline dynamic parameters'!B122<>\"\",'Baseline dynamic parameters'!B122,\"\")","v":""},{"$f":"IF('Baseline dynamic parameters'!C122<>\"\",'Baseline dynamic parameters'!C122,\"\")","v":""},{"$f":"IF('Baseline dynamic parameters'!D122<>\"\",'Baseline dynamic parameters'!D122,\"\")","v":""},{"$f":"IF('Baseline dynamic parameters'!E122<>\"\",'Baseline dynamic parameters'!E122,\"\")","v":""},{"$f":"IF('Baseline dynamic parameters'!F122<>\"\",'Baseline dynamic parameters'!F122,\"\")","v":""}]
[null,{"$f":"IF('Baseline dynamic parameters'!B123<>\"\",'Baseline dynamic parameters'!B123,\"\")","v":""},{"$f":"IF('Baseline dynamic parameters'!C123<>\"\",'Baseline dynamic parameters'!C123,\"\")","v":""},{"$f":"IF('Baseline dynamic parameters'!D123<>\"\",'Baseline dynamic parameters'!D123,\"\")","v":""},{"$f":"IF('Baseline dynamic parameters'!E123<>\"\",'Baseline dynamic parameters'!E123,\"\")","v":""},{"$f":"IF('Baseline dynamic parameters'!F123<>\"\",'Baseline dynamic parameters'!F123,\"\")","v":""},null,{"$f":"'Estimate ex ante GHG'!$J$60","v":0}]
[null,{"$f":"IF('Baseline dynamic parameters'!B124<>\"\",'Baseline dynamic parameters'!B124,\"\")","v":""},{"$f":"IF('Baseline dynamic parameters'!C124<>\"\",'Baseline dynamic parameters'!C124,\"\")","v":""},{"$f":"IF('Baseline dynamic parameters'!D124<>\"\",'Baseline dynamic parameters'!D124,\"\")","v":""},{"$f":"IF('Baseline dynamic parameters'!E124<>\"\",'Baseline dynamic parameters'!E124,\"\")","v":""},{"$f":"IF('Baseline dynamic parameters'!F124<>\"\",'Baseline dynamic parameters'!F124,\"\")","v":""},null,1]
[null,{"$f":"IF('Baseline dynamic parameters'!B125<>\"\",'Baseline dynamic parameters'!B125,\"\")","v":""},{"$f":"IF('Baseline dynamic parameters'!C125<>\"\",'Baseline dynamic parameters'!C125,\"\")","v":""},{"$f":"IF('Baseline dynamic parameters'!D125<>\"\",'Baseline dynamic parameters'!D125,\"\")","v":""},{"$f":"IF('Baseline dynamic parameters'!E125<>\"\",'Baseline dynamic parameters'!E125,\"\")","v":""},{"$f":"IF('Baseline dynamic parameters'!F125<>\"\",'Baseline dynamic parameters'!F125,\"\")","v":""},null,1]
[null,{"$f":"IF('Baseline dynamic parameters'!B126<>\"\",'Baseline dynamic parameters'!B126,\"\")","v":""},{"$f":"IF('Baseline dynamic parameters'!C126<>\"\",'Baseline dynamic parameters'!C126,\"\")","v":""},{"$f":"IF('Baseline dynamic parameters'!D126<>\"\",'Baseline dynamic parameters'!D126,\"\")","v":""},{"$f":"IF('Baseline dynamic parameters'!E126<>\"\",'Baseline dynamic parameters'!E126,\"\")","v":""},{"$f":"IF('Baseline dynamic parameters'!F126<>\"\",'Baseline dynamic parameters'!F126,\"\")","v":""},null,1]
[null,{"$f":"IF('Baseline dynamic parameters'!B127<>\"\",'Baseline dynamic parameters'!B127,\"\")","v":""},{"$f":"IF('Baseline dynamic parameters'!C127<>\"\",'Baseline dynamic parameters'!C127,\"\")","v":""},{"$f":"IF('Baseline dynamic parameters'!D127<>\"\",'Baseline dynamic parameters'!D127,\"\")","v":""},{"$f":"IF('Baseline dynamic parameters'!E127<>\"\",'Baseline dynamic parameters'!E127,\"\")","v":""},{"$f":"IF('Baseline dynamic parameters'!F127<>\"\",'Baseline dynamic parameters'!F127,\"\")","v":""}]
[null,{"$f":"IF('Baseline dynamic parameters'!B128<>\"\",'Baseline dynamic parameters'!B128,\"\")","v":""},{"$f":"IF('Baseline dynamic parameters'!C128<>\"\",'Baseline dynamic parameters'!C128,\"\")","v":""},{"$f":"IF('Baseline dynamic parameters'!D128<>\"\",'Baseline dynamic parameters'!D128,\"\")","v":""},{"$f":"IF('Baseline dynamic parameters'!E128<>\"\",'Baseline dynamic parameters'!E128,\"\")","v":""},{"$f":"IF('Baseline dynamic parameters'!F128<>\"\",'Baseline dynamic parameters'!F128,\"\")","v":""}]
[null,{"$f":"IF('Baseline dynamic parameters'!B129<>\"\",'Baseline dynamic parameters'!B129,\"\")","v":""},{"$f":"IF('Baseline dynamic parameters'!C129<>\"\",'Baseline dynamic parameters'!C129,\"\")","v":""},{"$f":"IF('Baseline dynamic parameters'!D129<>\"\",'Baseline dynamic parameters'!D129,\"\")","v":""},{"$f":"IF('Baseline dynamic parameters'!E129<>\"\",'Baseline dynamic parameters'!E129,\"\")","v":""},{"$f":"IF('Baseline dynamic parameters'!F129<>\"\",'Baseline dynamic parameters'!F129,\"\")","v":""}]
[null,{"$f":"IF('Baseline dynamic parameters'!B130<>\"\",'Baseline dynamic parameters'!B130,\"\")","v":""},{"$f":"IF('Baseline dynamic parameters'!C130<>\"\",'Baseline dynamic parameters'!C130,\"\")","v":""},{"$f":"IF('Baseline dynamic parameters'!D130<>\"\",'Baseline dynamic parameters'!D130,\"\")","v":""},{"$f":"IF('Baseline dynamic parameters'!E130<>\"\",'Baseline dynamic parameters'!E130,\"\")","v":""},{"$f":"IF('Baseline dynamic parameters'!F130<>\"\",'Baseline dynamic parameters'!F130,\"\")","v":""}]
[null,{"$f":"IF('Baseline dynamic parameters'!B131<>\"\",'Baseline dynamic parameters'!B131,\"\")","v":""},{"$f":"IF('Baseline dynamic parameters'!C131<>\"\",'Baseline dynamic parameters'!C131,\"\")","v":""},{"$f":"IF('Baseline dynamic parameters'!D131<>\"\",'Baseline dynamic parameters'!D131,\"\")","v":""},{"$f":"IF('Baseline dynamic parameters'!E131<>\"\",'Baseline dynamic parameters'!E131,\"\")","v":""},{"$f":"IF('Baseline dynamic parameters'!F131<>\"\",'Baseline dynamic parameters'!F131,\"\")","v":""}]
[null,{"$f":"IF('Baseline dynamic parameters'!B132<>\"\",'Baseline dynamic parameters'!B132,\"\")","v":""},{"$f":"IF('Baseline dynamic parameters'!C132<>\"\",'Baseline dynamic parameters'!C132,\"\")","v":""},{"$f":"IF('Baseline dynamic parameters'!D132<>\"\",'Baseline dynamic parameters'!D132,\"\")","v":""},{"$f":"IF('Baseline dynamic parameters'!E132<>\"\",'Baseline dynamic parameters'!E132,\"\")","v":""},{"$f":"IF('Baseline dynamic parameters'!F132<>\"\",'Baseline dynamic parameters'!F132,\"\")","v":""}]
[null,{"$f":"IF('Baseline dynamic parameters'!B133<>\"\",'Baseline dynamic parameters'!B133,\"\")","v":""},{"$f":"IF('Baseline dynamic parameters'!C133<>\"\",'Baseline dynamic parameters'!C133,\"\")","v":""},{"$f":"IF('Baseline dynamic parameters'!D133<>\"\",'Baseline dynamic parameters'!D133,\"\")","v":""},{"$f":"IF('Baseline dynamic parameters'!E133<>\"\",'Baseline dynamic parameters'!E133,\"\")","v":""},{"$f":"IF('Baseline dynamic parameters'!F133<>\"\",'Baseline dynamic parameters'!F133,\"\")","v":""}]
[null,{"$f":"IF('Baseline dynamic parameters'!B134<>\"\",'Baseline dynamic parameters'!B134,\"\")","v":""},{"$f":"IF('Baseline dynamic parameters'!C134<>\"\",'Baseline dynamic parameters'!C134,\"\")","v":""},{"$f":"IF('Baseline dynamic parameters'!D134<>\"\",'Baseline dynamic parameters'!D134,\"\")","v":""},{"$f":"IF('Baseline dynamic parameters'!E134<>\"\",'Baseline dynamic parameters'!E134,\"\")","v":""},{"$f":"IF('Baseline dynamic parameters'!F134<>\"\",'Baseline dynamic parameters'!F134,\"\")","v":""}]
[null,{"$f":"IF('Baseline dynamic parameters'!B135<>\"\",'Baseline dynamic parameters'!B135,\"\")","v":""},{"$f":"IF('Baseline dynamic parameters'!C135<>\"\",'Baseline dynamic parameters'!C135,\"\")","v":""},{"$f":"IF('Baseline dynamic parameters'!D135<>\"\",'Baseline dynamic parameters'!D135,\"\")","v":""},{"$f":"IF('Baseline dynamic parameters'!E135<>\"\",'Baseline dynamic parameters'!E135,\"\")","v":""},{"$f":"IF('Baseline dynamic parameters'!F135<>\"\",'Baseline dynamic parameters'!F135,\"\")","v":""}]
[null,{"$f":"IF('Baseline dynamic parameters'!B136<>\"\",'Baseline dynamic parameters'!B136,\"\")","v":""},{"$f":"IF('Baseline dynamic parameters'!C136<>\"\",'Baseline dynamic parameters'!C136,\"\")","v":""},{"$f":"IF('Baseline dynamic parameters'!D136<>\"\",'Baseline dynamic parameters'!D136,\"\")","v":""},{"$f":"IF('Baseline dynamic parameters'!E136<>\"\",'Baseline dynamic parameters'!E136,\"\")","v":""},{"$f":"IF('Baseline dynamic parameters'!F136<>\"\",'Baseline dynamic parameters'!F136,\"\")","v":""}]
[null,{"$f":"IF('Baseline dynamic parameters'!B137<>\"\",'Baseline dynamic parameters'!B137,\"\")","v":""},{"$f":"IF('Baseline dynamic parameters'!C137<>\"\",'Baseline dynamic parameters'!C137,\"\")","v":""},{"$f":"IF('Baseline dynamic parameters'!D137<>\"\",'Baseline dynamic parameters'!D137,\"\")","v":""},{"$f":"IF('Baseline dynamic parameters'!E137<>\"\",'Baseline dynamic parameters'!E137,\"\")","v":""},{"$f":"IF('Baseline dynamic parameters'!F137<>\"\",'Baseline dynamic parameters'!F137,\"\")","v":""}]
[null,{"$f":"IF('Baseline dynamic parameters'!B138<>\"\",'Baseline dynamic parameters'!B138,\"\")","v":""},{"$f":"IF('Baseline dynamic parameters'!C138<>\"\",'Baseline dynamic parameters'!C138,\"\")","v":""},{"$f":"IF('Baseline dynamic parameters'!D138<>\"\",'Baseline dynamic parameters'!D138,\"\")","v":""},{"$f":"IF('Baseline dynamic parameters'!E138<>\"\",'Baseline dynamic parameters'!E138,\"\")","v":""},{"$f":"IF('Baseline dynamic parameters'!F138<>\"\",'Baseline dynamic parameters'!F138,\"\")","v":""}]
[null,{"$f":"IF('Baseline dynamic parameters'!B139<>\"\",'Baseline dynamic parameters'!B139,\"\")","v":""},{"$f":"IF('Baseline dynamic parameters'!C139<>\"\",'Baseline dynamic parameters'!C139,\"\")","v":""},{"$f":"IF('Baseline dynamic parameters'!D139<>\"\",'Baseline dynamic parameters'!D139,\"\")","v":""},{"$f":"IF('Baseline dynamic parameters'!E139<>\"\",'Baseline dynamic parameters'!E139,\"\")","v":""},{"$f":"IF('Baseline dynamic parameters'!F139<>\"\",'Baseline dynamic parameters'!F139,\"\")","v":""}]
[null,{"$f":"IF('Baseline dynamic parameters'!B140<>\"\",'Baseline dynamic parameters'!B140,\"\")","v":""},{"$f":"IF('Baseline dynamic parameters'!C140<>\"\",'Baseline dynamic parameters'!C140,\"\")","v":""},{"$f":"IF('Baseline dynamic parameters'!D140<>\"\",'Baseline dynamic parameters'!D140,\"\")","v":""},{"$f":"IF('Baseline dynamic parameters'!E140<>\"\",'Baseline dynamic parameters'!E140,\"\")","v":""},{"$f":"IF('Baseline dynamic parameters'!F140<>\"\",'Baseline dynamic parameters'!F140,\"\")","v":""}]
[null,{"$f":"IF('Baseline dynamic parameters'!B141<>\"\",'Baseline dynamic parameters'!B141,\"\")","v":""},{"$f":"IF('Baseline dynamic parameters'!C141<>\"\",'Baseline dynamic parameters'!C141,\"\")","v":""},{"$f":"IF('Baseline dynamic parameters'!D141<>\"\",'Baseline dynamic parameters'!D141,\"\")","v":""},{"$f":"IF('Baseline dynamic parameters'!E141<>\"\",'Baseline dynamic parameters'!E141,\"\")","v":""},{"$f":"IF('Baseline dynamic parameters'!F141<>\"\",'Baseline dynamic parameters'!F141,\"\")","v":""}]
[null,{"$f":"IF('Baseline dynamic parameters'!B142<>\"\",'Baseline dynamic parameters'!B142,\"\")","v":""},{"$f":"IF('Baseline dynamic parameters'!C142<>\"\",'Baseline dynamic parameters'!C142,\"\")","v":""},{"$f":"IF('Baseline dynamic parameters'!D142<>\"\",'Baseline dynamic parameters'!D142,\"\")","v":""},{"$f":"IF('Baseline dynamic parameters'!E142<>\"\",'Baseline dynamic parameters'!E142,\"\")","v":""},{"$f":"IF('Baseline dynamic parameters'!F142<>\"\",'Baseline dynamic parameters'!F142,\"\")","v":""}]
[null,{"$f":"IF('Baseline dynamic parameters'!B143<>\"\",'Baseline dynamic parameters'!B143,\"\")","v":""},{"$f":"IF('Baseline dynamic parameters'!C143<>\"\",'Baseline dynamic parameters'!C143,\"\")","v":""},{"$f":"IF('Baseline dynamic parameters'!D143<>\"\",'Baseline dynamic parameters'!D143,\"\")","v":""},{"$f":"IF('Baseline dynamic parameters'!E143<>\"\",'Baseline dynamic parameters'!E143,\"\")","v":""},{"$f":"IF('Baseline dynamic parameters'!F143<>\"\",'Baseline dynamic parameters'!F143,\"\")","v":""}]
[null,{"$f":"IF('Baseline dynamic parameters'!B144<>\"\",'Baseline dynamic parameters'!B144,\"\")","v":""},{"$f":"IF('Baseline dynamic parameters'!C144<>\"\",'Baseline dynamic parameters'!C144,\"\")","v":""},{"$f":"IF('Baseline dynamic parameters'!D144<>\"\",'Baseline dynamic parameters'!D144,\"\")","v":""},{"$f":"IF('Baseline dynamic parameters'!E144<>\"\",'Baseline dynamic parameters'!E144,\"\")","v":""},{"$f":"IF('Baseline dynamic parameters'!F144<>\"\",'Baseline dynamic parameters'!F144,\"\")","v":""}]
[null,{"$f":"IF('Baseline dynamic parameters'!B145<>\"\",'Baseline dynamic parameters'!B145,\"\")","v":""},{"$f":"IF('Baseline dynamic parameters'!C145<>\"\",'Baseline dynamic parameters'!C145,\"\")","v":""},{"$f":"IF('Baseline dynamic parameters'!D145<>\"\",'Baseline dynamic parameters'!D145,\"\")","v":""},{"$f":"IF('Baseline dynamic parameters'!E145<>\"\",'Baseline dynamic parameters'!E145,\"\")","v":""},{"$f":"IF('Baseline dynamic parameters'!F145<>\"\",'Baseline dynamic parameters'!F145,\"\")","v":""}]
[null,{"$f":"IF('Baseline dynamic parameters'!B146<>\"\",'Baseline dynamic parameters'!B146,\"\")","v":""},{"$f":"IF('Baseline dynamic parameters'!C146<>\"\",'Baseline dynamic parameters'!C146,\"\")","v":""},{"$f":"IF('Baseline dynamic parameters'!D146<>\"\",'Baseline dynamic parameters'!D146,\"\")","v":""},{"$f":"IF('Baseline dynamic parameters'!E146<>\"\",'Baseline dynamic parameters'!E146,\"\")","v":""},{"$f":"IF('Baseline dynamic parameters'!F146<>\"\",'Baseline dynamic parameters'!F146,\"\")","v":""}]
[null,{"$f":"IF('Baseline dynamic parameters'!B147<>\"\",'Baseline dynamic parameters'!B147,\"\")","v":""},{"$f":"IF('Baseline dynamic parameters'!C147<>\"\",'Baseline dynamic parameters'!C147,\"\")","v":""},{"$f":"IF('Baseline dynamic parameters'!D147<>\"\",'Baseline dynamic parameters'!D147,\"\")","v":""},{"$f":"IF('Baseline dynamic parameters'!E147<>\"\",'Baseline dynamic parameters'!E147,\"\")","v":""},{"$f":"IF('Baseline dynamic parameters'!F147<>\"\",'Baseline dynamic parameters'!F147,\"\")","v":""}]
[null,{"$f":"IF('Baseline dynamic parameters'!B148<>\"\",'Baseline dynamic parameters'!B148,\"\")","v":""},{"$f":"IF('Baseline dynamic parameters'!C148<>\"\",'Baseline dynamic parameters'!C148,\"\")","v":""},{"$f":"IF('Baseline dynamic parameters'!D148<>\"\",'Baseline dynamic parameters'!D148,\"\")","v":""},{"$f":"IF('Baseline dynamic parameters'!E148<>\"\",'Baseline dynamic parameters'!E148,\"\")","v":""},{"$f":"IF('Baseline dynamic parameters'!F148<>\"\",'Baseline dynamic parameters'!F148,\"\")","v":""}]
[null,{"$f":"IF('Baseline dynamic parameters'!B149<>\"\",'Baseline dynamic parameters'!B149,\"\")","v":""},{"$f":"IF('Baseline dynamic parameters'!C149<>\"\",'Baseline dynamic parameters'!C149,\"\")","v":""},{"$f":"IF('Baseline dynamic parameters'!D149<>\"\",'Baseline dynamic parameters'!D149,\"\")","v":""},{"$f":"IF('Baseline dynamic parameters'!E149<>\"\",'Baseline dynamic parameters'!E149,\"\")","v":""},{"$f":"IF('Baseline dynamic parameters'!F149<>\"\",'Baseline dynamic parameters'!F149,\"\")","v":""}]
[null,{"$f":"IF('Baseline dynamic parameters'!B150<>\"\",'Baseline dynamic parameters'!B150,\"\")","v":""},{"$f":"IF('Baseline dynamic parameters'!C150<>\"\",'Baseline dynamic parameters'!C150,\"\")","v":""},{"$f":"IF('Baseline dynamic parameters'!D150<>\"\",'Baseline dynamic parameters'!D150,\"\")","v":""},{"$f":"IF('Baseline dynamic parameters'!E150<>\"\",'Baseline dynamic parameters'!E150,\"\")","v":""},{"$f":"IF('Baseline dynamic parameters'!F150<>\"\",'Baseline dynamic parameters'!F150,\"\")","v":""}]
[null,{"$f":"IF('Baseline dynamic parameters'!B151<>\"\",'Baseline dynamic parameters'!B151,\"\")","v":""},{"$f":"IF('Baseline dynamic parameters'!C151<>\"\",'Baseline dynamic parameters'!C151,\"\")","v":""},{"$f":"IF('Baseline dynamic parameters'!D151<>\"\",'Baseline dynamic parameters'!D151,\"\")","v":""},{"$f":"IF('Baseline dynamic parameters'!E151<>\"\",'Baseline dynamic parameters'!E151,\"\")","v":""},{"$f":"IF('Baseline dynamic parameters'!F151<>\"\",'Baseline dynamic parameters'!F151,\"\")","v":""}]
[null,{"$f":"IF('Baseline dynamic parameters'!B152<>\"\",'Baseline dynamic parameters'!B152,\"\")","v":""},{"$f":"IF('Baseline dynamic parameters'!C152<>\"\",'Baseline dynamic parameters'!C152,\"\")","v":""},{"$f":"IF('Baseline dynamic parameters'!D152<>\"\",'Baseline dynamic parameters'!D152,\"\")","v":""},{"$f":"IF('Baseline dynamic parameters'!E152<>\"\",'Baseline dynamic parameters'!E152,\"\")","v":""},{"$f":"IF('Baseline dynamic parameters'!F152<>\"\",'Baseline dynamic parameters'!F152,\"\")","v":""}]
[null,{"$f":"IF('Baseline dynamic parameters'!B153<>\"\",'Baseline dynamic parameters'!B153,\"\")","v":""},{"$f":"IF('Baseline dynamic parameters'!C153<>\"\",'Baseline dynamic parameters'!C153,\"\")","v":""},{"$f":"IF('Baseline dynamic parameters'!D153<>\"\",'Baseline dynamic parameters'!D153,\"\")","v":""},{"$f":"IF('Baseline dynamic parameters'!E153<>\"\",'Baseline dynamic parameters'!E153,\"\")","v":""},{"$f":"IF('Baseline dynamic parameters'!F153<>\"\",'Baseline dynamic parameters'!F153,\"\")","v":""}]
[null,{"$f":"IF('Baseline dynamic parameters'!B154<>\"\",'Baseline dynamic parameters'!B154,\"\")","v":""},{"$f":"IF('Baseline dynamic parameters'!C154<>\"\",'Baseline dynamic parameters'!C154,\"\")","v":""},{"$f":"IF('Baseline dynamic parameters'!D154<>\"\",'Baseline dynamic parameters'!D154,\"\")","v":""},{"$f":"IF('Baseline dynamic parameters'!E154<>\"\",'Baseline dynamic parameters'!E154,\"\")","v":""},{"$f":"IF('Baseline dynamic parameters'!F154<>\"\",'Baseline dynamic parameters'!F154,\"\")","v":""}]
[null,{"$f":"IF('Baseline dynamic parameters'!B155<>\"\",'Baseline dynamic parameters'!B155,\"\")","v":""},{"$f":"IF('Baseline dynamic parameters'!C155<>\"\",'Baseline dynamic parameters'!C155,\"\")","v":""},{"$f":"IF('Baseline dynamic parameters'!D155<>\"\",'Baseline dynamic parameters'!D155,\"\")","v":""},{"$f":"IF('Baseline dynamic parameters'!E155<>\"\",'Baseline dynamic parameters'!E155,\"\")","v":""},{"$f":"IF('Baseline dynamic parameters'!F155<>\"\",'Baseline dynamic parameters'!F155,\"\")","v":""}]
[null,{"$f":"IF('Baseline dynamic parameters'!B156<>\"\",'Baseline dynamic parameters'!B156,\"\")","v":""},{"$f":"IF('Baseline dynamic parameters'!C156<>\"\",'Baseline dynamic parameters'!C156,\"\")","v":""},{"$f":"IF('Baseline dynamic parameters'!D156<>\"\",'Baseline dynamic parameters'!D156,\"\")","v":""},{"$f":"IF('Baseline dynamic parameters'!E156<>\"\",'Baseline dynamic parameters'!E156,\"\")","v":""},{"$f":"IF('Baseline dynamic parameters'!F156<>\"\",'Baseline dynamic parameters'!F156,\"\")","v":""}]
[null,{"$f":"IF('Baseline dynamic parameters'!B157<>\"\",'Baseline dynamic parameters'!B157,\"\")","v":""},{"$f":"IF('Baseline dynamic parameters'!C157<>\"\",'Baseline dynamic parameters'!C157,\"\")","v":""},{"$f":"IF('Baseline dynamic parameters'!D157<>\"\",'Baseline dynamic parameters'!D157,\"\")","v":""},{"$f":"IF('Baseline dynamic parameters'!E157<>\"\",'Baseline dynamic parameters'!E157,\"\")","v":""},{"$f":"IF('Baseline dynamic parameters'!F157<>\"\",'Baseline dynamic parameters'!F157,\"\")","v":""}]
[null,{"$f":"IF('Baseline dynamic parameters'!B158<>\"\",'Baseline dynamic parameters'!B158,\"\")","v":""},{"$f":"IF('Baseline dynamic parameters'!C158<>\"\",'Baseline dynamic parameters'!C158,\"\")","v":""},{"$f":"IF('Baseline dynamic parameters'!D158<>\"\",'Baseline dynamic parameters'!D158,\"\")","v":""},{"$f":"IF('Baseline dynamic parameters'!E158<>\"\",'Baseline dynamic parameters'!E158,\"\")","v":""},{"$f":"IF('Baseline dynamic parameters'!F158<>\"\",'Baseline dynamic parameters'!F158,\"\")","v":""}]
[null,{"$f":"IF('Baseline dynamic parameters'!B159<>\"\",'Baseline dynamic parameters'!B159,\"\")","v":""},{"$f":"IF('Baseline dynamic parameters'!C159<>\"\",'Baseline dynamic parameters'!C159,\"\")","v":""},{"$f":"IF('Baseline dynamic parameters'!D159<>\"\",'Baseline dynamic parameters'!D159,\"\")","v":""},{"$f":"IF('Baseline dynamic parameters'!E159<>\"\",'Baseline dynamic parameters'!E159,\"\")","v":""},{"$f":"IF('Baseline dynamic parameters'!F159<>\"\",'Baseline dynamic parameters'!F159,\"\")","v":""}]
[null,{"$f":"IF('Baseline dynamic parameters'!B160<>\"\",'Baseline dynamic parameters'!B160,\"\")","v":""},{"$f":"IF('Baseline dynamic parameters'!C160<>\"\",'Baseline dynamic parameters'!C160,\"\")","v":""},{"$f":"IF('Baseline dynamic parameters'!D160<>\"\",'Baseline dynamic parameters'!D160,\"\")","v":""},{"$f":"IF('Baseline dynamic parameters'!E160<>\"\",'Baseline dynamic parameters'!E160,\"\")","v":""},{"$f":"IF('Baseline dynamic parameters'!F160<>\"\",'Baseline dynamic parameters'!F160,\"\")","v":""}]
[null,{"$f":"IF('Baseline dynamic parameters'!B161<>\"\",'Baseline dynamic parameters'!B161,\"\")","v":""},{"$f":"IF('Baseline dynamic parameters'!C161<>\"\",'Baseline dynamic parameters'!C161,\"\")","v":""},{"$f":"IF('Baseline dynamic parameters'!D161<>\"\",'Baseline dynamic parameters'!D161,\"\")","v":""},{"$f":"IF('Baseline dynamic parameters'!E161<>\"\",'Baseline dynamic parameters'!E161,\"\")","v":""},{"$f":"IF('Baseline dynamic parameters'!F161<>\"\",'Baseline dynamic parameters'!F161,\"\")","v":""}]
[null,{"$f":"IF('Baseline dynamic parameters'!B162<>\"\",'Baseline dynamic parameters'!B162,\"\")","v":""},{"$f":"IF('Baseline dynamic parameters'!C162<>\"\",'Baseline dynamic parameters'!C162,\"\")","v":""},{"$f":"IF('Baseline dynamic parameters'!D162<>\"\",'Baseline dynamic parameters'!D162,\"\")","v":""},{"$f":"IF('Baseline dynamic parameters'!E162<>\"\",'Baseline dynamic parameters'!E162,\"\")","v":""},{"$f":"IF('Baseline dynamic parameters'!F162<>\"\",'Baseline dynamic parameters'!F162,\"\")","v":""}]
[null,{"$f":"IF('Baseline dynamic parameters'!B163<>\"\",'Baseline dynamic parameters'!B163,\"\")","v":""},{"$f":"IF('Baseline dynamic parameters'!C163<>\"\",'Baseline dynamic parameters'!C163,\"\")","v":""},{"$f":"IF('Baseline dynamic parameters'!D163<>\"\",'Baseline dynamic parameters'!D163,\"\")","v":""},{"$f":"IF('Baseline dynamic parameters'!E163<>\"\",'Baseline dynamic parameters'!E163,\"\")","v":""},{"$f":"IF('Baseline dynamic parameters'!F163<>\"\",'Baseline dynamic parameters'!F163,\"\")","v":""}]
[null,{"$f":"IF('Baseline dynamic parameters'!B164<>\"\",'Baseline dynamic parameters'!B164,\"\")","v":""},{"$f":"IF('Baseline dynamic parameters'!C164<>\"\",'Baseline dynamic parameters'!C164,\"\")","v":""},{"$f":"IF('Baseline dynamic parameters'!D164<>\"\",'Baseline dynamic parameters'!D164,\"\")","v":""},{"$f":"IF('Baseline dynamic parameters'!E164<>\"\",'Baseline dynamic parameters'!E164,\"\")","v":""},{"$f":"IF('Baseline dynamic parameters'!F164<>\"\",'Baseline dynamic parameters'!F164,\"\")","v":""}]
[null,{"$f":"IF('Baseline dynamic parameters'!B165<>\"\",'Baseline dynamic parameters'!B165,\"\")","v":""},{"$f":"IF('Baseline dynamic parameters'!C165<>\"\",'Baseline dynamic parameters'!C165,\"\")","v":""},{"$f":"IF('Baseline dynamic parameters'!D165<>\"\",'Baseline dynamic parameters'!D165,\"\")","v":""},{"$f":"IF('Baseline dynamic parameters'!E165<>\"\",'Baseline dynamic parameters'!E165,\"\")","v":""},{"$f":"IF('Baseline dynamic parameters'!F165<>\"\",'Baseline dynamic parameters'!F165,\"\")","v":""}]
[null,{"$f":"IF('Baseline dynamic parameters'!B166<>\"\",'Baseline dynamic parameters'!B166,\"\")","v":""},{"$f":"IF('Baseline dynamic parameters'!C166<>\"\",'Baseline dynamic parameters'!C166,\"\")","v":""},{"$f":"IF('Baseline dynamic parameters'!D166<>\"\",'Baseline dynamic parameters'!D166,\"\")","v":""},{"$f":"IF('Baseline dynamic parameters'!E166<>\"\",'Baseline dynamic parameters'!E166,\"\")","v":""},{"$f":"IF('Baseline dynamic parameters'!F166<>\"\",'Baseline dynamic parameters'!F166,\"\")","v":""}]
[null,{"$f":"IF('Baseline dynamic parameters'!B167<>\"\",'Baseline dynamic parameters'!B167,\"\")","v":""},{"$f":"IF('Baseline dynamic parameters'!C167<>\"\",'Baseline dynamic parameters'!C167,\"\")","v":""},{"$f":"IF('Baseline dynamic parameters'!D167<>\"\",'Baseline dynamic parameters'!D167,\"\")","v":""},{"$f":"IF('Baseline dynamic parameters'!E167<>\"\",'Baseline dynamic parameters'!E167,\"\")","v":""},{"$f":"IF('Baseline dynamic parameters'!F167<>\"\",'Baseline dynamic parameters'!F167,\"\")","v":""}]
[null,{"$f":"IF('Baseline dynamic parameters'!B168<>\"\",'Baseline dynamic parameters'!B168,\"\")","v":""},{"$f":"IF('Baseline dynamic parameters'!C168<>\"\",'Baseline dynamic parameters'!C168,\"\")","v":""},{"$f":"IF('Baseline dynamic parameters'!D168<>\"\",'Baseline dynamic parameters'!D168,\"\")","v":""},{"$f":"IF('Baseline dynamic parameters'!E168<>\"\",'Baseline dynamic parameters'!E168,\"\")","v":""},{"$f":"IF('Baseline dynamic parameters'!F168<>\"\",'Baseline dynamic parameters'!F168,\"\")","v":""}]
[null,{"$f":"IF('Baseline dynamic parameters'!B169<>\"\",'Baseline dynamic parameters'!B169,\"\")","v":""},{"$f":"IF('Baseline dynamic parameters'!C169<>\"\",'Baseline dynamic parameters'!C169,\"\")","v":""},{"$f":"IF('Baseline dynamic parameters'!D169<>\"\",'Baseline dynamic parameters'!D169,\"\")","v":""},{"$f":"IF('Baseline dynamic parameters'!E169<>\"\",'Baseline dynamic parameters'!E169,\"\")","v":""},{"$f":"IF('Baseline dynamic parameters'!F169<>\"\",'Baseline dynamic parameters'!F169,\"\")","v":""}]
[null,{"$f":"IF('Baseline dynamic parameters'!B170<>\"\",'Baseline dynamic parameters'!B170,\"\")","v":""},{"$f":"IF('Baseline dynamic parameters'!C170<>\"\",'Baseline dynamic parameters'!C170,\"\")","v":""},{"$f":"IF('Baseline dynamic parameters'!D170<>\"\",'Baseline dynamic parameters'!D170,\"\")","v":""},{"$f":"IF('Baseline dynamic parameters'!E170<>\"\",'Baseline dynamic parameters'!E170,\"\")","v":""},{"$f":"IF('Baseline dynamic parameters'!F170<>\"\",'Baseline dynamic parameters'!F170,\"\")","v":""}]
[null,{"$f":"IF('Baseline dynamic parameters'!B171<>\"\",'Baseline dynamic parameters'!B171,\"\")","v":""},{"$f":"IF('Baseline dynamic parameters'!C171<>\"\",'Baseline dynamic parameters'!C171,\"\")","v":""},{"$f":"IF('Baseline dynamic parameters'!D171<>\"\",'Baseline dynamic parameters'!D171,\"\")","v":""},{"$f":"IF('Baseline dynamic parameters'!E171<>\"\",'Baseline dynamic parameters'!E171,\"\")","v":""},{"$f":"IF('Baseline dynamic parameters'!F171<>\"\",'Baseline dynamic parameters'!F171,\"\")","v":""}]
[null,{"$f":"IF('Baseline dynamic parameters'!B172<>\"\",'Baseline dynamic parameters'!B172,\"\")","v":""},{"$f":"IF('Baseline dynamic parameters'!C172<>\"\",'Baseline dynamic parameters'!C172,\"\")","v":""},{"$f":"IF('Baseline dynamic parameters'!D172<>\"\",'Baseline dynamic parameters'!D172,\"\")","v":""},{"$f":"IF('Baseline dynamic parameters'!E172<>\"\",'Baseline dynamic parameters'!E172,\"\")","v":""},{"$f":"IF('Baseline dynamic parameters'!F172<>\"\",'Baseline dynamic parameters'!F172,\"\")","v":""}]
[null,{"$f":"IF('Baseline dynamic parameters'!B173<>\"\",'Baseline dynamic parameters'!B173,\"\")","v":""},{"$f":"IF('Baseline dynamic parameters'!C173<>\"\",'Baseline dynamic parameters'!C173,\"\")","v":""},{"$f":"IF('Baseline dynamic parameters'!D173<>\"\",'Baseline dynamic parameters'!D173,\"\")","v":""},{"$f":"IF('Baseline dynamic parameters'!E173<>\"\",'Baseline dynamic parameters'!E173,\"\")","v":""},{"$f":"IF('Baseline dynamic parameters'!F173<>\"\",'Baseline dynamic parameters'!F173,\"\")","v":""}]
[null,{"$f":"IF('Baseline dynamic parameters'!B174<>\"\",'Baseline dynamic parameters'!B174,\"\")","v":""},{"$f":"IF('Baseline dynamic parameters'!C174<>\"\",'Baseline dynamic parameters'!C174,\"\")","v":""},{"$f":"IF('Baseline dynamic parameters'!D174<>\"\",'Baseline dynamic parameters'!D174,\"\")","v":""},{"$f":"IF('Baseline dynamic parameters'!E174<>\"\",'Baseline dynamic parameters'!E174,\"\")","v":""},{"$f":"IF('Baseline dynamic parameters'!F174<>\"\",'Baseline dynamic parameters'!F174,\"\")","v":""}]
[null,{"$f":"IF('Baseline dynamic parameters'!B175<>\"\",'Baseline dynamic parameters'!B175,\"\")","v":""},{"$f":"IF('Baseline dynamic parameters'!C175<>\"\",'Baseline dynamic parameters'!C175,\"\")","v":""},{"$f":"IF('Baseline dynamic parameters'!D175<>\"\",'Baseline dynamic parameters'!D175,\"\")","v":""},{"$f":"IF('Baseline dynamic parameters'!E175<>\"\",'Baseline dynamic parameters'!E175,\"\")","v":""},{"$f":"IF('Baseline dynamic parameters'!F175<>\"\",'Baseline dynamic parameters'!F175,\"\")","v":""}]
[null,{"$f":"IF('Baseline dynamic parameters'!B176<>\"\",'Baseline dynamic parameters'!B176,\"\")","v":""},{"$f":"IF('Baseline dynamic parameters'!C176<>\"\",'Baseline dynamic parameters'!C176,\"\")","v":""},{"$f":"IF('Baseline dynamic parameters'!D176<>\"\",'Baseline dynamic parameters'!D176,\"\")","v":""},{"$f":"IF('Baseline dynamic parameters'!E176<>\"\",'Baseline dynamic parameters'!E176,\"\")","v":""},{"$f":"IF('Baseline dynamic parameters'!F176<>\"\",'Baseline dynamic parameters'!F176,\"\")","v":""}]
[null,{"$f":"IF('Baseline dynamic parameters'!B177<>\"\",'Baseline dynamic parameters'!B177,\"\")","v":""},{"$f":"IF('Baseline dynamic parameters'!C177<>\"\",'Baseline dynamic parameters'!C177,\"\")","v":""},{"$f":"IF('Baseline dynamic parameters'!D177<>\"\",'Baseline dynamic parameters'!D177,\"\")","v":""},{"$f":"IF('Baseline dynamic parameters'!E177<>\"\",'Baseline dynamic parameters'!E177,\"\")","v":""},{"$f":"IF('Baseline dynamic parameters'!F177<>\"\",'Baseline dynamic parameters'!F177,\"\")","v":""}]
[null,{"$f":"IF('Baseline dynamic parameters'!B178<>\"\",'Baseline dynamic parameters'!B178,\"\")","v":""},{"$f":"IF('Baseline dynamic parameters'!C178<>\"\",'Baseline dynamic parameters'!C178,\"\")","v":""},{"$f":"IF('Baseline dynamic parameters'!D178<>\"\",'Baseline dynamic parameters'!D178,\"\")","v":""},{"$f":"IF('Baseline dynamic parameters'!E178<>\"\",'Baseline dynamic parameters'!E178,\"\")","v":""},{"$f":"IF('Baseline dynamic parameters'!F178<>\"\",'Baseline dynamic parameters'!F178,\"\")","v":""}]
[null,{"$f":"IF('Baseline dynamic parameters'!B179<>\"\",'Baseline dynamic parameters'!B179,\"\")","v":""},{"$f":"IF('Baseline dynamic parameters'!C179<>\"\",'Baseline dynamic parameters'!C179,\"\")","v":""},{"$f":"IF('Baseline dynamic parameters'!D179<>\"\",'Baseline dynamic parameters'!D179,\"\")","v":""},{"$f":"IF('Baseline dynamic parameters'!E179<>\"\",'Baseline dynamic parameters'!E179,\"\")","v":""},{"$f":"IF('Baseline dynamic parameters'!F179<>\"\",'Baseline dynamic parameters'!F179,\"\")","v":""}]
[null,{"$f":"IF('Baseline dynamic parameters'!B180<>\"\",'Baseline dynamic parameters'!B180,\"\")","v":""},{"$f":"IF('Baseline dynamic parameters'!C180<>\"\",'Baseline dynamic parameters'!C180,\"\")","v":""},{"$f":"IF('Baseline dynamic parameters'!D180<>\"\",'Baseline dynamic parameters'!D180,\"\")","v":""},{"$f":"IF('Baseline dynamic parameters'!E180<>\"\",'Baseline dynamic parameters'!E180,\"\")","v":""},{"$f":"IF('Baseline dynamic parameters'!F180<>\"\",'Baseline dynamic parameters'!F180,\"\")","v":""}]
[null,{"$f":"IF('Baseline dynamic parameters'!B181<>\"\",'Baseline dynamic parameters'!B181,\"\")","v":""},{"$f":"IF('Baseline dynamic parameters'!C181<>\"\",'Baseline dynamic parameters'!C181,\"\")","v":""},{"$f":"IF('Baseline dynamic parameters'!D181<>\"\",'Baseline dynamic parameters'!D181,\"\")","v":""},{"$f":"IF('Baseline dynamic parameters'!E181<>\"\",'Baseline dynamic parameters'!E181,\"\")","v":""},{"$f":"IF('Baseline dynamic parameters'!F181<>\"\",'Baseline dynamic parameters'!F181,\"\")","v":""}]
[null,{"$f":"IF('Baseline dynamic parameters'!B182<>\"\",'Baseline dynamic parameters'!B182,\"\")","v":""},{"$f":"IF('Baseline dynamic parameters'!C182<>\"\",'Baseline dynamic parameters'!C182,\"\")","v":""},{"$f":"IF('Baseline dynamic parameters'!D182<>\"\",'Baseline dynamic parameters'!D182,\"\")","v":""},{"$f":"IF('Baseline dynamic parameters'!E182<>\"\",'Baseline dynamic parameters'!E182,\"\")","v":""},{"$f":"IF('Baseline dynamic parameters'!F182<>\"\",'Baseline dynamic parameters'!F182,\"\")","v":""}]
[null,{"$f":"IF('Baseline dynamic parameters'!B183<>\"\",'Baseline dynamic parameters'!B183,\"\")","v":""},{"$f":"IF('Baseline dynamic parameters'!C183<>\"\",'Baseline dynamic parameters'!C183,\"\")","v":""},{"$f":"IF('Baseline dynamic parameters'!D183<>\"\",'Baseline dynamic parameters'!D183,\"\")","v":""},{"$f":"IF('Baseline dynamic parameters'!E183<>\"\",'Baseline dynamic parameters'!E183,\"\")","v":""},{"$f":"IF('Baseline dynamic parameters'!F183<>\"\",'Baseline dynamic parameters'!F183,\"\")","v":""}]
[null,{"$f":"IF('Baseline dynamic parameters'!B184<>\"\",'Baseline dynamic parameters'!B184,\"\")","v":""},{"$f":"IF('Baseline dynamic parameters'!C184<>\"\",'Baseline dynamic parameters'!C184,\"\")","v":""},{"$f":"IF('Baseline dynamic parameters'!D184<>\"\",'Baseline dynamic parameters'!D184,\"\")","v":""},{"$f":"IF('Baseline dynamic parameters'!E184<>\"\",'Baseline dynamic parameters'!E184,\"\")","v":""},{"$f":"IF('Baseline dynamic parameters'!F184<>\"\",'Baseline dynamic parameters'!F184,\"\")","v":""}]
[null,{"$f":"IF('Baseline dynamic parameters'!B185<>\"\",'Baseline dynamic parameters'!B185,\"\")","v":""},{"$f":"IF('Baseline dynamic parameters'!C185<>\"\",'Baseline dynamic parameters'!C185,\"\")","v":""},{"$f":"IF('Baseline dynamic parameters'!D185<>\"\",'Baseline dynamic parameters'!D185,\"\")","v":""},{"$f":"IF('Baseline dynamic parameters'!E185<>\"\",'Baseline dynamic parameters'!E185,\"\")","v":""},{"$f":"IF('Baseline dynamic parameters'!F185<>\"\",'Baseline dynamic parameters'!F185,\"\")","v":""}]
[null,{"$f":"IF('Baseline dynamic parameters'!B186<>\"\",'Baseline dynamic parameters'!B186,\"\")","v":""},{"$f":"IF('Baseline dynamic parameters'!C186<>\"\",'Baseline dynamic parameters'!C186,\"\")","v":""},{"$f":"IF('Baseline dynamic parameters'!D186<>\"\",'Baseline dynamic parameters'!D186,\"\")","v":""},{"$f":"IF('Baseline dynamic parameters'!E186<>\"\",'Baseline dynamic parameters'!E186,\"\")","v":""},{"$f":"IF('Baseline dynamic parameters'!F186<>\"\",'Baseline dynamic parameters'!F186,\"\")","v":""}]
[null,{"$f":"IF('Baseline dynamic parameters'!B187<>\"\",'Baseline dynamic parameters'!B187,\"\")","v":""},{"$f":"IF('Baseline dynamic parameters'!C187<>\"\",'Baseline dynamic parameters'!C187,\"\")","v":""},{"$f":"IF('Baseline dynamic parameters'!D187<>\"\",'Baseline dynamic parameters'!D187,\"\")","v":""},{"$f":"IF('Baseline dynamic parameters'!E187<>\"\",'Baseline dynamic parameters'!E187,\"\")","v":""},{"$f":"IF('Baseline dynamic parameters'!F187<>\"\",'Baseline dynamic parameters'!F187,\"\")","v":""}]
[null,{"$f":"IF('Baseline dynamic parameters'!B188<>\"\",'Baseline dynamic parameters'!B188,\"\")","v":""},{"$f":"IF('Baseline dynamic parameters'!C188<>\"\",'Baseline dynamic parameters'!C188,\"\")","v":""},{"$f":"IF('Baseline dynamic parameters'!D188<>\"\",'Baseline dynamic parameters'!D188,\"\")","v":""},{"$f":"IF('Baseline dynamic parameters'!E188<>\"\",'Baseline dynamic parameters'!E188,\"\")","v":""},{"$f":"IF('Baseline dynamic parameters'!F188<>\"\",'Baseline dynamic parameters'!F188,\"\")","v":""}]
[null,{"$f":"IF('Baseline dynamic parameters'!B189<>\"\",'Baseline dynamic parameters'!B189,\"\")","v":""},{"$f":"IF('Baseline dynamic parameters'!C189<>\"\",'Baseline dynamic parameters'!C189,\"\")","v":""},{"$f":"IF('Baseline dynamic parameters'!D189<>\"\",'Baseline dynamic parameters'!D189,\"\")","v":""},{"$f":"IF('Baseline dynamic parameters'!E189<>\"\",'Baseline dynamic parameters'!E189,\"\")","v":""},{"$f":"IF('Baseline dynamic parameters'!F189<>\"\",'Baseline dynamic parameters'!F189,\"\")","v":""}]
[null,{"$f":"IF('Baseline dynamic parameters'!B190<>\"\",'Baseline dynamic parameters'!B190,\"\")","v":""},{"$f":"IF('Baseline dynamic parameters'!C190<>\"\",'Baseline dynamic parameters'!C190,\"\")","v":""},{"$f":"IF('Baseline dynamic parameters'!D190<>\"\",'Baseline dynamic parameters'!D190,\"\")","v":""},{"$f":"IF('Baseline dynamic parameters'!E190<>\"\",'Baseline dynamic parameters'!E190,\"\")","v":""},{"$f":"IF('Baseline dynamic parameters'!F190<>\"\",'Baseline dynamic parameters'!F190,\"\")","v":""}]
[]
[]
[]
[]
[]
[]
[]
[]
[]
[]
[]
[]
[]
[]
[]
[]
[]
[]
[]
[]
[]
[]
[]
[]
[]
[]
[]
[]
[]
[]
[]
[]
[]
[]
[]
[]
[]
[]
[]
[]
[]
[]
[]
[]
[]
[]
[]
[]
[]
[]
[]
[]
[]
[]
[]
[]
[]
[]
[]
[]
[]
[]
[]
[]
[]
[]
[]
[]
[]
[]
[]
[]
[]
[]
[]
[]
[]
[]
[]
[]
[]
[]
[]
[]
[]
[]
[]
[]
[]
[]
[]
[]
[]
[]
[]
[]
[]
[]
[]
[]
[]
[]
[]
[]
[]
[]
[]
[]
[]
[]
[null,{"$f":"IF('Estimating baseline effects'!#REF!<>\"\",'Estimating baseline effects'!#REF!,\"\")","v":{"$error":"#REF!"}}]
[null,{"$f":"IF('Estimating baseline effects'!#REF!<>\"\",'Estimating baseline effects'!#REF!,\"\")","v":{"$error":"#REF!"}}]
[null,{"$f":"IF('Estimating baseline effects'!#REF!<>\"\",'Estimating baseline effects'!#REF!,\"\")","v":{"$error":"#REF!"}}]
[null,{"$f":"IF('Estimating baseline effects'!#REF!<>\"\",'Estimating baseline effects'!#REF!,\"\")","v":{"$error":"#REF!"}}]
[null,{"$f":"IF('Estimating baseline effects'!#REF!<>\"\",'Estimating baseline effects'!#REF!,\"\")","v":{"$error":"#REF!"}}]

{"sheet":"Monitoring performance","index":8,"n_rows":48,"n_cols":20,"rows_kept":48,"cut":false,"hidden":false,"merged":[[40,17,40,19]]}
[]
[]
[]
[]
[]
[]
[]
[]
[null,null,"Use the table below to enter key performance indicators that will be used to monitor the performance of the policy or action. "]
[]
[null,null,"Then use the second table to provide details of the monitoring plan. "]
[]
[]
[null,"Define the key performance indicators used to track performance"]
[null,"Key performance indicator","Indicator type being monitored","Description","Rationale for inclusion"]
[]
[]
[]
[]
[]
[]
[]
[]
[]
[]
[]
[]
[]
[]
[]
[]
[]
[]
[]
[]
[]
[]
[]
[null,"Selected ex-post assessment method",{"$f":"ex_post_assessment_method","v":0}]
[]
[null,"Use the monitoring plan table below to enter the parameters necessary to estimate ex-post policy scenario emissions and baseline scenario emissions"]
[]
[null,"Policy monitoring period start"]
[null,"Policy monitoring period end"]
[]
[]
[null,"Details of monitoring plan"]
[null,"Key performance indicator or parameter","Indicator type","Sources of data","Responsible entity","Monitoring frequency","Units of measure","How estimated?","Level of uncertainty","How uncertainty accounted","Sampling procedures (if applicable)","Data verified?","Verification procedures used","Measurement or data collection method","Competencies","Methods for generating, storing, collating and reporting data","Databases, software or other data management tools used","Auditing, quality assurance and control processes used","Record keeping & documentation procedures for QA/QC","Any other relevant information?"]

{"sheet":"Estimate ex post GHG","index":9,"n_rows":0,"n_cols":0,"rows_kept":0,"cut":false,"hidden":true,"merged":[[76,3,76,4],[64,3,64,4],[65,3,65,4],[66,3,66,4],[67,3,67,4],[68,3,68,4],[69,3,69,4],[71,3,71,4],[72,3,72,4],[73,3,73,4],[74,3,74,4],[75,3,75,4],[43,3,43,4],[33,3,33,4],[34,3,34,4],[35,3,35,4],[36,3,36,4],[37,3,37,4],[38,3,38,4],[39,3,39,4],[40,3,40,4],[41,3,41,4],[42,3,42,4],[37,5,37,8],[26,3,26,4],[28,3,28,4],[29,3,29,4],[30,3,30,4],[31,3,31,4],[32,3,32,4],[24,3,24,4],[12,17,12,19],[14,3,14,4],[14,19,16,20],[15,3,15,4],[17,3,17,4],[18,3,18,4],[19,3,19,4],[20,3,20,4],[21,3,21,4],[22,3,22,4],[23,3,23,4]]}

{"sheet":"Parameters","index":10,"n_rows":4,"n_cols":6,"rows_kept":4,"cut":false,"hidden":false,"merged":[]}
[]
[]
[]
[null,"Parameter","Baseline value(s) applied over the GHG assessment period","Policy scenario value(s) applied over the GHG assessment period","Methodology and assumptions to estimate value(s)","Data sources"]

{"sheet":"Uncertainty","index":11,"n_rows":85,"n_cols":136,"rows_kept":85,"cut":false,"hidden":false,"merged":[[40,1,40,2],[24,3,24,4],[12,17,12,19],[11,1,11,2],[17,3,17,4],[18,3,18,4],[19,3,19,4],[20,3,20,4],[21,3,21,4],[22,3,22,4],[23,3,23,4],[32,3,32,4],[33,3,33,4],[34,3,34,4],[26,3,26,4],[28,3,28,4],[8,2,8,4],[36,1,36,2],[37,1,37,2],[38,1,38,2],[39,1,39,2],[29,3,29,4],[30,3,30,4],[31,3,31,4]]}
[]
[]
[]
[]
[]
[]
[]
[]
[null,null,"This page displays your baseline and policy scenario emissions, presents the calculated GHG effect of the policy or action, and allows you to assess and display uncertainty."]
[]
[]
[null,{"$f":"assessment_type","v":"Ex-ante"}]
[]
[]
[]
[]
[]
[]
[]
[]
[]
[]
[]
[]
[]
[]
[]
[]
[]
[]
[]
[]
[]
[]
[]
[null,"Calculated GHG effect of the policy or action over the assessment period"]
[null,"(All figures in tCO2e)",null,"Cumulative effect",2020,2021,2022,2023,2024,2025]
[null,"Total GHG effect",null,{"$f":"SUM(E38:EF38)","v":0},{"$f":"IF(E43<>\"\",E47-E44,\"\")","v":0},{"$f":"IF(F43<>\"\",F47-F44,\"\")","v":0},0,0,0,0,"","","","","","","","","","","","","","","","","","","","","","","","","","","","","","","","","","","","","","","","","","","","","","","","","","","","","","","","","","","",{"$f":"IF(BR43<>\"\",BR47-BR44,\"\")","v":""},"","","","","","","","","","","","","","","","","","","","","","","","","","","","","","","","","","","","","","","","","","","","","","","","","","","","","","","","","","","","","","","",{"$f":"IF(ED43<>\"\",ED47-ED44,\"\")","v":""},"",""]
[null,"Out-of-jurisdiction",null,{"$f":"'Estimate ex ante GHG'!C32-'Estimating baseline effects'!C40","v":0}]
[null,"In-jurisdiction",null,{"$f":"'Estimate ex ante GHG'!C33-'Estimating baseline effects'!C41","v":0}]
[null,"Unknown jurisdiction",null,{"$f":"'Estimate ex ante GHG'!C34-'Estimating baseline effects'!C42","v":0}]
[null,"Uncertainty/sensitivity ranges","Further guidance is available in sections 12.4 and 12.5 of the Policy and Action Standard (see also the 'help' on the 'Uncertainty options' cell below)"]
[null,"(All figures in tCO2e)","Display?","Uncertainty options",2020,2021,2022,2023,2024,2025,null,null,null,null,null,null,null,null,null,null,null,null,null,null,null,null,null,null,null,null,null,null,null,null,null,null,null,null,null,null,null,null,null,null,null,null,null,null,null,null,null,null,null,null,null,null,null,null,null,null,null,null,null,null,null,null,null,null,null,null,null,null,null,null,null,null,null,null,null,null,null,null,null,null,null,null,null,null,null,null,null,null,null,null,null,null,null,null,null,null,null,null,null,null,null,null,null,null,null,null,null,null,null,null,null,{"$f":"IF('Estimating baseline effects'!DX44<>\"\", 'Estimating baseline effects'!DX44,\"\")","v":""},{"$f":"IF('Estimating baseline effects'!DY44<>\"\", 'Estimating baseline effects'!DY44,\"\")","v":""},{"$f":"IF('Estimating baseline effects'!DZ44<>\"\", 'Estimating baseline effects'!DZ44,\"\")","v":""},{"$f":"IF('Estimating baseline effects'!EA44<>\"\", 'Estimating baseline effects'!EA44,\"\")","v":""},{"$f":"IF('Estimating baseline effects'!EB44<>\"\", 'Estimating baseline effects'!EB44,\"\")","v":""},{"$f":"IF('Estimating baseline effects'!EC44<>\"\", 'Estimating baseline effects'!EC44,\"\")","v":""},{"$f":"IF('Estimating baseline effects'!ED44<>\"\", 'Estimating baseline effects'!ED44,\"\")","v":""},{"$f":"IF('Estimating baseline effects'!EE44<>\"\", 'Estimating baseline effects'!EE44,\"\")","v":""},{"$f":"IF('Estimating baseline effects'!EF44<>\"\", 'Estimating baseline effects'!EF44,\"\")","v":""},{"$f":"IF('Estimating baseline effects'!EG44<>\"\", 'Estimating baseline effects'!EG44,\"\")","v":""},{"$f":"IF('Estimating baseline effects'!EH44<>\"\", 'Estimating baseline effects'!EH44,\"\")","v":""},{"$f":"IF('Estimating baseline effects'!EI44<>\"\", 'Estimating baseline effects'!EI44,\"\")","v":""},{"$f":"IF('Estimating baseline effects'!EJ44<>\"\", 'Estimating baseline effects'!EJ44,\"\")","v":""},{"$f":"IF('Estimating baseline effects'!EK44<>\"\", 'Estimating baseline effects'!EK44,\"\")","v":""},{"$f":"IF('Estimating baseline effects'!EL44<>\"\", 'Estimating baseline effects'!EL44,\"\")","v":""},{"$f":"IF('Estimating baseline effects'!EM44<>\"\", 'Estimating baseline effects'!EM44,\"\")","v":""},{"$f":"IF('Estimating baseline effects'!EN44<>\"\", 'Estimating baseline effects'!EN44,\"\")","v":""},{"$f":"IF('Estimating baseline effects'!EO44<>\"\", 'Estimating baseline effects'!EO44,\"\")","v":""},{"$f":"IF('Estimating baseline effects'!EP44<>\"\", 'Estimating baseline effects'!EP44,\"\")","v":""},{"$f":"IF('Estimating baseline effects'!EQ44<>\"\", 'Estimating baseline effects'!EQ44,\"\")","v":""},{"$f":"IF('Estimating baseline effects'!ER44<>\"\", 'Estimating baseline effects'!ER44,\"\")","v":""}]
[null,"Baseline Emissions Scenario (most likely)","yes",null,{"$f":"IF('Estimating baseline effects'!Q41 <> \"\", 'Estimating baseline effects'!Q41,\"\")","v":0},{"$f":"IF('Estimating baseline effects'!R41 <> \"\", 'Estimating baseline effects'!R41,\"\")","v":0},{"$f":"IF('Estimating baseline effects'!S41 <> \"\", 'Estimating baseline effects'!S41,\"\")","v":0},{"$f":"IF('Estimating baseline effects'!T41 <> \"\", 'Estimating baseline effects'!T41,\"\")","v":0},{"$f":"IF('Estimating baseline effects'!U41 <> \"\", 'Estimating baseline effects'!U41,\"\")","v":0},{"$f":"IF('Estimating baseline effects'!V41 <> \"\", 'Estimating baseline effects'!V41,\"\")","v":0},{"$f":"IF('Estimating baseline effects'!W41 <> \"\", 'Estimating baseline effects'!W41,\"\")","v":""},{"$f":"IF('Estimating baseline effects'!X41 <> \"\", 'Estimating baseline effects'!X41,\"\")","v":""},{"$f":"IF('Estimating baseline effects'!Y41 <> \"\", 'Estimating baseline effects'!Y41,\"\")","v":""},{"$f":"IF('Estimating baseline effects'!Z41 <> \"\", 'Estimating baseline effects'!Z41,\"\")","v":""},{"$f":"IF('Estimating baseline effects'!AA41 <> \"\", 'Estimating baseline effects'!AA41,\"\")","v":""},{"$f":"IF('Estimating baseline effects'!AB41 <> \"\", 'Estimating baseline effects'!AB41,\"\")","v":""},{"$f":"IF('Estimating baseline effects'!AC41 <> \"\", 'Estimating baseline effects'!AC41,\"\")","v":""},{"$f":"IF('Estimating baseline effects'!AD41 <> \"\", 'Estimating baseline effects'!AD41,\"\")","v":""},{"$f":"IF('Estimating baseline effects'!AE41 <> \"\", 'Estimating baseline effects'!AE41,\"\")","v":""},{"$f":"IF('Estimating baseline effects'!AF41 <> \"\", 'Estimating baseline effects'!AF41,\"\")","v":""},{"$f":"IF('Estimating baseline effects'!AG41 <> \"\", 'Estimating baseline effects'!AG41,\"\")","v":""},{"$f":"IF('Estimating baseline effects'!AH41 <> \"\", 'Estimating baseline effects'!AH41,\"\")","v":""},{"$f":"IF('Estimating baseline effects'!AI41 <> \"\", 'Estimating baseline effects'!AI41,\"\")","v":""},{"$f":"IF('Estimating baseline effects'!AJ41 <> \"\", 'Estimating baseline effects'!AJ41,\"\")","v":""},{"$f":"IF('Estimating baseline effects'!AK41 <> \"\", 'Estimating baseline effects'!AK41,\"\")","v":""},{"$f":"IF('Estimating baseline effects'!AL41 <> \"\", 'Estimating baseline effects'!AL41,\"\")","v":""},{"$f":"IF('Estimating baseline effects'!AM41 <> \"\", 'Estimating baseline effects'!AM41,\"\")","v":""},{"$f":"IF('Estimating baseline effects'!AN41 <> \"\", 'Estimating baseline effects'!AN41,\"\")","v":""},{"$f":"IF('Estimating baseline effects'!AO41 <> \"\", 'Estimating baseline effects'!AO41,\"\")","v":""},{"$f":"IF('Estimating baseline effects'!AP41 <> \"\", 'Estimating baseline effects'!AP41,\"\")","v":""},{"$f":"IF('Estimating baseline effects'!AQ41 <> \"\", 'Estimating baseline effects'!AQ41,\"\")","v":""},{"$f":"IF('Estimating baseline effects'!AR41 <> \"\", 'Estimating baseline effects'!AR41,\"\")","v":""},{"$f":"IF('Estimating baseline effects'!AS41 <> \"\", 'Estimating baseline effects'!AS41,\"\")","v":""},{"$f":"IF('Estimating baseline effects'!AT41 <> \"\", 'Estimating baseline effects'!AT41,\"\")","v":""},{"$f":"IF('Estimating baseline effects'!AU41 <> \"\", 'Estimating baseline effects'!AU41,\"\")","v":""},{"$f":"IF('Estimating baseline effects'!AV41 <> \"\", 'Estimating baseline effects'!AV41,\"\")","v":""},{"$f":"IF('Estimating baseline effects'!AW41 <> \"\", 'Estimating baseline effects'!AW41,\"\")","v":""},{"$f":"IF('Estimating baseline effects'!AX41 <> \"\", 'Estimating baseline effects'!AX41,\"\")","v":""},{"$f":"IF('Estimating baseline effects'!AY41 <> \"\", 'Estimating baseline effects'!AY41,\"\")","v":""},{"$f":"IF('Estimating baseline effects'!AZ41 <> \"\", 'Estimating baseline effects'!AZ41,\"\")","v":""},{"$f":"IF('Estimating baseline effects'!BA41 <> \"\", 'Estimating baseline effects'!BA41,\"\")","v":""},{"$f":"IF('Estimating baseline effects'!BB41 <> \"\", 'Estimating baseline effects'!BB41,\"\")","v":""},{"$f":"IF('Estimating baseline effects'!BC41 <> \"\", 'Estimating baseline effects'!BC41,\"\")","v":""},{"$f":"IF('Estimating baseline effects'!BD41 <> \"\", 'Estimating baseline effects'!BD41,\"\")","v":""},{"$f":"IF('Estimating baseline effects'!BE41 <> \"\", 'Estimating baseline effects'!BE41,\"\")","v":""},{"$f":"IF('Estimating baseline effects'!BF41 <> \"\", 'Estimating baseline effects'!BF41,\"\")","v":""},{"$f":"IF('Estimating baseline effects'!BG41 <> \"\", 'Estimating baseline effects'!BG41,\"\")","v":""},{"$f":"IF('Estimating baseline effects'!BH41 <> \"\", 'Estimating baseline effects'!BH41,\"\")","v":""},{"$f":"IF('Estimating baseline effects'!BI41 <> \"\", 'Estimating baseline effects'!BI41,\"\")","v":""},{"$f":"IF('Estimating baseline effects'!BJ41 <> \"\", 'Estimating baseline effects'!BJ41,\"\")","v":""},{"$f":"IF('Estimating baseline effects'!BK41 <> \"\", 'Estimating baseline effects'!BK41,\"\")","v":""},{"$f":"IF('Estimating baseline effects'!BL41 <> \"\", 'Estimating baseline effects'!BL41,\"\")","v":""},{"$f":"IF('Estimating baseline effects'!BM41 <> \"\", 'Estimating baseline effects'!BM41,\"\")","v":""},{"$f":"IF('Estimating baseline effects'!BN41 <> \"\", 'Estimating baseline effects'!BN41,\"\")","v":""},{"$f":"IF('Estimating baseline effects'!BO41 <> \"\", 'Estimating baseline effects'!BO41,\"\")","v":""},{"$f":"IF('Estimating baseline effects'!BP41 <> \"\", 'Estimating baseline effects'!BP41,\"\")","v":""},{"$f":"IF('Estimating baseline effects'!BQ41 <> \"\", 'Estimating baseline effects'!BQ41,\"\")","v":""},{"$f":"IF('Estimating baseline effects'!BR41 <> \"\", 'Estimating baseline effects'!BR41,\"\")","v":""},{"$f":"IF('Estimating baseline effects'!BS41 <> \"\", 'Estimating baseline effects'!BS41,\"\")","v":""},{"$f":"IF('Estimating baseline effects'!BT41 <> \"\", 'Estimating baseline effects'!BT41,\"\")","v":""},{"$f":"IF('Estimating baseline effects'!BU41 <> \"\", 'Estimating baseline effects'!BU41,\"\")","v":""},{"$f":"IF('Estimating baseline effects'!BV41 <> \"\", 'Estimating baseline effects'!BV41,\"\")","v":""},{"$f":"IF('Estimating baseline effects'!BW41 <> \"\", 'Estimating baseline effects'!BW41,\"\")","v":""},{"$f":"IF('Estimating baseline effects'!BX41 <> \"\", 'Estimating baseline effects'!BX41,\"\")","v":""},{"$f":"IF('Estimating baseline effects'!BY41 <> \"\", 'Estimating baseline effects'!BY41,\"\")","v":""},{"$f":"IF('Estimating baseline effects'!BZ41 <> \"\", 'Estimating baseline effects'!BZ41,\"\")","v":""},{"$f":"IF('Estimating baseline effects'!CA41 <> \"\", 'Estimating baseline effects'!CA41,\"\")","v":""},{"$f":"IF('Estimating baseline effects'!CB41 <> \"\", 'Estimating baseline effects'!CB41,\"\")","v":""},{"$f":"IF('Estimating baseline effects'!CC41 <> \"\", 'Estimating baseline effects'!CC41,\"\")","v":""},{"$f":"IF('Estimating baseline effects'!CD41 <> \"\", 'Estimating baseline effects'!CD41,\"\")","v":""},{"$f":"IF('Estimating baseline effects'!CE41 <> \"\", 'Estimating baseline effects'!CE41,\"\")","v":""},{"$f":"IF('Estimating baseline effects'!CF41 <> \"\", 'Estimating baseline effects'!CF41,\"\")","v":""},{"$f":"IF('Estimating baseline effects'!CG41 <> \"\", 'Estimating baseline effects'!CG41,\"\")","v":""},{"$f":"IF('Estimating baseline effects'!CH41 <> \"\", 'Estimating baseline effects'!CH41,\"\")","v":""},{"$f":"IF('Estimating baseline effects'!CI41 <> \"\", 'Estimating baseline effects'!CI41,\"\")","v":""},{"$f":"IF('Estimating baseline effects'!CJ41 <> \"\", 'Estimating baseline effects'!CJ41,\"\")","v":""},{"$f":"IF('Estimating baseline effects'!CK41 <> \"\", 'Estimating baseline effects'!CK41,\"\")","v":""},{"$f":"IF('Estimating baseline effects'!CL41 <> \"\", 'Estimating baseline effects'!CL41,\"\")","v":""},{"$f":"IF('Estimating baseline effects'!CM41 <> \"\", 'Estimating baseline effects'!CM41,\"\")","v":""},{"$f":"IF('Estimating baseline effects'!CN41 <> \"\", 'Estimating baseline effects'!CN41,\"\")","v":""},{"$f":"IF('Estimating baseline effects'!CO41 <> \"\", 'Estimating baseline effects'!CO41,\"\")","v":""},{"$f":"IF('Estimating baseline effects'!CP41 <> \"\", 'Estimating baseline effects'!CP41,\"\")","v":""},{"$f":"IF('Estimating baseline effects'!CQ41 <> \"\", 'Estimating baseline effects'!CQ41,\"\")","v":""},{"$f":"IF('Estimating baseline effects'!CR41 <> \"\", 'Estimating baseline effects'!CR41,\"\")","v":""},{"$f":"IF('Estimating baseline effects'!CS41 <> \"\", 'Estimating baseline effects'!CS41,\"\")","v":""},{"$f":"IF('Estimating baseline effects'!CT41 <> \"\", 'Estimating baseline effects'!CT41,\"\")","v":""},{"$f":"IF('Estimating baseline effects'!CU41 <> \"\", 'Estimating baseline effects'!CU41,\"\")","v":""},{"$f":"IF('Estimating baseline effects'!CV41 <> \"\", 'Estimating baseline effects'!CV41,\"\")","v":""},{"$f":"IF('Estimating baseline effects'!CW41 <> \"\", 'Estimating baseline effects'!CW41,\"\")","v":""},{"$f":"IF('Estimating baseline effects'!CX41 <> \"\", 'Estimating baseline effects'!CX41,\"\")","v":""},{"$f":"IF('Estimating baseline effects'!CY41 <> \"\", 'Estimating baseline effects'!CY41,\"\")","v":""},{"$f":"IF('Estimating baseline effects'!CZ41 <> \"\", 'Estimating baseline effects'!CZ41,\"\")","v":""},{"$f":"IF('Estimating baseline effects'!DA41 <> \"\", 'Estimating baseline effects'!DA41,\"\")","v":""},{"$f":"IF('Estimating baseline effects'!DB41 <> \"\", 'Estimating baseline effects'!DB41,\"\")","v":""},{"$f":"IF('Estimating baseline effects'!DC41 <> \"\", 'Estimating baseline effects'!DC41,\"\")","v":""},{"$f":"IF('Estimating baseline effects'!DD41 <> \"\", 'Estimating baseline effects'!DD41,\"\")","v":""},{"$f":"IF('Estimating baseline effects'!DE41 <> \"\", 'Estimating baseline effects'!DE41,\"\")","v":""},{"$f":"IF('Estimating baseline effects'!DF41 <> \"\", 'Estimating baseline effects'!DF41,\"\")","v":""},{"$f":"IF('Estimating baseline effects'!DG41 <> \"\", 'Estimating baseline effects'!DG41,\"\")","v":""},{"$f":"IF('Estimating baseline effects'!DH41 <> \"\", 'Estimating baseline effects'!DH41,\"\")","v":""},{"$f":"IF('Estimating baseline effects'!DI41 <> \"\", 'Estimating baseline effects'!DI41,\"\")","v":""},{"$f":"IF('Estimating baseline effects'!DJ41 <> \"\", 'Estimating baseline effects'!DJ41,\"\")","v":""},{"$f":"IF('Estimating baseline effects'!DK41 <> \"\", 'Estimating baseline effects'!DK41,\"\")","v":""},{"$f":"IF('Estimating baseline effects'!DL41 <> \"\", 'Estimating baseline effects'!DL41,\"\")","v":""},{"$f":"IF('Estimating baseline effects'!DM41 <> \"\", 'Estimating baseline effects'!DM41,\"\")","v":""},{"$f":"IF('Estimating baseline effects'!DN41 <> \"\", 'Estimating baseline effects'!DN41,\"\")","v":""},{"$f":"IF('Estimating baseline effects'!DO41 <> \"\", 'Estimating baseline effects'!DO41,\"\")","v":""},{"$f":"IF('Estimating baseline effects'!DP41 <> \"\", 'Estimating baseline effects'!DP41,\"\")","v":""},{"$f":"IF('Estimating baseline effects'!DQ41 <> \"\", 'Estimating baseline effects'!DQ41,\"\")","v":""},{"$f":"IF('Estimating baseline effects'!DR41 <> \"\", 'Estimating baseline effects'!DR41,\"\")","v":""},{"$f":"IF('Estimating baseline effects'!DS41 <> \"\", 'Estimating baseline effects'!DS41,\"\")","v":""},{"$f":"IF('Estimating baseline effects'!DT41 <> \"\", 'Estimating baseline effects'!DT41,\"\")","v":""},{"$f":"IF('Estimating baseline effects'!DU41 <> \"\", 'Estimating baseline effects'!DU41,\"\")","v":""},{"$f":"IF('Estimating baseline effects'!DV41 <> \"\", 'Estimating baseline effects'!DV41,\"\")","v":""},{"$f":"IF('Estimating baseline effects'!DW41 <> \"\", 'Estimating baseline effects'!DW41,\"\")","v":""},{"$f":"IF('Estimating baseline effects'!DX41 <> \"\", 'Estimating baseline effects'!DX41,\"\")","v":""},{"$f":"IF('Estimating baseline effects'!DY41 <> \"\", 'Estimating baseline effects'!DY41,\"\")","v":""},{"$f":"IF('Estimating baseline effects'!DZ41 <> \"\", 'Estimating baseline effects'!DZ41,\"\")","v":""},{"$f":"IF('Estimating baseline effects'!EA41 <> \"\", 'Estimating baseline effects'!EA41,\"\")","v":""},{"$f":"IF('Estimating baseline effects'!EB41 <> \"\", 'Estimating baseline effects'!EB41,\"\")","v":""},{"$f":"IF('Estimating baseline effects'!EC41 <> \"\", 'Estimating baseline effects'!EC41,\"\")","v":""},{"$f":"IF('Estimating baseline effects'!ED41 <> \"\", 'Estimating baseline effects'!ED41,\"\")","v":""},{"$f":"IF('Estimating baseline effects'!EE41 <> \"\", 'Estimating baseline effects'!EE41,\"\")","v":""},{"$f":"IF('Estimating baseline effects'!EF41 <> \"\", 'Estimating baseline effects'!EF41,\"\")","v":""},{"$f":"IF('Estimating baseline effects'!EG41 <> \"\", 'Estimating baseline effects'!EG41,\"\")","v":""},{"$f":"IF('Estimating baseline effects'!EH41 <> \"\", 'Estimating baseline effects'!EH41,\"\")","v":""},{"$f":"IF('Estimating baseline effects'!EI41 <> \"\", 'Estimating baseline effects'!EI41,\"\")","v":""},{"$f":"IF('Estimating baseline effects'!EJ41 <> \"\", 'Estimating baseline effects'!EJ41,\"\")","v":""},{"$f":"IF('Estimating baseline effects'!EK41 <> \"\", 'Estimating baseline effects'!EK41,\"\")","v":""},{"$f":"IF('Estimating baseline effects'!EL41 <> \"\", 'Estimating baseline effects'!EL41,\"\")","v":""},{"$f":"IF('Estimating baseline effects'!EM41 <> \"\", 'Estimating baseline effects'!EM41,\"\")","v":""},{"$f":"IF('Estimating baseline effects'!EN41 <> \"\", 'Estimating baseline effects'!EN41,\"\")","v":""},{"$f":"IF('Estimating baseline effects'!EO41 <> \"\", 'Estimating baseline effects'!EO41,\"\")","v":""},{"$f":"IF('Estimating baseline effects'!EP41 <> \"\", 'Estimating baseline effects'!EP41,\"\")","v":""},{"$f":"IF('Estimating baseline effects'!EQ41 <> \"\", 'Estimating baseline effects'!EQ41,\"\")","v":""},{"$f":"IF('Estimating baseline effects'!ER41 <> \"\", 'Estimating baseline effects'!ER41,\"\")","v":""}]
[null,"Baseline Scenario sensititivity analysis - upper bound","yes",0,{"$f":"IF(E44<>\"\", IF($D$45=plu_upper,E55,E44+(E44*$D$45)),\"\")","v":0},0,0,0,0,0,"","","","","","","","","","","","","","","","","","","","","","","","","","",{"$f":"IF(AK44<>\"\", IF($D$45=plu_upper,AK55,AK44+(AK44*$D$45)),\"\")","v":""},"","","","","","","","","","","","","","","","","","","","","","","","","","","","","","","",{"$f":"IF(BQ44<>\"\", IF($D$45=plu_upper,BQ55,BQ44+(BQ44*$D$45)),\"\")","v":""},"","","","","","","","","","","","","","","","","","","","","","","","","","","","","","","",{"$f":"IF(CW44<>\"\", IF($D$45=plu_upper,CW55,CW44+(CW44*$D$45)),\"\")","v":""},"","","","","","","","","","","","","","","","","","","","","","","","","","","","","","","",{"$f":"IF(EC44<>\"\", IF($D$45=plu_upper,EC55,EC44+(EC44*$D$45)),\"\")","v":""},"","",""]
[null,"Baseline Scenario sensititivity analysis - lower bound","yes",0,{"$f":"IF(E44<>\"\", IF($D$46=plu_lower,E54,E44+(E44*$D$46)),\"\")","v":0},0,0,0,0,0,"","","","","","","","","","","","","","","","","","","","","","","","","","",{"$f":"IF(AK44<>\"\", IF($D$46=plu_lower,AK54,AK44+(AK44*$D$46)),\"\")","v":""},"","","","","","","","","","","","","","","","","","","","","","","","","","","","","","","",{"$f":"IF(BQ44<>\"\", IF($D$46=plu_lower,BQ54,BQ44+(BQ44*$D$46)),\"\")","v":""},"","","","","","","","","","","","","","","","","","","","","","","","","","","","","","","",{"$f":"IF(CW44<>\"\", IF($D$46=plu_lower,CW54,CW44+(CW44*$D$46)),\"\")","v":""},"","","","","","","","","","","","","","","","","","","","","","","","","","","","","","","","","","",""]
[null,"Policy Scenario - primary (most likely)","yes",null,{"$f":"IF('Estimate ex ante GHG'!R34 <> \"\", 'Estimate ex ante GHG'!R34,\"\")","v":0},{"$f":"IF('Estimate ex ante GHG'!S34 <> \"\", 'Estimate ex ante GHG'!S34,\"\")","v":0},{"$f":"IF('Estimate ex ante GHG'!T34 <> \"\", 'Estimate ex ante GHG'!T34,\"\")","v":0},{"$f":"IF('Estimate ex ante GHG'!U34 <> \"\", 'Estimate ex ante GHG'!U34,\"\")","v":0},{"$f":"IF('Estimate ex ante GHG'!V34 <> \"\", 'Estimate ex ante GHG'!V34,\"\")","v":0},{"$f":"IF('Estimate ex ante GHG'!W34 <> \"\", 'Estimate ex ante GHG'!W34,\"\")","v":0},{"$f":"IF('Estimate ex ante GHG'!X34 <> \"\", 'Estimate ex ante GHG'!X34,\"\")","v":""},{"$f":"IF('Estimate ex ante GHG'!Y34 <> \"\", 'Estimate ex ante GHG'!Y34,\"\")","v":""},{"$f":"IF('Estimate ex ante GHG'!Z34 <> \"\", 'Estimate ex ante GHG'!Z34,\"\")","v":""},{"$f":"IF('Estimate ex ante GHG'!AA34 <> \"\", 'Estimate ex ante GHG'!AA34,\"\")","v":""},{"$f":"IF('Estimate ex ante GHG'!AB34 <> \"\", 'Estimate ex ante GHG'!AB34,\"\")","v":""},{"$f":"IF('Estimate ex ante GHG'!AC34 <> \"\", 'Estimate ex ante GHG'!AC34,\"\")","v":""},{"$f":"IF('Estimate ex ante GHG'!AD34 <> \"\", 'Estimate ex ante GHG'!AD34,\"\")","v":""},{"$f":"IF('Estimate ex ante GHG'!AE34 <> \"\", 'Estimate ex ante GHG'!AE34,\"\")","v":""},{"$f":"IF('Estimate ex ante GHG'!AF34 <> \"\", 'Estimate ex ante GHG'!AF34,\"\")","v":""},{"$f":"IF('Estimate ex ante GHG'!AG34 <> \"\", 'Estimate ex ante GHG'!AG34,\"\")","v":""},{"$f":"IF('Estimate ex ante GHG'!AH34 <> \"\", 'Estimate ex ante GHG'!AH34,\"\")","v":""},{"$f":"IF('Estimate ex ante GHG'!AI34 <> \"\", 'Estimate ex ante GHG'!AI34,\"\")","v":""},{"$f":"IF('Estimate ex ante GHG'!AJ34 <> \"\", 'Estimate ex ante GHG'!AJ34,\"\")","v":""},{"$f":"IF('Estimate ex ante GHG'!AK34 <> \"\", 'Estimate ex ante GHG'!AK34,\"\")","v":""},{"$f":"IF('Estimate ex ante GHG'!AL34 <> \"\", 'Estimate ex ante GHG'!AL34,\"\")","v":""},{"$f":"IF('Estimate ex ante GHG'!AM34 <> \"\", 'Estimate ex ante GHG'!AM34,\"\")","v":""},{"$f":"IF('Estimate ex ante GHG'!AN34 <> \"\", 'Estimate ex ante GHG'!AN34,\"\")","v":""},{"$f":"IF('Estimate ex ante GHG'!AO34 <> \"\", 'Estimate ex ante GHG'!AO34,\"\")","v":""},{"$f":"IF('Estimate ex ante GHG'!AP34 <> \"\", 'Estimate ex ante GHG'!AP34,\"\")","v":""},{"$f":"IF('Estimate ex ante GHG'!AQ34 <> \"\", 'Estimate ex ante GHG'!AQ34,\"\")","v":""},{"$f":"IF('Estimate ex ante GHG'!AR34 <> \"\", 'Estimate ex ante GHG'!AR34,\"\")","v":""},{"$f":"IF('Estimate ex ante GHG'!AS34 <> \"\", 'Estimate ex ante GHG'!AS34,\"\")","v":""},{"$f":"IF('Estimate ex ante GHG'!AT34 <> \"\", 'Estimate ex ante GHG'!AT34,\"\")","v":""},{"$f":"IF('Estimate ex ante GHG'!AU34 <> \"\", 'Estimate ex ante GHG'!AU34,\"\")","v":""},{"$f":"IF('Estimate ex ante GHG'!AV34 <> \"\", 'Estimate ex ante GHG'!AV34,\"\")","v":""},{"$f":"IF('Estimate ex ante GHG'!AW34 <> \"\", 'Estimate ex ante GHG'!AW34,\"\")","v":""},{"$f":"IF('Estimate ex ante GHG'!AX34 <> \"\", 'Estimate ex ante GHG'!AX34,\"\")","v":""},{"$f":"IF('Estimate ex ante GHG'!AY34 <> \"\", 'Estimate ex ante GHG'!AY34,\"\")","v":""},{"$f":"IF('Estimate ex ante GHG'!AZ34 <> \"\", 'Estimate ex ante GHG'!AZ34,\"\")","v":""},{"$f":"IF('Estimate ex ante GHG'!BA34 <> \"\", 'Estimate ex ante GHG'!BA34,\"\")","v":""},{"$f":"IF('Estimate ex ante GHG'!BB34 <> \"\", 'Estimate ex ante GHG'!BB34,\"\")","v":""},{"$f":"IF('Estimate ex ante GHG'!BC34 <> \"\", 'Estimate ex ante GHG'!BC34,\"\")","v":""},{"$f":"IF('Estimate ex ante GHG'!BD34 <> \"\", 'Estimate ex ante GHG'!BD34,\"\")","v":""},{"$f":"IF('Estimate ex ante GHG'!BE34 <> \"\", 'Estimate ex ante GHG'!BE34,\"\")","v":""},{"$f":"IF('Estimate ex ante GHG'!BF34 <> \"\", 'Estimate ex ante GHG'!BF34,\"\")","v":""},{"$f":"IF('Estimate ex ante GHG'!BG34 <> \"\", 'Estimate ex ante GHG'!BG34,\"\")","v":""},{"$f":"IF('Estimate ex ante GHG'!BH34 <> \"\", 'Estimate ex ante GHG'!BH34,\"\")","v":""},{"$f":"IF('Estimate ex ante GHG'!BI34 <> \"\", 'Estimate ex ante GHG'!BI34,\"\")","v":""},{"$f":"IF('Estimate ex ante GHG'!BJ34 <> \"\", 'Estimate ex ante GHG'!BJ34,\"\")","v":""},{"$f":"IF('Estimate ex ante GHG'!BK34 <> \"\", 'Estimate ex ante GHG'!BK34,\"\")","v":""},{"$f":"IF('Estimate ex ante GHG'!BL34 <> \"\", 'Estimate ex ante GHG'!BL34,\"\")","v":""},{"$f":"IF('Estimate ex ante GHG'!BM34 <> \"\", 'Estimate ex ante GHG'!BM34,\"\")","v":""},{"$f":"IF('Estimate ex ante GHG'!BN34 <> \"\", 'Estimate ex ante GHG'!BN34,\"\")","v":""},{"$f":"IF('Estimate ex ante GHG'!BO34 <> \"\", 'Estimate ex ante GHG'!BO34,\"\")","v":""},{"$f":"IF('Estimate ex ante GHG'!BP34 <> \"\", 'Estimate ex ante GHG'!BP34,\"\")","v":""},{"$f":"IF('Estimate ex ante GHG'!BQ34 <> \"\", 'Estimate ex ante GHG'!BQ34,\"\")","v":""},{"$f":"IF('Estimate ex ante GHG'!BR34 <> \"\", 'Estimate ex ante GHG'!BR34,\"\")","v":""},{"$f":"IF('Estimate ex ante GHG'!BS34 <> \"\", 'Estimate ex ante GHG'!BS34,\"\")","v":""},{"$f":"IF('Estimate ex ante GHG'!BT34 <> \"\", 'Estimate ex ante GHG'!BT34,\"\")","v":""},{"$f":"IF('Estimate ex ante GHG'!BU34 <> \"\", 'Estimate ex ante GHG'!BU34,\"\")","v":""},{"$f":"IF('Estimate ex ante GHG'!BV34 <> \"\", 'Estimate ex ante GHG'!BV34,\"\")","v":""},{"$f":"IF('Estimate ex ante GHG'!BW34 <> \"\", 'Estimate ex ante GHG'!BW34,\"\")","v":""},{"$f":"IF('Estimate ex ante GHG'!BX34 <> \"\", 'Estimate ex ante GHG'!BX34,\"\")","v":""},{"$f":"IF('Estimate ex ante GHG'!BY34 <> \"\", 'Estimate ex ante GHG'!BY34,\"\")","v":""},{"$f":"IF('Estimate ex ante GHG'!BZ34 <> \"\", 'Estimate ex ante GHG'!BZ34,\"\")","v":""},{"$f":"IF('Estimate ex ante GHG'!CA34 <> \"\", 'Estimate ex ante GHG'!CA34,\"\")","v":""},{"$f":"IF('Estimate ex ante GHG'!CB34 <> \"\", 'Estimate ex ante GHG'!CB34,\"\")","v":""},{"$f":"IF('Estimate ex ante GHG'!CC34 <> \"\", 'Estimate ex ante GHG'!CC34,\"\")","v":""},{"$f":"IF('Estimate ex ante GHG'!CD34 <> \"\", 'Estimate ex ante GHG'!CD34,\"\")","v":""},{"$f":"IF('Estimate ex ante GHG'!CE34 <> \"\", 'Estimate ex ante GHG'!CE34,\"\")","v":""},{"$f":"IF('Estimate ex ante GHG'!CF34 <> \"\", 'Estimate ex ante GHG'!CF34,\"\")","v":""},{"$f":"IF('Estimate ex ante GHG'!CG34 <> \"\", 'Estimate ex ante GHG'!CG34,\"\")","v":""},{"$f":"IF('Estimate ex ante GHG'!CH34 <> \"\", 'Estimate ex ante GHG'!CH34,\"\")","v":""},{"$f":"IF('Estimate ex ante GHG'!CI34 <> \"\", 'Estimate ex ante GHG'!CI34,\"\")","v":""},{"$f":"IF('Estimate ex ante GHG'!CJ34 <> \"\", 'Estimate ex ante GHG'!CJ34,\"\")","v":""},{"$f":"IF('Estimate ex ante GHG'!CK34 <> \"\", 'Estimate ex ante GHG'!CK34,\"\")","v":""},{"$f":"IF('Estimate ex ante GHG'!CL34 <> \"\", 'Estimate ex ante GHG'!CL34,\"\")","v":""},{"$f":"IF('Estimate ex ante GHG'!CM34 <> \"\", 'Estimate ex ante GHG'!CM34,\"\")","v":""},{"$f":"IF('Estimate ex ante GHG'!CN34 <> \"\", 'Estimate ex ante GHG'!CN34,\"\")","v":""},{"$f":"IF('Estimate ex ante GHG'!CO34 <> \"\", 'Estimate ex ante GHG'!CO34,\"\")","v":""},{"$f":"IF('Estimate ex ante GHG'!CP34 <> \"\", 'Estimate ex ante GHG'!CP34,\"\")","v":""},{"$f":"IF('Estimate ex ante GHG'!CQ34 <> \"\", 'Estimate ex ante GHG'!CQ34,\"\")","v":""},{"$f":"IF('Estimate ex ante GHG'!CR34 <> \"\", 'Estimate ex ante GHG'!CR34,\"\")","v":""},{"$f":"IF('Estimate ex ante GHG'!CS34 <> \"\", 'Estimate ex ante GHG'!CS34,\"\")","v":""},{"$f":"IF('Estimate ex ante GHG'!CT34 <> \"\", 'Estimate ex ante GHG'!CT34,\"\")","v":""},{"$f":"IF('Estimate ex ante GHG'!CU34 <> \"\", 'Estimate ex ante GHG'!CU34,\"\")","v":""},{"$f":"IF('Estimate ex ante GHG'!CV34 <> \"\", 'Estimate ex ante GHG'!CV34,\"\")","v":""},{"$f":"IF('Estimate ex ante GHG'!CW34 <> \"\", 'Estimate ex ante GHG'!CW34,\"\")","v":""},{"$f":"IF('Estimate ex ante GHG'!CX34 <> \"\", 'Estimate ex ante GHG'!CX34,\"\")","v":""},{"$f":"IF('Estimate ex ante GHG'!CY34 <> \"\", 'Estimate ex ante GHG'!CY34,\"\")","v":""},{"$f":"IF('Estimate ex ante GHG'!CZ34 <> \"\", 'Estimate ex ante GHG'!CZ34,\"\")","v":""},{"$f":"IF('Estimate ex ante GHG'!DA34 <> \"\", 'Estimate ex ante GHG'!DA34,\"\")","v":""},{"$f":"IF('Estimate ex ante GHG'!DB34 <> \"\", 'Estimate ex ante GHG'!DB34,\"\")","v":""},{"$f":"IF('Estimate ex ante GHG'!DC34 <> \"\", 'Estimate ex ante GHG'!DC34,\"\")","v":""},{"$f":"IF('Estimate ex ante GHG'!DD34 <> \"\", 'Estimate ex ante GHG'!DD34,\"\")","v":""},{"$f":"IF('Estimate ex ante GHG'!DE34 <> \"\", 'Estimate ex ante GHG'!DE34,\"\")","v":""},{"$f":"IF('Estimate ex ante GHG'!DF34 <> \"\", 'Estimate ex ante GHG'!DF34,\"\")","v":""},{"$f":"IF('Estimate ex ante GHG'!DG34 <> \"\", 'Estimate ex ante GHG'!DG34,\"\")","v":""},{"$f":"IF('Estimate ex ante GHG'!DH34 <> \"\", 'Estimate ex ante GHG'!DH34,\"\")","v":""},{"$f":"IF('Estimate ex ante GHG'!DI34 <> \"\", 'Estimate ex ante GHG'!DI34,\"\")","v":""},{"$f":"IF('Estimate ex ante GHG'!DJ34 <> \"\", 'Estimate ex ante GHG'!DJ34,\"\")","v":""},{"$f":"IF('Estimate ex ante GHG'!DK34 <> \"\", 'Estimate ex ante GHG'!DK34,\"\")","v":""},{"$f":"IF('Estimate ex ante GHG'!DL34 <> \"\", 'Estimate ex ante GHG'!DL34,\"\")","v":""},{"$f":"IF('Estimate ex ante GHG'!DM34 <> \"\", 'Estimate ex ante GHG'!DM34,\"\")","v":""},{"$f":"IF('Estimate ex ante GHG'!DN34 <> \"\", 'Estimate ex ante GHG'!DN34,\"\")","v":""},{"$f":"IF('Estimate ex ante GHG'!DO34 <> \"\", 'Estimate ex ante GHG'!DO34,\"\")","v":""},{"$f":"IF('Estimate ex ante GHG'!DP34 <> \"\", 'Estimate ex ante GHG'!DP34,\"\")","v":""},{"$f":"IF('Estimate ex ante GHG'!DQ34 <> \"\", 'Estimate ex ante GHG'!DQ34,\"\")","v":""},{"$f":"IF('Estimate ex ante GHG'!DR34 <> \"\", 'Estimate ex ante GHG'!DR34,\"\")","v":""},{"$f":"IF('Estimate ex ante GHG'!DS34 <> \"\", 'Estimate ex ante GHG'!DS34,\"\")","v":""},{"$f":"IF('Estimate ex ante GHG'!DT34 <> \"\", 'Estimate ex ante GHG'!DT34,\"\")","v":""},{"$f":"IF('Estimate ex ante GHG'!DU34 <> \"\", 'Estimate ex ante GHG'!DU34,\"\")","v":""},{"$f":"IF('Estimate ex ante GHG'!DV34 <> \"\", 'Estimate ex ante GHG'!DV34,\"\")","v":""},{"$f":"IF('Estimate ex ante GHG'!DW34 <> \"\", 'Estimate ex ante GHG'!DW34,\"\")","v":""},{"$f":"IF('Estimate ex ante GHG'!DX34 <> \"\", 'Estimate ex ante GHG'!DX34,\"\")","v":""},{"$f":"IF('Estimate ex ante GHG'!DY34 <> \"\", 'Estimate ex ante GHG'!DY34,\"\")","v":""},{"$f":"IF('Estimate ex ante GHG'!DZ34 <> \"\", 'Estimate ex ante GHG'!DZ34,\"\")","v":""},{"$f":"IF('Estimate ex ante GHG'!EA34 <> \"\", 'Estimate ex ante GHG'!EA34,\"\")","v":""},{"$f":"IF('Estimate ex ante GHG'!EB34 <> \"\", 'Estimate ex ante GHG'!EB34,\"\")","v":""},{"$f":"IF('Estimate ex ante GHG'!EC34 <> \"\", 'Estimate ex ante GHG'!EC34,\"\")","v":""},{"$f":"IF('Estimate ex ante GHG'!ED34 <> \"\", 'Estimate ex ante GHG'!ED34,\"\")","v":""},{"$f":"IF('Estimate ex ante GHG'!EE34 <> \"\", 'Estimate ex ante GHG'!EE34,\"\")","v":""},{"$f":"IF('Estimate ex ante GHG'!EF34 <> \"\", 'Estimate ex ante GHG'!EF34,\"\")","v":""},{"$f":"IF('Estimate ex ante GHG'!EG34 <> \"\", 'Estimate ex ante GHG'!EG34,\"\")","v":""},{"$f":"IF('Estimate ex ante GHG'!EH34 <> \"\", 'Estimate ex ante GHG'!EH34,\"\")","v":""},{"$f":"IF('Estimate ex ante GHG'!EI34 <> \"\", 'Estimate ex ante GHG'!EI34,\"\")","v":""},{"$f":"IF('Estimate ex ante GHG'!EJ34 <> \"\", 'Estimate ex ante GHG'!EJ34,\"\")","v":""},{"$f":"IF('Estimate ex ante GHG'!EK34 <> \"\", 'Estimate ex ante GHG'!EK34,\"\")","v":""},{"$f":"IF('Estimate ex ante GHG'!EL34 <> \"\", 'Estimate ex ante GHG'!EL34,\"\")","v":""},{"$f":"IF('Estimate ex ante GHG'!EM34 <> \"\", 'Estimate ex ante GHG'!EM34,\"\")","v":""},{"$f":"IF('Estimate ex ante GHG'!EN34 <> \"\", 'Estimate ex ante GHG'!EN34,\"\")","v":""},{"$f":"IF('Estimate ex ante GHG'!EO34 <> \"\", 'Estimate ex ante GHG'!EO34,\"\")","v":""},{"$f":"IF('Estimate ex ante GHG'!EP34 <> \"\", 'Estimate ex ante GHG'!EP34,\"\")","v":""},{"$f":"IF('Estimate ex ante GHG'!EQ34 <> \"\", 'Estimate ex ante GHG'!EQ34,\"\")","v":""},{"$f":"IF('Estimate ex ante GHG'!ER34 <> \"\", 'Estimate ex ante GHG'!ER34,\"\")","v":""},{"$f":"IF('Estimate ex ante GHG'!ES34 <> \"\", 'Estimate ex ante GHG'!ES34,\"\")","v":""}]
[null,"Policy Scenario sensitivity analysis -upper bound","yes",0,{"$f":"IF(E47<>\"\", IF($D$48=plu_upper,E52,E47+(E47*$D$48)),\"\")","v":0},0,0,0,0,0,"","","","","","","","","","","","","","","","","","","","","","","","","","",{"$f":"IF(AK47<>\"\", IF($D$48=plu_upper,AK52,AK47+(AK47*$D$48)),\"\")","v":""},"","","","","","","","","","","","","","","","","","","","","","","","","","","","","","","",{"$f":"IF(BQ47<>\"\", IF($D$48=plu_upper,BQ52,BQ47+(BQ47*$D$48)),\"\")","v":""},"","","","","","","","","","","","","","","","","","","","","","","","","","","","","","","",{"$f":"IF(CW47<>\"\", IF($D$48=plu_upper,CW52,CW47+(CW47*$D$48)),\"\")","v":""},"","","","","","","","","","","","","","","","","","","","","","","","","","","","","","","",{"$f":"IF(EC47<>\"\", IF($D$48=plu_upper,EC52,EC47+(EC47*$D$48)),\"\")","v":""},"","",""]
[null,"Policy Scenario sensitivity analysis- lower bound","yes",0,{"$f":"IF(E47<>\"\", IF($D$49=plu_lower,E51,E47+(E47*$D$49)),\"\")","v":0},0,0,0,0,0,"","","","","","","","","","","","","","","","","","","","","","","","","","",{"$f":"IF(AK47<>\"\", IF($D$49=plu_lower,AK51,AK47+(AK47*$D$49)),\"\")","v":""},"","","","","","","","","","","","","","","","","","","","","","","","","","","","","","","",{"$f":"IF(BQ47<>\"\", IF($D$49=plu_lower,BQ51,BQ47+(BQ47*$D$49)),\"\")","v":""},"","","","","","","","","","","","","","","","","","","","","","","","","","","","","","","",{"$f":"IF(CW47<>\"\", IF($D$49=plu_lower,CW51,CW47+(CW47*$D$49)),\"\")","v":""},"","","","","","","","","","","","","","","","","","","","","","","","","","","","","","","","","","",""]
[null,"ex-ante start year",null,null,{"$f":"IF(assessment_type=combined,IF(E43=ex_ante_start_year,100%,\"\"),\"\")","v":""},"","","","","","","","","","","","","","","","","","","","","","","","","","","","","","","",{"$f":"IF(assessment_type=combined,IF(AK43=ex_ante_start_year,100%,\"\"),\"\")","v":""},"","","","","","","","","","","","","","","","","","","","","","","","","","","","","","","",{"$f":"IF(assessment_type=combined,IF(BQ43=ex_ante_start_year,100%,\"\"),\"\")","v":""},"","","","","","","","","","","","","","","","","","","","","","","","","","","","","","","",{"$f":"IF(assessment_type=combined,IF(CW43=ex_ante_start_year,100%,\"\"),\"\")","v":""},"","","","","","","","","","","","","","","","","","","","","","","","","","","","","","","","","","",""]
[null,"Policy Scenario sensitivity analysis -lower bound",null,null,0,0,0,0,0,0,0,0,0,0,0,0,0,0,0,0,0,0,0,0,0,0,0]
[null,"Policy Scenario sensitivity analysis -upper bound",null,null,0,0,0,0,0,0,0,0,0,0,0,0,0,0,0,0,0,0,0,0,0,0,0]
[]
[null,"Baseline Scenario sensititivity analysis -lower bound",null,null,0,0,0,0,0,0,0,0,0,0]
[null,"Baseline Scenario sensititivity analysis - upper bound",null,null,0,0,0,0,0,0,0,0,0,0]
[]
[]
[null,"example effect 1","CO2",1,0,0,0,0,0,0]
[null,"example effect 1","CH4",28,0,0,0,0,0,0]
[null,"example effect 1","N2O",265,0,0,0,0,0,0]
[]
[]
[]
[]
[]
[null,"example effect 1","CO2",1,0,0,0,0,0,0]
[null,"example effect 1","CH4",28,0,0,0,0,0,0]
[null,"example effect 1","N2O",265,0,0,0,0,0,0]
[]
[]
[]
[]
[]
[]
["b","example effect 1","CO2",1,0,0,0,0,0,0]
["b","example effect 1","CH4",28,0,0,0,0,0,0]
["b","example effect 1","N2O",265,0,0,0,0,0,0]
[]
[]
[]
[]
[]
[null,"example effect 1","CO2",1,0,0,0,0,0,0]
[null,"example effect 1","CH4",28,0,0,0,0,0,0]
[null,"example effect 1","N2O",265,0,0,0,0,0,0]

{"sheet":"Reporting","index":12,"n_rows":108,"n_cols":18,"rows_kept":108,"cut":false,"hidden":false,"merged":[[13,1,13,10],[13,11,13,19],[14,1,14,10],[14,11,14,19],[15,1,15,10],[15,11,15,19],[19,1,19,10],[19,11,19,19],[20,1,20,10],[21,1,21,10],[21,11,21,19],[22,1,22,10],[22,11,22,19],[16,1,16,10],[16,11,16,19],[17,5,17,10],[17,11,17,19],[18,1,18,10],[18,11,18,19],[27,1,27,10],[27,11,27,19],[28,1,28,10],[28,11,28,19],[29,1,29,10],[29,11,29,19],[23,1,23,10],[23,11,23,19],[24,1,24,19],[25,1,25,10],[25,11,25,19],[26,1,26,10],[26,11,26,19],[33,1,33,10],[33,11,33,19],[34,1,34,10],[34,11,34,19],[35,1,35,10],[35,11,35,19],[30,1,30,10],[30,11,30,19],[31,1,31,10],[31,11,31,19],[32,1,32,10],[32,11,32,19],[41,1,41,10],[41,11,41,19],[42,1,42,19],[43,1,43,10],[43,11,43,19],[44,1,44,10],[44,11,44,19],[36,1,36,19],[37,1,37,10],[37,11,37,19],[39,1,39,19],[40,1,40,10],[40,11,40,19],[48,1,48,10],[48,11,48,19],[49,1,49,10],[49,11,49,19],[50,1,50,10],[50,11,50,19],[45,1,45,10],[45,11,45,19],[46,1,46,10],[46,11,46,19],[47,1,47,10],[47,11,47,19],[54,1,54,10],[54,11,54,19],[55,1,55,10],[55,11,55,19],[56,1,56,10],[56,11,56,19],[51,1,51,10],[51,11,51,19],[52,1,52,10],[52,11,52,19],[53,1,53,10],[53,11,53,19],[60,1,60,10],[60,11,60,19],[61,1,61,10],[61,11,61,19],[62,1,62,10],[62,11,62,19],[57,1,57,10],[57,11,57,19],[58,1,58,10],[58,11,58,19],[59,1,59,10],[59,11,59,19],[66,1,66,10],[66,11,66,19],[67,1,67,10],[67,11,67,19],[68,1,68,19],[69,1,69,10],[69,11,69,19],[63,1,63,10],[63,11,63,19],[64,1,64,10],[64,11,64,19],[65,1,65,10],[65,11,65,19],[73,1,73,10],[73,11,73,19],[74,1,74,10],[74,11,74,19],[75,1,75,10],[75,11,75,19],[70,1,70,10],[70,11,70,19],[71,1,71,10],[71,11,71,19],[72,1,72,10],[72,11,72,19],[80,10,80,19],[81,1,81,10],[81,11,81,19],[82,1,82,10],[82,11,82,19],[83,1,83,10],[83,11,83,19],[76,1,76,10],[76,11,76,19],[77,1,77,19],[78,1,78,10],[78,11,78,19],[79,1,79,10],[79,11,79,19],[88,1,88,19],[89,1,89,10],[89,11,89,19],[90,1,90,10],[90,11,90,19],[91,1,91,10],[91,11,91,19],[84,1,84,10],[84,11,84,19],[85,1,85,19],[86,1,86,10],[86,11,86,19],[87,1,87,10],[87,11,87,19],[96,11,96,19],[97,1,97,10],[97,11,97,19],[92,1,92,10],[92,11,92,19],[93,1,93,10],[93,11,93,19],[94,1,94,10],[94,11,94,19],[9,17,9,19],[107,1,107,10],[107,11,107,19],[104,1,104,10],[104,11,104,19],[105,1,105,10],[105,11,105,19],[106,1,106,10],[106,11,106,19],[101,1,101,10],[101,11,101,19],[102,1,102,10],[102,11,102,19],[103,1,103,10],[103,11,103,19],[98,1,98,10],[98,11,98,19],[99,1,99,10],[99,11,99,19],[100,1,100,10],[100,11,100,19],[95,1,95,10],[95,11,95,19],[96,1,96,10]]}
[]
[]
[]
[]
[]
[]
[]
[]
[]
[null,null,null,null,null,null,null,null,{"$f":"\"Summary Report\"","v":"Summary Report"},null,null,null,null,null,null,null,null,{"$f":" NOW()","v":"2016-12-02T12:56:22.580"}]
[]
[]
[]
[null,"Reporting requirement ",null,null,null,null,null,null,null,null,null,"Response"]
[null,"Title of policy or action (or package of policies/actions) assessed",null,null,null,null,null,null,null,null,null,{"$f":"'Define PolicyAction'!D13","v":"Example policy or action full name"}]
[null,"Objectives of the GHG assessment",null,null,null,null,null,null,null,null,null,{"$f":"'Define PolicyAction'!D60","v":0}]
[null,"Intended audience",null,null,null,null,null,null,null,null,null,{"$f":"'Define PolicyAction'!D58","v":0}]
[null,"Year this assessment was developed",null,null,null,null,null,null,null,null,null,{"$f":"'Define PolicyAction'!D62","v":0}]
[null,"Is this assessment an update of a previous assessment. If so, please provide a link to any previous assessment(s) ",null,null,null,null,null,null,null,null,null,{"$f":"'Define PolicyAction'!D64","v":0}]
[null,"Assessment type (ex-ante/ex-post/combined)",null,null,null,null,null,null,null,null,null,{"$f":"'Define PolicyAction'!D56","v":"Ex-ante"}]
[null,"GHG assessment period",null,null,null,null,null,null,null,null,null,{"$f":" 'Defining the GHG boundary'!F13 & \" to \" & 'Defining the GHG boundary'!F14","v":"2020 to 2025"}]
[null,"Estimated total net change in GHG emissions and removals (tCO2)",null,null,null,null,null,null,null,null,null,{"$f":"'Estimate ex ante GHG'!C35","v":0}]
[null,"Total in-juridiction GHG effects",null,null,null,null,null,null,null,null,null,{"$f":"'Estimate ex ante GHG'!C33","v":0}]
[]
[null,"Defining the Policy or Action"]
[null,"Status of the policy or action",null,null,null,null,null,null,null,null,null,{"$f":"'Define PolicyAction'!D32","v":"Planned - policy/action option under discussion, but that has not been adopted yet"}]
[null,"Date of implementation",null,null,null,null,null,null,null,null,null,{"$f":"'Define PolicyAction'!D34","v":0}]
[null,"Date of completion",null,null,null,null,null,null,null,null,null,{"$f":"'Define PolicyAction'!D36","v":0}]
[null,"Implementing entities",null,null,null,null,null,null,null,null,null,{"$f":"'Define PolicyAction'!D38","v":0}]
[null,"Objective of the Policy or action",null,null,null,null,null,null,null,null,null,{"$f":"'Define PolicyAction'!D40","v":0}]
[null,"Type of policy or action",null,null,null,null,null,null,null,null,null,{"$f":"'Define PolicyAction'!D26","v":0}]
[null,"Specific interventions included in the policy or action",null,null,null,null,null,null,null,null,null,{"$f":"'Define PolicyAction'!D30","v":0}]
[null,"Geographic coverage ",null,null,null,null,null,null,null,null,null,{"$f":"'Define PolicyAction'!D44","v":"\n\n\n "}]
[null,"Primary sectors, sub sectors and emission source/sink categories targeted and GHGs targeted",null,null,null,null,null,null,null,null,null,{"$f":"'Define PolicyAction'!D46","v":0}]
[null,"Related policies or actions that may interact with this "]
[]
[null,"Identifying effects and mapping the causal chain "]
[null,"Print the 'Identify effects' and 'Causal Chain' pages",null,null,null,null,null,null,null,null,null,"Go to Identify Effects page"]
[]
[null,"Defining the GHG Assessment Boundary"]
[null,"Print Defning the GHG Boundaries page",null,null,null,null,null,null,null,null,null,"Go to Define the GHG Boundary Assessment page"]
[]
[null,"Estimating Baseline Emissions "]
[null,{"$f":"'Estimating baseline effects'!B17","v":"A description of the baseline scenario and justification for why it is considered the most likely scenario"},null,null,null,null,null,null,null,null,null,{"$f":"'Estimating baseline effects'!C17","v":0}]
[null,{"$f":"'Estimating baseline effects'!B19","v":"The methodology used to estimate baseline emissions, including the emissions estimation methods"},null,null,null,null,null,null,null,null,null,{"$f":"'Estimating baseline effects'!C19","v":0}]
[null,"Total annual and cumulative baseline scenario emissions and removals  (Print 'Estimate Baseline Emissions' page)",null,null,null,null,null,null,null,null,null,"Go to Estimate Baseline Emissions page"]
[null,{"$f":"'Estimating baseline effects'!B21","v":"Justification for the choice of whether to develop new baseline assumptions and data or use published baseline assumptions and data"},null,null,null,null,null,null,null,null,null,{"$f":"'Estimating baseline effects'!C21","v":0}]
[null,{"$f":"'Estimating baseline effects'!B23","v":"List of policies, actions and projects included in the baseline scenario. Any implemented or adopted policies, actions or projects excluded from the baseline scenario with justification for their exclusion"},null,null,null,null,null,null,null,null,null,{"$f":"'Estimating baseline effects'!C23","v":"\n"}]
[null,{"$f":"'Estimating baseline effects'!B25","v":"Desired level of accuracy"},null,null,null,null,null,null,null,null,null,{"$f":"'Estimating baseline effects'!C25","v":0}]
[null,{"$f":"'Estimating baseline effects'!B27","v":"Whether the baseline scenario includes any planned policies and if so, which planned policies are included"},null,null,null,null,null,null,null,null,null,{"$f":"'Estimating baseline effects'!C27","v":0}]
[null,{"$f":"'Estimating baseline effects'!B29","v":"List of non-policy drivers included in the baseline scenario. Any relevant non-policy drivers excluded from the baseline scenario, with justification for their exclusion"},null,null,null,null,null,null,null,null,null,{"$f":"'Estimating baseline effects'!C29","v":0}]
[null,{"$f":"'Estimating baseline effects'!B31","v":"Methodology and assumptions used to estimate baseline values for key parameters"},null,null,null,null,null,null,null,null,null,{"$f":"'Estimating baseline effects'!C31","v":0}]
[null,"The baseline values for key parameters (such as activity data, emission factors, and GWP values) in the baseline emissions estimation method(s)  (Print 'Estimate Baseline Emissions' page)",null,null,null,null,null,null,null,null,null,"Go to Estimate Baseline Emissions page"]
[null,{"$f":"'Estimating baseline effects'!B33","v":"All sources of data used for key parameters, including activity data, emission factors, GWP values, and assumptions"},null,null,null,null,null,null,null,null,null,{"$f":"'Estimating baseline effects'!C33","v":0}]
[null,{"$f":"'Estimating baseline effects'!B35","v":"Any potential interactions with other policies and actions and whether and how policy interactions were estimated"},null,null,null,null,null,null,null,null,null,{"$f":"'Estimating baseline effects'!C35","v":0}]
[null,{"$f":"'Estimating baseline effects'!B37","v":"Any sources, sinks, or greenhouse gases in the GHG assessment boundary that have not been estimated in the baseline scenario, with justification, and a qualitative description of those sources, sinks, or gases"},null,null,null,null,null,null,null,null,null,{"$f":"'Estimating baseline effects'!C37","v":0}]
[null,"Any sources, sinks, or greenhouse gases in the GHG assessment boundary that have not been estimated in the baseline scenario, with justification, and a qualitative description of those sources, sinks, or gases"]
[]
[null,"Estimating GHG Effects Ex-Ante/Ex-Post"]
[null,{"$f":"'Estimate ex ante GHG'!B14","v":"Describe the overall policy scenario (i.e. the events or conditions most likely to occur/that have occurred in the presence of the policy or action)"},null,null,null,null,null,null,null,null,null,{"$f":"'Estimate ex ante GHG'!C14","v":0}]
[null,"Total annual and cumulative policy scenario emission  and removals over the GHG assessment period, if feasible based on the method used  (Print 'Estimate GHG Effects Ex-Ante/Ex-Post' page)",null,null,null,null,null,null,null,null,null,"Go to Estimate GHG Effects Ex-Ante/Ex-Post"]
[null,{"$f":"'Estimate ex ante GHG'!B16","v":"The methodology and assumptions used to estimate policy scenario emissions, including the emissions estimation method(s) (including any models) used"},null,null,null,null,null,null,null,null,null,{"$f":"'Estimate ex ante GHG'!C16","v":"\n\n\n\n\n\n\n\n\n"}]
[null,"The policy scenario values for key parameters (such as activity data, emission factors, and GWP values) in the emissions estimation method(s)  (Print 'Estimate GHG Effects Ex-Ante/Ex-Post' page)",null,null,null,null,null,null,null,null,null,"Go to Estimate GHG Effects Ex-Ante/Ex-Post"]
[null,{"$f":"'Estimate ex ante GHG'!B22","v":"The methodology and assumptions used to estimate policy scenario  values for key parameters including whether each parameter is assumed to be static or dynamic"},null,null,null,null,null,null,null,null,null,{"$f":"'Estimate ex ante GHG'!C22","v":0}]
[null,{"$f":"'Estimate ex ante GHG'!B24","v":"Any potential interactions with other policies and actions and whether and how policy interactions were estimated"},null,null,null,null,null,null,null,null,null,{"$f":"'Estimate ex ante GHG'!C24","v":0}]
[null,{"$f":"'Estimate ex ante GHG'!B26","v":"Any sources, sinks, greenhouse gases, or GHG effects in the GHG assessment boundary that have not been estimated in the policy scenario, with justification and a qualitative description of the change to those sources, sinks or gases"},null,null,null,null,null,null,null,null,null,{"$f":"'Estimate ex ante GHG'!C26","v":0}]
[]
[]
[null,"Estimating GHG Effects Ex-Post"]
[null,{"$f":"'Estimate ex ante GHG'!B18","v":"Description of the differences between results from top-down and bottom-up methods (if applicable)"},null,null,null,null,null,null,null,null,null,{"$f":"'Estimate ex ante GHG'!C18","v":"ex-post/combined only"}]
[null,"The methodology and assumptions used to estimate policy scenario emissions, including the emissions estimation method(s) (including any models) used",null,null,null,null,null,null,null,null,null,{"$f":"'Estimate ex ante GHG'!C28","v":"If data are normalized, the normalized results separately reported from the non-normailized results and the normalization methods used"}]
[null,"All sources of data for key parameters, including activity data, emission factors, GWP values, and assumptions",null,null,null,null,null,null,null,null,null,{"$f":"'Estimate ex ante GHG'!C26","v":0}]
[null,"Any potential interactions with other policies and actions and whether and how policy interactions were estimated",null,null,null,null,null,null,null,null,null,{"$f":"'Estimate ex ante GHG'!C28","v":"If data are normalized, the normalized results separately reported from the non-normailized results and the normalization methods used"}]
[null,"If data are normalized, the normalized results separately reported from the non-normalized results, and the normalization methods used"]
[null,"Description of differences between results from top-down and bottom-up methods (if applicable)"]
[null,"Any sources, sinks, or greenhouse gases in the GHG assessment boundary that have not been estimated in the policy scenario, with justification, and a qualitative description of the change to those sources, sinks, or gases",null,null,null,null,null,null,null,null,null,{"$f":"'Estimate ex ante GHG'!C30","v":0}]
[]
[null,"Monitoring Performance over Time"]
[null,"Print 'Monitor Performance Over Time' page",null,null,null,null,null,null,null,null,null,"Go to Monitor Performance Over Time"]
[]
[null,"Assessing Uncertainty"]
[null,"A quantitative estimate or qualitative description of the uncertainty of the results"]
[null,"The range of results from sensitivity analysis for key parameters and assumptions"]
[null,"The method or approach used to assess uncertainty"]
[]
[null,"Verification"]
[null,"Whether the GHG assessment results were verified, and if so, the type of verification (first party or third party), the relevant competencies of the verifier(s), and the opinion issued by the verifier"]
[]
[null,"Optional reporting information"]
[null,"The net change in GHG emissions and the net change in GHG removals, separately reported in tonnes of carbon dioxide equivalent"]
[null,"Net changes in GHG emissions and removals, reported separately by individual greenhouse gas (Print 'Display results and Assess Uncertainty' page)",null,null,null,null,null,null,null,null,null,"Go to Display Results and Assess Uncertainty"]
[null,"Net changes in GHG emissions and removals, reported separately by individual effect, by type of effect (i.e. intended effects, unintended effects, in-jurisdiction effects, out-of- jurisdiction effects, short-term effects, and long-term effects), or by source or sink category (Print 'Display results and Assess Uncertainty' page)",null,null,null,null,null,null,null,null,null,"Go to Display Results and Assess Uncertainty"]
[null,"A probability-adjusted estimate (or expected value) of the net changes in GHG emissions and removals resulting from the policy or action, with disclosure that the results represent a probability-adjusted estimate"]
[null,"A range of likely values for the net change in GHG emissions and removals, rather than a single estimate, when uncertainty is high (for example, because of uncertain baseline assumptions or uncertain policy interactions)"]
[null,"Net changes in GHG emissions and removals resulting from likely effects, separately reported from net changes in GHG emissions and removals resulting from unlikely effects"]
[null,"Net changes in GHG emissions and removals, separately reported by likelihood category (very likely, likely, possible, unlikely, very unlikely) (Print 'Display results and Assess Uncertainty' page)",null,null,null,null,null,null,null,null,null,"Go to Display Results and Assess Uncertainty"]
[null,"Annual or cumulative GHG effects over time periods other than the GHG assessment period (Print 'Display results and Assess Uncertainty' page)",null,null,null,null,null,null,null,null,null,"Go to Display Results and Assess Uncertainty"]
[null,"Trends in key performance indicators used to monitor performance, such as the change in key performance indicators since the last reporting period"]
[null,"The GHG inventory of the jurisdiction or organization implementing the policy or action"]
[null,"Historical GHG emissions of the jurisdiction or organization implementing the policy or action"]
[null,"GHG mitigation goal(s) of the jurisdiction or organization implementing the policy or action"]
[null,"The contribution of the assessed policy or action toward the jurisdiction’s or organization’s GHG mitigation goal"]
[null,"Any potential overlaps with other policies and actions"]
[null,"Any possible double counting of GHG reductions by other parties that may claim GHG reductions from the same policies or actions, and any practices or precautions used to avoid double counting"]
[null,"A description of non-GHG effects of the policy or action, estimates of non-GHG effects of the policy or action, and the methodologies used to estimate non-GHG effects"]
[null,"Cost and/or cost-effectiveness of the policy or action and the methodologies used to quantify costs"]
[null,"Any limitations in the assessment not described elsewhere"]
[null,"Other relevant information"]

{"sheet":"Lists","index":13,"n_rows":49,"n_cols":20,"rows_kept":49,"cut":false,"hidden":false,"merged":[]}
[null,null,null,null,null,null,null,null,null,null,null,"source_sink_table"]
[null,"assessment_type_list","like_occur_list",null,null,null,"relevant_GHG_list",null,null,"source_sink_cat_list","CO2","CH4","N20","HFCs","PFCs","SF6","NF3","list1","list2","list3"]
[null,"Individual policy or action","Very likely",null,null,null,"CO2",null,null,"stationary fossil fuel combustion (source)","yes","yes","yes","no","no","no","no"]
[null,"Package of related policies or actions","Likely",null,null,null,"CH4",null,null,"mobile fossil fuel combustion (source)","yes","yes","yes","no","no","no","no"]
[null,null,"Possible",null,null,null,"N2O",null,null,"cement manufacture (source)","yes","no","no","no","no","no","no"]
[null,"policy_action_list","Unlikely",null,null,null,"SF6",null,null,"aluminum production (source)","yes","no","no","no","yes","no","no"]
[null,"Regulations and standards","Very unlikely",null,null,null,"NF3",null,null,"natural gas systems (source)","yes","yes","no","no","no","no","no"]
[null,"Taxes and charges","Unknown",null,null,null,"HFCs",null,null,"landfills (source)","no","yes","no","no","no","no","no"]
[null,"Subsidies and incentives",null,null,null,null,"PFCs",null,null,"electrical transmission and distribution (source)","no","no","no","no","no","yes","no"]
[null,"Emissions trading programs",null,null,null,null,"CO2, N2O",null,null,"refrigeration and air conditionning equipment (source)","no","no","no","yes","no","no","no"]
[null,"Voluntary agreements or measures",null,null,null,null,"CO2, CH4",null,null,"agricultural soil management (source)","yes","no","yes","no","no","no","no"]
[null,"Information instruments",null,null,null,null,"CO2, CH4, N2O",null,null,"forests and other land use (source)","yes","yes","yes","no","no","no","no"]
[null,"Research, development, and deployment (RD &D) policies",null,null,null,null,"CO2, PFCs",null,null,"biological processes (sink)","yes","no","no","no","no","no","no"]
[null,"Public procurement policies","relative_mag_list",null,null,null,"CO2, HFCs",null,null,"carbon capture and storage (sink)","yes","no","no","no","no","no","no"]
[null,"Infrastructure programs","Major ",null,null,null,"CO2, CH4, N2O, HFCs",null,null,"other","yes","no","no","no","no","no","no"]
[null,"Implementation of new technologies, processes, or practices","Moderate",null,null,null,null,null,null,"[select source/sink category]","no","no","no","no","no","no","no"]
[null,"Financing and investment","Minor"]
[null,"Other (please enter details below)","Unknown"]
[null,null,null,null,null,null,null,null,null,null,"stationary_type_list",null,"stationary_type_table"]
[null,"Policy status",null,null,null,null,null,null,null,null,{"$f":"'Stationary emission factors'!B6","v":"oil products"},"stationary_oil_list"]
[null,"Planned - policy/action option under discussion, but that has not been adopted yet","relationship_type_list",null,null,null,null,null,null,null,{"$f":"'Stationary emission factors'!B28","v":"coal products"},"stationary_coal_list"]
[null,"Adopted - policy/action for which an official decision has been made, but that has not been implemented yet","Independent",null,null,null,null,null,null,null,{"$f":"'Stationary emission factors'!B44","v":"natural gas"},"stationary_gas_list"]
[null,"Implemented - policy/action that is currently in effect","Overlapping",null,null,null,null,null,null,null,{"$f":"'Stationary emission factors'!B45","v":"other wastes"},"stationary_waste_list"]
[null,null,"Reinforcing",null,null,null,null,null,null,null,{"$f":"'Stationary emission factors'!B48","v":"biomass"},"stationary_biomass_list"]
[null,"ex-anti/ex post","Overlapping and reinforcing",null,null,null,null,null,null,null,{"$f":"'Stationary emission factors'!B60","v":"electricity (purchased)"},"stationary_electricity_list"]
[null,"Ex-ante",null,null,null,null,null,null,null,null,{"$f":"'Stationary emission factors'!B63","v":"custom"},"stationary_custom_list"]
[null,"Ex-post","indicators_list",null,null,null,null,null,null,null,"other","stationary_other_list","mobile_type_table"]
[null,"Combination of ex-ante and ex-post","input",null,null,null,null,null,null,"generate_short_names_list","mobile_type_list"]
[null,null,"activity",null,null,null,"baseline_comparison_list",null,null,"automatically generate short names","road","mobile_road_list"]
[null,"In/out jurisdiction","intermediate effect",null,null,null,"scenario method",null,null,"do not auto-generate short names","rail","mobile_rail_list"]
[null,"in-jurisdiction","GHG effect",null,null,null,"comparison group method",null,null,null,"sea","mobile_sea_list"]
[null,"out-of-jurisdiction","non-GHG effect",null,null,null,null,null,null,null,"transport fuels","mobile_fuels_list"]
[null,null,null,null,null,null,null,null,null,null,"construction","mobile_construction_list"]
[null,"Type of effect","linked_list",null,null,null,null,null,null,null,"agriculture","mobile_agriculture_list"]
[null,"Intended effect","linked to",null,null,null,"accuracy_list",null,null,null,"freight","mobile_freight_list"]
[null,"Unintended effect","linked from",null,null,null,"lower",null,null,null,"custom","mobile_custom_list"]
[null,"Short term effect",null,null,null,null,"intermediate",null,null,null,"other","mobile_other_list"]
[null,"Long term effect","GHG_stage_list",null,null,null,"higher"]
[null,"Positive effect","First stage",null,null,null,null,null,null,null,"other_type_list"]
[null,"Negative effect","Second stage",null,null,null,null,null,null,null,"other","other_type_sources_list"]
[null,null,"Third stage",null,null,null,"ex_post_assessment_method_list"]
[null,null,"Fourth stage",null,null,null,"data collection from affected participants/sources/other affected actors"]
[null,null,"Fifth stage",null,null,null,"engineering estimates"]
[null,null,"Sixth stage",null,null,null,"deemed estimates"]
[null,null,"Seventh stage",null,null,null,"stock modeling"]
[null,null,"Eighth stage",null,null,null,"diffusion indicators"]
[null,null,"Ninth stage",null,null,null,"monitoring of indicators"]
[null,null,"Tenth stage",null,null,null,"economic modeling"]
[null,null,null,null,null,null,"other"]

{"sheet":"lists (2)","index":14,"n_rows":212,"n_cols":31,"rows_kept":212,"cut":false,"hidden":false,"merged":[]}
[]
[]
[null,"base_year_list",null,"GHG_reporting_units_list",null,null,"GWP_values_list","CO2","CH4","N2O","SF6","NF3","PFCs","HFCs",null,"CO2",null,null,null,null,null,"sector_list"]
[null,"base year",null,"MtCO2e",null,null,"IPCC Second Assessment Report",1,21,310,23900,null,null,null,null,"CH4",null,null,null,null,null,"ALL SECTORS","ENERGY","INDUSTRIAL PROCESSES AND PRODUCT USE","AGRICULTURE, FORESTRY & OTHER LAND USE","WASTE","OTHER"]
[null,"base period",null,"ktCO2e",null,null,"IPCC Third Assessment Report",1,23,296,22200,null,null,null,null,"N2O",null,null,null,null,null,"All","All","All","All","All","All"]
[null,null,null,"tCO2e",null,null,"IPCC Fourth Assessment Report",1,25,298,22800,17200,"6500 to 9200","140 to 11700",null,"SF6",null,null,null,null,null,null,"1A Fuel Combustion Activities","2A Mineral Industry","3A Livestock","4A Solid Waste Disposal","5A Indirect N2O Emissions from the Atmospheric Deposition of Nitrogen in NOx and NH3"]
[null,null,null,null,null,null,"IPCC Fifth Assessment Report",1,28,265,23500,16100,"7390 to 17700","12 to 14800",null,"NF3",null,null,null,null,null,null,"1B Fugitive Emissions from Fuels","2B Chemical Industry","3B Land","4B Biological Treatment of Solid Waste","5B Other (please specify) "]
[null,null,null,null,null,null,"Other (please enter details)",1,2,298,22800,17200,{"$error":"#N/A"},{"$error":"#N/A"},null,"PFCs",null,null,null,null,null,null,"1C Carbon Dioxide Transport and Storage","2C Metal Industry","3C Aggregate Sources and Non-CO2 Emissions Sources on Land","4C Incineration and Open Burning of Waste"]
[null,null,null,null,null,null,null,null,null,null,null,null,null,null,null,"HFCs",null,null,null,null,null,null,null,"2D Non-Energy Products from Fuels and solvent use","3D Other","4D Wastewater Treatment and Discharge"]
[null,"yes_no_list",null,"goal_type_list","txt string",null,"GHG_category_list",null,null,null,null,null,null,null,null,null,null,null,null,null,null,null,null,"2E Electronics Industry",null,"4E Other (please specify)"]
[null,"yes",null,"Base year emissions","bye",null,"Energy (IPCC)",null,"uncertainty_low_list",null,"Percentage List",null,null,"accounting_method_list",null,null,null,null,null,null,null,null,null,"2F Product Uses as Substitutes for Ozone Depleting Substances"]
[null,"no",null,"Fixed-level","fl",null,"Industrial Processes and Product Use  (IPCC)",null,-1,null,0.01,null,null,"relative to base year/base period emissions",null,null,null,null,null,null,null,null,null,"2G Other Product Manufacture and Use"]
[null,null,null,"Base year intensity","byi",null,"Agriculture,Forestry & Other Land Use  (IPCC)",null,-0.99,null,0.02,null,null,"without reference to base year/period or baseline scenario emissions"]
[null,null,null,"Baseline scenario","bs",null,"Waste  (IPCC)",null,-0.98,null,0.03,null,null,"forward-looking baseline"]
[null,null,null,null,null,null,"Other (IPCC - please enter details under 'Description')",null,-0.97,null,0.04,null,null,null,null,null,null,null,null,null,null,null,null,null,null,null,null,null,"Uncertainty_lower_list",null,"Uncertainty_upper_list"]
[null,"year_list",null,"goal_units_list",null,null,"Stationary energy (GPC)",null,-0.96,null,0.05,null,null,null,null,null,null,null,null,null,null,null,null,null,null,null,null,null,"parameter-level uncertainty - lower bound",1]
[null,1990,null,"%",null,null,"Residential buildings (GPC)",null,-0.95,null,0.06,null,null,"PFC_HFC_lookup",null,null,null,null,"HFC_PFC_list",null,null,"Stationary energy (GPC)",null,null,null,null,null,null,0,0.99]
[null,1991,null,"tCO2e",null,null,"Commercial and institutional buildings (GPC)",null,-0.94,null,7.0000000000000007E-2,null,null,"CFC-11","CCl3F",3800,4660,null,"[select PFC/HFC]",null,null,"Residential buildings (GPC)",null,null,null,null,null,null,-0.01,0.98]
[null,1992,null,"ktCO2e",null,null,"Manufacturing industries & construction (GPC)",null,-0.93,null,0.08,null,null,"CFC-12","CCl2F2",8100,10200,null,{"$f":"O18","v":"CCl3F"},null,null,"Commercial and institutional buildings (GPC)",null,null,null,null,null,null,-0.02,0.97]
[null,1993,null,"MtCO2e",null,null,"Energy industries (GPC)",null,-0.92,null,0.09,null,null,"CFC-13","CClF3",null,13900,null,"CCl2F2",null,null,"Manufacturing industries & construction (GPC)",null,null,null,null,null,null,-0.03,0.96]
[null,1994,null,null,null,null,"Energy generation supplied to grid (GPC)",null,-0.91,null,0.1,null,null,"CFC-113","CCl2FCClF2",4800,5820,null,"CClF3",null,null,"Energy industries",null,null,null,null,null,null,-0.04,0.95]
[null,1995,null,"target_year_list",null,null,"Agriculture, forestry & fishing activities (GPC)",null,-0.9,null,0.11,null,null,"CFC-114","CClF2CClF2",null,8590,null,"CCl2FCClF2",null,null,"Energy generation supplied to grid",null,null,null,null,null,null,-0.05,0.94]
[null,1996,null,"target year",null,null,"Non-specified sources (GPC)",null,-0.89,null,0.12,null,null,"CFC-115","CClF2CF3",null,7670,null,"CClF2CClF2",null,null,"Agriculture, forestry & fishing activities",null,null,null,null,null,null,-0.06,0.93]
[null,1997,null,"target period",null,null,"Fugitive emissions from fuel (GPC)",null,-0.88,null,0.13,null,null,"Halon-1301","CBrF3",5400,6290,null,"CClF2CF3",null,null,"Non-specified sources",null,null,null,null,null,null,-7.0000000000000007E-2,0.92]
[null,1998,null,null,null,null,"Transportation (GPC)",null,-0.87,null,0.14000000000000001,null,null,"Halon-1211","CBrClF2",null,1750,null,"CBrF3",null,null,"Fugitive emissions from fuel",null,null,null,null,null,null,-0.08,0.91]
[null,1999,null,"static_list",null,null,"On-road transportation (GPC)",null,-0.86,null,0.15,null,null,"Halon-2402","CBrF2CBrF2",null,1470,null,"CBrClF2",null,null,"Transportation",null,null,null,null,null,null,-0.09,0.9]
[null,2000,null,"static",null,null,"Railways (GPC)",null,-0.85,null,0.16,null,null,"Carbon tetrachloride","CCl4",1400,1730,null,"CBrF2CBrF2",null,null,"On-road transportation",null,null,null,null,null,null,-0.1,0.89]
[null,2001,null,"dynamic",null,null,"Water transport (GPC)",null,-0.84,null,0.17,null,null,"Methyl bromide","CH3Br",null,2,null,"CCl4",null,null,"Railways",null,null,null,null,null,null,-0.11,0.88]
[null,2002,null,null,null,null,"Aviation (GPC)",null,-0.83,null,0.18,null,null,"Methyl chloroform","CH3CCl3",100,160,null,"CH3Br",null,null,"Water transport",null,null,null,null,null,null,-0.12,0.87]
[null,2003,null,"yesdetails_no_list",null,null,"Off-road transportation (GPC)",null,-0.82,null,0.19,null,null,"HFCF-21","CHCl2F",null,148,null,"CH3CCl3",null,null,"Aviation",null,null,null,null,null,null,-0.13,0.86]
[null,2004,null,"yes (please provide details)",null,null,"Waste (GPC)",null,-0.81,null,0.2,null,null,"HCFC-22","CHCLF2",1500,1760,null,"CHCl2F",null,null,"Off-road transportation",null,null,null,null,null,null,-0.14000000000000001,0.85]
[null,2005,null,"no",null,null,"Solid waste generated in city - landfill or open dumps (GPC)",null,-0.8,null,0.21,null,null,"HCFC-123","CHCl2CF3",90,79,null,"CHCLF2",null,null,"Waste",null,null,null,null,null,null,-0.15,0.84]
[null,2006,null,"don't know",null,null,"Solid waste generated outside city - landfill or open dumps (GPC)",null,-0.79,null,0.22,null,null,"HCFC-124","CHClFCF3",470,527,null,"CHCl2CF3",null,null,"Solid waste generated in city - landfill or open dumps",null,null,null,null,null,null,-0.16,0.83]
[null,2007,null,null,null,null,"Solid waste generated in city - biological treatment (GPC)",null,-0.78,null,0.23,null,null,"HCFC-141b","CH3CCl2F",600,782,null,"CHClFCF3",null,null,"Solid waste generated outside city - landfill or open dumps",null,null,null,null,null,null,-0.17,0.82]
[null,2008,null,"multi_year_goal_list1",null,null,"Solid waste generated outside city - biological treatment (GPC)",null,-0.77,null,0.24,null,null,"HCFC-142b","CH3CClF2",1800,1980,null,"CH3CCl2F",null,null,"Solid waste generated in city - biological treatment",null,null,null,null,null,null,-0.18,0.81]
[null,2009,null,"average multi-year goal",null,null,"Solid waste generated in city - incinerated/burned in open (GPC)",null,-0.76,null,0.25,null,null,"HCFC-225ca","CHCl2CF2CF3",null,127,null,"CH3CClF2",null,null,"Solid waste generated outside city - biological treatment",null,null,null,null,null,null,-0.19,0.8]
[null,2010,null,"annual multi-year goal",null,null,"Solid waste generated outside city - incinerated/burned in open (GPC)",null,-0.75,null,0.26,null,null,"HCFC-225cb","CHClFCF2CClF2",null,525,null,"CHCl2CF2CF3",null,null,"Solid waste generated in city - incinerated/burned in open",null,null,null,null,null,null,-0.2,0.79]
[null,2011,null,null,null,null,"Wastewater generated in the city (GPC)",null,-0.74,null,0.27,null,null,"HFC-23","CHF3",11700,12400,null,"CHClFCF2CClF2",null,null,"Solid waste generated outside city - incinerated/burned in open",null,null,null,null,null,null,-0.21,0.78]
[null,2012,null,null,null,null,"Wastewater generated outside of city (GPC)",null,-0.73,null,0.28000000000000003,null,null,"HFC-32","CH2F2",650,677,null,"CHF3",null,null,"Wastewater generated in the city",null,null,null,null,null,null,-0.22,0.77]
[null,2013,null,"multi_year_goal_list2",null,null,"Industrial processes (GPC)",null,-0.72,null,0.28999999999999998,null,null,"HFC-41","CH3F2",150,116,null,"CH2F2",null,null,"Wastewater generated outside of city",null,null,null,null,null,null,-0.23,0.76]
[null,2014,null,"average multi-year goal",null,null,"Product use (GPC)",null,-0.71,null,0.3,null,null,"HFC-125","CHF2CF3",2800,3170,null,"CH3F2",null,null,"Industrial processes",null,null,null,null,null,null,-0.24,0.75]
[null,2015,null,"annual multi-year goal",null,null,"Agriculture, forestry and other land use (GPC)",null,-0.7,null,0.31,null,null,"HFC-134","CHF2CHF2",1000,1120,null,"CHF2CF3",null,null,"Product use",null,null,null,null,null,null,-0.25,0.74]
[null,2016,null,"cumulative multi-year goal",null,null,"Livestock (GPC)",null,-0.69,null,0.32,null,null,"HFC-134a","CH2FCF3",1300,1300,null,"CHF2CHF2",null,null,"Agriculture, forestry and other land use",null,null,null,null,null,null,-0.26,0.73]
[null,2017,null,null,null,null,"Land (GPC)",null,-0.68,null,0.33,null,null,"HFC-143","CH2FCHF2",300,328,null,"CH2FCF3",null,null,"Livestock",null,null,null,null,null,null,-0.27,0.72]
[null,2018,null,null,null,null,"Aggregate sources & non-CO2 emission sources on land (GPC)",null,-0.67,null,0.34,null,null,"HFC-143a","CH3CF3",3800,4800,null,"CH2FCHF2",null,null,"Land",null,null,null,null,null,null,-0.28000000000000003,0.71]
[null,2019,null,"teu_list",null,null,null,null,-0.66,null,0.35,null,null,"HFC-152","CH2FCH2F",null,16,null,"CH3CF3",null,null,"Aggregate sources & non-CO2 emission sources on land",null,null,null,null,null,null,-0.28999999999999998,0.7]
[null,2020,null,"allowances",null,null,null,null,-0.65,null,0.36,null,null,"HFC-152a","CH3CHF2",140,138,null,"CH2FCH2F",null,null,null,null,null,null,null,null,null,-0.3,0.69]
[null,2021,null,"credit",null,null,"land_sector_treatment_list",null,-0.64,null,0.37,null,null,"HFC-161","CH3CH2F",null,4,null,"CH3CHF2",null,null,null,null,null,null,null,null,null,-0.31,0.68]
[null,2022,null,"allowances & credits",null,null,"Include in the goal boundary",null,-0.63,null,0.38,null,null,"HFC-227ea","CF3CHFCF3",2900,3350,null,"CH3CH2F",null,null,null,null,null,null,null,null,null,-0.32,0.67]
[null,2023,null,null,null,null,"Sectoral goal",null,-0.62,null,0.39,null,null,"HFC-236cb","CH2FCF2CF3",null,1210,null,"CF3CHFCF3",null,null,null,null,null,null,null,null,null,-0.33,0.66]
[null,2024,null,"GHG_method_list",null,null,"Offset",null,-0.61,null,0.4,null,null,"HFC-236ea","CHF2CHFCF3",null,1330,null,{"$f":"O50","v":"CH2FCF2CF3"},null,null,null,null,null,null,null,null,null,-0.34,0.65]
[null,2025,null,"IPCC Guidelines ",null,null,"Do not account for the land sector",null,-0.6,null,0.41,null,null,"HFC-236fa","CF3CH2CF3",6300,8060,null,"CHF2CHFCF3",null,null,null,null,null,null,null,null,null,-0.35,0.64]
[null,2026,null,"Global Protocol for Communities",null,null,null,null,-0.59,null,0.42,null,null,"HFC-245ca","CH2FCF2CHF2",560,716,null,"CF3CH2CF3",null,null,null,null,null,null,null,null,null,-0.36,0.63]
[null,2027,null,"Other (please enter details)",null,null,null,null,-0.57999999999999996,null,0.43,null,null,"HFC-245fa","CHF2CH2CF3",null,858,null,"CH2FCF2CHF2",null,null,null,null,null,null,null,null,null,-0.37,0.62]
[null,2028,null,null,null,null,"GHG_included_list",null,-0.56999999999999995,null,0.44,null,null,"HFC-365mfc","CH3CF2CH2CF3",null,804,null,"CHF2CH2CF3",null,null,null,null,null,null,null,null,null,-0.38,0.61]
[null,2029,null,"nodetails_yes_list",null,null,"All seven Kyoto Protocol gases",null,-0.56000000000000005,null,0.45,null,null,"HFC-43-10mee","CF3CHFCHFCF2CF3",1300,1650,null,"CH3CF2CH2CF3",null,null,null,null,null,null,null,null,null,-0.39,0.6]
[null,2030,null,"yes",null,null,"Not all Kyoto Protocol gases included ",null,-0.55000000000000004,null,0.46,null,null,"PFC-14","CF4",6500,6630,null,"CF3CHFCHFCF2CF3",null,null,null,null,null,null,null,null,null,-0.4,0.59]
[null,2031,null,"no (please provide details)",null,null,null,null,-0.54,null,0.47,null,null,"PFC-116","C2F6",9200,11100,null,"CF4",null,null,null,null,null,null,null,null,null,-0.41,0.57999999999999996]
[null,2032,null,null,null,null,null,null,-0.53,null,0.48,null,null,"PFC-218","C3F8",7000,8900,null,"C2F6",null,null,null,null,null,null,null,null,null,-0.42,0.56999999999999995]
[null,2033,null,"goal_units_list2",null,null,"land_use_activities_list",null,-0.52,null,0.49,null,null,"PFC-318","c-C4F8",8700,9540,null,"C3F8",null,null,null,null,null,null,null,null,null,-0.43,0.56000000000000005]
[null,2034,null,"%",null,null,"afforestation/reforestation",null,-0.51,null,0.5,null,null,"PFC-31-10","C4F10",7000,9200,null,"c-C4F8",null,null,null,null,null,null,null,null,null,-0.44,0.55000000000000004]
[null,2035,null,"MtCO2e",null,null,"deforestation",null,-0.5,null,0.51,null,null,"PFC-41-12","C5F12",7500,8550,null,"C4F10",null,null,null,null,null,null,null,null,null,-0.45,0.54]
[null,2036,null,null,null,null,"community forestry",null,-0.49,null,0.52,null,null,"PFC-51-14","C6F14",7400,7910,null,"C5F12",null,null,null,null,null,null,null,null,null,-0.46,0.53]
[null,2037,null,"land_method_list",null,null,"sustainable forest management",null,-0.48,null,0.53,null,null,"PCF-91-18","C10F18",null,7190,null,"C6F14",null,null,null,null,null,null,null,null,null,-0.47,0.52]
[null,2038,null,"land-based accounting ",null,null,"enhancement of forest carbon stocks",null,-0.47,null,0.54,null,null,"Trifluoromethyl  sulfur  pentafluoride","SF5CF3",null,17400,null,"C10F18",null,null,null,null,null,null,null,null,null,-0.48,0.51]
[null,2039,null,"activity-based accounting",null,null,"protected area management",null,-0.46,null,0.55000000000000004,null,null,"Perfluorocyclopropane","c-C3F6",null,9200,null,"SF5CF3",null,null,null,null,null,null,null,null,null,-0.49,0.5]
[null,2040,null,null,null,null,"soil carbon management",null,-0.45,null,0.56000000000000005,null,null,"HFE-125","CHF2OCF3",null,12400,null,"c-C3F6",null,null,null,null,null,null,null,null,null,-0.5,0.49]
[null,2041,null,null,null,null,"cropland/fertilizer/manure application",null,-0.44,null,0.56999999999999995,null,null,"HFE-134","CHF2OCHF2",null,5560,null,"CHF2OCF3",null,null,null,null,null,null,null,null,null,-0.51,0.48]
[null,2042,null,"achieved_list",null,null,"agroforestry",null,-0.42999999999999899,null,0.57999999999999996,null,null,"HFE-143a","CH3OCF3",null,523,null,"CHF2OCHF2",null,null,null,null,null,null,null,null,null,-0.52,0.47]
[null,2043,null,"achieved",null,null,"controlled burning",null,-0.41999999999999899,null,0.59,null,null,"HCFE-235da2","CHF2OCHClCF3",null,491,null,"CH3OCF3",null,null,null,null,null,null,null,null,null,-0.53,0.46]
[null,2044,null,"not achieved",null,null,"vegetation management",null,-0.40999999999999898,null,0.6,null,null,"HFE-245cb2","CH3OCF2CF3",null,654,null,"CHF2OCHClCF3",null,null,null,null,null,null,null,null,null,-0.54,0.45]
[null,2045,null,null,null,null,"wetland drainage",null,-0.39999999999999902,null,0.61,null,null,"HFE-245fa2","CHF2OCH2CF3",null,812,null,"CH3OCF2CF3",null,null,null,null,null,null,null,null,null,-0.55000000000000004,0.44]
[null,2046,null,null,null,null,"wetland rewetting",null,-0.38999999999999901,null,0.62,null,null,"HFE-347mcc3","CH3OCF2CF2CF3",null,530,null,"CHF2OCH2CF3",null,null,null,null,null,null,null,null,null,-0.56000000000000005,0.42999999999999899]
[null,2047,null,null,null,null,"other (please enter description)",null,-0.37999999999999901,null,0.63,null,null,"HFE-347pcf2","CHF2CF2OCH2CF3",null,889,null,"CH3OCF2CF2CF3",null,null,null,null,null,null,null,null,null,-0.56999999999999995,0.41999999999999899]
[null,2048,null,null,null,null,null,null,-0.369999999999999,null,0.64,null,null,"HFE-356pcc3","CH3OCF2CF2CHF2",null,413,null,"CHF2CF2OCH2CF3",null,null,null,null,null,null,null,null,null,-0.57999999999999996,0.40999999999999898]
[null,2049,null,"stationary_units_list","mobile_units_list",null,"other_units_list",null,-0.35999999999999899,null,0.65,null,null,"HFE-449sl  (HFE-7100)","C4F9OCH3",null,421,null,"CH3OCF2CF2CHF2",null,null,null,null,null,null,null,null,null,-0.59,0.39999999999999902]
[null,2050,null,{"$f":"'Stationary emission factors'!D5","v":"TJ"},{"$f":"'Mobile Emission Factors'!D3","v":"US Gallon"},null,{"$f":"'Custom Emission Factors'!C71","v":"US Gallon"},null,-0.34999999999999898,null,0.66,null,null,"HFE-569sf2 (HFE-7200)","C4F9OC2H5",null,57,null,"C4F9OCH3",null,null,null,null,null,null,null,null,null,-0.6,0.38999999999999901]
[null,2051,null,{"$f":"'Stationary emission factors'!E5","v":"tonne"},{"$f":"'Mobile Emission Factors'!E3","v":"Standard Cubic Foot"},null,{"$f":"'Custom Emission Factors'!D71","v":"Standard Cubic Foot"},null,-0.33999999999999903,null,0.67,null,null,"HFE-43-10pccc124 (HGalden 1040x)","CHF2OCF2OC2F4OCHF2",null,2820,null,"C4F9OC2H5",null,null,null,null,null,null,null,null,null,-0.61,0.37999999999999901]
[null,2052,null,{"$f":"'Stationary emission factors'!F5","v":"litre"},{"$f":"'Mobile Emission Factors'!F3","v":"mile"},null,{"$f":"'Custom Emission Factors'!E71","v":"mile"},null,-0.32999999999999902,null,0.68,null,null,"HFE-236ca12 (HG-10)","CHF2OCF2OCHF2",null,5350,null,"CHF2OCF2OC2F4OCHF2",null,null,null,null,null,null,null,null,null,-0.62,0.369999999999999]
[null,2053,null,{"$f":"'Stationary emission factors'!G5","v":"m3"},{"$f":"'Mobile Emission Factors'!G3","v":"short ton mile"},null,{"$f":"'Custom Emission Factors'!F71","v":"short ton mile"},null,-0.31999999999999901,null,0.69,null,null,"HFE-338pcc13(HG-01)","CHF2OCF2CF2OCHF2",null,2910,null,"CHF2OCF2OCHF2",null,null,null,null,null,null,null,null,null,-0.63,0.35999999999999899]
[null,2054,null,{"$f":"'Stationary emission factors'!H5","v":"kWh"},{"$f":"'Mobile Emission Factors'!H3","v":"passenger mile"},null,{"$f":"'Custom Emission Factors'!G71","v":"passenger mile"},null,-0.309999999999999,null,0.7,null,null,"HFE-227ea","CF3CHFOCF3",null,6450,null,"CHF2OCF2CF2OCHF2",null,null,null,null,null,null,null,null,null,-0.64,0.34999999999999898]
[null,2055,null,{"$f":"'Stationary emission factors'!I5","v":"custom unit"},{"$f":"'Mobile Emission Factors'!I3","v":"litre"},null,{"$f":"'Custom Emission Factors'!H71","v":"litre"},null,-0.29999999999999899,null,0.71,null,null,"HFE-236ea2","CHF2OCHFCF3",null,1790,null,"CF3CHFOCF3",null,null,null,null,null,null,null,null,null,-0.65,0.33999999999999903]
[null,2056,null,"directly enter emissions (t)",{"$f":"'Mobile Emission Factors'!J3","v":"m3"},null,{"$f":"'Custom Emission Factors'!I71","v":"m3"},null,-0.28999999999999898,null,0.72,null,null,"HFE-236fa","CF3CH2OCF3",null,979,null,{"$f":"O82","v":"CHF2OCHFCF3"},null,null,null,null,null,null,null,null,null,-0.66,0.32999999999999902]
[null,2057,null,null,{"$f":"'Mobile Emission Factors'!K3","v":"kilometer"},null,{"$f":"'Custom Emission Factors'!J71","v":"kilometer"},null,-0.27999999999999903,null,0.73,null,null,"HFE-245fa1","CHF2CH2OCF3",null,828,null,"CF3CH2OCF3",null,null,null,null,null,null,null,null,null,-0.67,0.31999999999999901]
[null,2058,null,null,{"$f":"'Mobile Emission Factors'!L3","v":"tonne kilometer"},null,{"$f":"'Custom Emission Factors'!K71","v":"tonne kilometer"},null,-0.26999999999999902,null,0.74,null,null,"HFE263fb2","CF3CH2OCH3",null,1,null,"CHF2CH2OCF3",null,null,null,null,null,null,null,null,null,-0.68,0.309999999999999]
[null,2059,null,null,{"$f":"'Mobile Emission Factors'!M3","v":"passenger kilometer"},null,{"$f":"'Custom Emission Factors'!L71","v":"passenger kilometer"},null,-0.25999999999999901,null,0.75,null,null,"HFE-329mcc2","CHF2CF2OCF2CF3",null,3070,null,"CF3CH2OCH3",null,null,null,null,null,null,null,null,null,-0.69,0.29999999999999899]
[null,2060,null,null,{"$f":"'Mobile Emission Factors'!N3","v":"custom unit"},null,{"$f":"'Custom Emission Factors'!M71","v":"TJ"},null,-0.249999999999999,null,0.76,null,null,"HFE-338mcf2","CF3CH2OCF2CF3",null,929,null,"CHF2CF2OCF2CF3",null,null,null,null,null,null,null,null,null,-0.7,0.28999999999999898]
[null,2061,null,null,"directly enter emissions (t)",null,{"$f":"'Custom Emission Factors'!N71","v":"tonne"},null,-0.23999999999999899,null,0.77,null,null,"HFE-347mcf2","CHF2CH2OCF2CF3",null,854,null,"CF3CH2OCF2CF3",null,null,null,null,null,null,null,null,null,-0.71,0.27999999999999903]
[null,2062,null,null,null,null,{"$f":"'Custom Emission Factors'!O71","v":"kWh"},null,-0.22999999999999901,null,0.78,null,null,"HFE-356mec3","CH3OCF2CHFCF3",null,387,null,"CHF2CH2OCF2CF3",null,null,null,null,null,null,null,null,null,-0.72,0.26999999999999902]
[null,2063,null,null,null,null,{"$f":"'Custom Emission Factors'!P71","v":"custom unit"},null,-0.219999999999999,null,0.79,null,null,"HFE-356pcf2","CHF2CH2OCF2CHF2",null,719,null,"CH3OCF2CHFCF3",null,null,null,null,null,null,null,null,null,-0.73,0.25999999999999901]
[null,2064,null,null,null,null,"directly enter emissions (t)",null,-0.20999999999999899,null,0.8,null,null,"HFE-356pcf3","CHF2OCH2CF2CHF2",null,446,null,"CHF2CH2OCF2CHF2",null,null,null,null,null,null,null,null,null,-0.74,0.249999999999999]
[null,2065,null,null,null,null,null,null,-0.19999999999999901,null,0.81,null,null,"HFE365mcf3","CF3CF2CH2OCH3",null,627,null,"CHF2OCH2CF2CHF2",null,null,null,null,null,null,null,null,null,-0.75,0.23999999999999899]
[null,2066,null,null,null,null,null,null,-0.189999999999999,null,0.82,null,null,"PFPMIE","CF3OCF(CF3)CF2OCF2OCF3",null,9710,null,"CF3CF2CH2OCH3",null,null,null,null,null,null,null,null,null,-0.76,0.22999999999999901]
[null,2067,null,null,null,null,null,null,-0.17999999999999899,null,0.83,null,null,"Chloroform","CHCl3",4,16,null,"CF3OCF(CF3)CF2OCF2OCF3",null,null,null,null,null,null,null,null,null,-0.77,0.219999999999999]
[null,2068,null,null,null,null,null,null,-0.16999999999999901,null,0.84,null,null,"Methylene chloride","CH2Cl2",9,9,null,"CHCl3",null,null,null,null,null,null,null,null,null,-0.78,0.20999999999999899]
[null,2069,null,null,null,null,null,null,-0.159999999999999,null,0.85,null,null,"Methyl choloride","CH3Cl",null,12,null,"CH2Cl2",null,null,null,null,null,null,null,null,null,-0.79,0.19999999999999901]
[null,2070,null,null,null,null,null,null,-0.149999999999999,null,0.86,null,null,"Halon-1201","CHBrF2",null,376,null,"CH3Cl",null,null,null,null,null,null,null,null,null,-0.8,0.189999999999999]
[null,2071,null,null,null,null,null,null,-0.13999999999999899,null,0.87,null,null,{"$f":"'Custom Emission Factors'!CJ6","v":"HFC/PFC custom 1"},null,0,0,null,"CHBrF2",null,null,null,null,null,null,null,null,null,-0.81,0.17999999999999899]
[null,2072,null,null,null,null,null,null,-0.12999999999999901,null,0.88,null,null,{"$f":"'Custom Emission Factors'!CK6","v":"HFC/PFC custom 2"},null,null,null,null,{"$f":"N98","v":"HFC/PFC custom 1"},null,null,null,null,null,null,null,null,null,-0.82,0.16999999999999901]
[null,2073,null,null,null,null,null,null,-0.119999999999999,null,0.89,null,null,{"$f":"'Custom Emission Factors'!CL6","v":"HFC/PFC custom 3"},null,null,null,null,{"$f":"N99","v":"HFC/PFC custom 2"},null,null,null,null,null,null,null,null,null,-0.83,0.159999999999999]
[null,2074,null,null,null,null,null,null,-0.109999999999999,null,0.9,null,null,{"$f":"'Custom Emission Factors'!CM6","v":"HFC/PFC custom 4"},null,null,null,null,{"$f":"N100","v":"HFC/PFC custom 3"},null,null,null,null,null,null,null,null,null,-0.84,0.149999999999999]
[null,2075,null,null,null,null,null,null,-9.9999999999999006E-2,null,0.91,null,null,{"$f":"'Custom Emission Factors'!CN6","v":"HFC/PFC custom 5"},null,null,null,null,{"$f":"N101","v":"HFC/PFC custom 4"},null,null,null,null,null,null,null,null,null,-0.85,0.13999999999999899]
[null,2076,null,null,null,null,null,null,-8.9999999999998997E-2,null,0.92,null,null,null,null,null,null,null,{"$f":"N102","v":"HFC/PFC custom 5"},null,null,null,null,null,null,null,null,null,-0.86,0.12999999999999901]
[null,2077,null,null,null,null,null,null,-7.9999999999999002E-2,null,0.93,null,null,null,null,null,null,null,null,null,null,null,null,null,null,null,null,null,-0.87,0.119999999999999]
[null,2078,null,null,null,null,null,null,-6.9999999999998994E-2,null,0.94,null,null,null,null,null,null,null,null,null,null,null,null,null,null,null,null,null,-0.88,0.109999999999999]
[null,2079,null,null,null,null,null,null,-5.9999999999999103E-2,null,0.95,null,null,null,null,null,null,null,null,null,null,null,null,null,null,null,null,null,-0.89,9.9999999999999006E-2]
[null,2080,null,null,null,null,null,null,-4.9999999999998997E-2,null,0.96,null,null,null,null,null,null,null,null,null,null,null,null,null,null,null,null,null,-0.9,8.9999999999998997E-2]
[null,2081,null,null,null,null,null,null,-3.9999999999999002E-2,null,0.96999999999999897,null,null,null,null,null,null,null,null,null,null,null,null,null,null,null,null,null,-0.91,7.9999999999999002E-2]
[null,2082,null,null,null,null,null,null,-2.9999999999999E-2,null,0.97999999999999898,null,null,null,null,null,null,null,null,null,null,null,null,null,null,null,null,null,-0.92,6.9999999999998994E-2]
[null,2083,null,null,null,null,null,null,-1.9999999999999001E-2,null,0.99,null,null,null,null,null,null,null,null,null,null,null,null,null,null,null,null,null,-0.93,5.9999999999999103E-2]
[null,2084,null,null,null,null,null,null,-9.9999999999990097E-3,null,1,null,null,null,null,null,null,null,null,null,null,null,null,null,null,null,null,null,-0.94,4.9999999999998997E-2]
[null,2085,null,null,null,null,null,null,0,null,null,null,null,null,null,null,null,null,null,null,null,null,null,null,null,null,null,null,-0.95,3.9999999999999002E-2]
[null,2086,null,null,null,null,null,null,0.01,null,null,null,null,null,null,null,null,null,null,null,null,null,null,null,null,null,null,null,-0.96,2.9999999999999E-2]
[null,2087,null,null,null,null,null,null,0.02,null,null,null,null,null,null,null,null,null,null,null,null,null,null,null,null,null,null,null,-0.97,1.9999999999999001E-2]
[null,2088,null,null,null,null,null,null,0.03,null,null,null,null,null,null,null,null,null,null,null,null,null,null,null,null,null,null,null,-0.98,9.9999999999990097E-3]
[null,2089,null,null,null,null,null,null,0.04,null,null,null,null,null,null,null,null,null,null,null,null,null,null,null,null,null,null,null,-0.99,0]
[null,2090,null,null,null,null,null,null,0.05,null,null,null,null,null,null,null,null,null,null,null,null,null,null,null,null,null,null,null,-1,"parameter-level uncertainty - upper bound"]
[null,2091,null,null,null,null,null,null,6.0000000000000102E-2]
[null,2092,null,null,null,null,null,null,7.0000000000000104E-2]
[null,2093,null,null,null,null,null,null,8.0000000000000099E-2]
[null,2094,null,null,null,null,null,null,9.0000000000000094E-2]
[null,2095,null,null,null,null,null,null,0.1]
[null,2096,null,null,null,null,null,null,0.11]
[null,2097,null,null,null,null,null,null,0.12]
[null,2098,null,null,null,null,null,null,0.13]
[null,2099,null,null,null,null,null,null,0.14000000000000001]
[null,2100,null,null,null,null,null,null,0.15]
[null,null,null,null,null,null,null,null,0.16]
[null,null,null,null,null,null,null,null,0.17]
[null,null,null,null,null,null,null,null,0.18]
[null,null,null,null,null,null,null,null,0.19]
[null,null,null,null,null,null,null,null,0.2]
[null,null,null,null,null,null,null,null,0.21]
[null,null,null,null,null,null,null,null,0.22]
[null,null,null,null,null,null,null,null,0.23]
[null,null,null,null,null,null,null,null,0.24]
[null,null,null,null,null,null,null,null,0.25]
[null,null,null,null,null,null,null,null,0.26]
[null,null,null,null,null,null,null,null,0.27]
[null,null,null,null,null,null,null,null,0.28000000000000003]
[null,null,null,null,null,null,null,null,0.28999999999999998]
[null,null,null,null,null,null,null,null,0.3]
[null,null,null,null,null,null,null,null,0.31]
[null,null,null,null,null,null,null,null,0.32]
[null,null,null,null,null,null,null,null,0.33]
[null,null,null,null,null,null,null,null,0.34]
[null,null,null,null,null,null,null,null,0.35]
[null,null,null,null,null,null,null,null,0.36]
[null,null,null,null,null,null,null,null,0.37]
[null,null,null,null,null,null,null,null,0.38]
[null,null,null,null,null,null,null,null,0.39]
[null,null,null,null,null,null,null,null,0.4]
[null,null,null,null,null,null,null,null,0.41]
[null,null,null,null,null,null,null,null,0.42]
[null,null,null,null,null,null,null,null,0.43]
[null,null,null,null,null,null,null,null,0.44]
[null,null,null,null,null,null,null,null,0.45]
[null,null,null,null,null,null,null,null,0.46]
[null,null,null,null,null,null,null,null,0.47]
[null,null,null,null,null,null,null,null,0.48]
[null,null,null,null,null,null,null,null,0.49]
[null,null,null,null,null,null,null,null,0.5]
[null,null,null,null,null,null,null,null,0.51]
[null,null,null,null,null,null,null,null,0.52]
[null,null,null,null,null,null,null,null,0.53]
[null,null,null,null,null,null,null,null,0.54]
[null,null,null,null,null,null,null,null,0.55000000000000004]
[null,null,null,null,null,null,null,null,0.56000000000000005]
[null,null,null,null,null,null,null,null,0.56999999999999995]
[null,null,null,null,null,null,null,null,0.57999999999999996]
[null,null,null,null,null,null,null,null,0.59]
[null,null,null,null,null,null,null,null,0.6]
[null,null,null,null,null,null,null,null,0.61]
[null,null,null,null,null,null,null,null,0.62]
[null,null,null,null,null,null,null,null,0.63]
[null,null,null,null,null,null,null,null,0.64]
[null,null,null,null,null,null,null,null,0.65]
[null,null,null,null,null,null,null,null,0.66]
[null,null,null,null,null,null,null,null,0.67]
[null,null,null,null,null,null,null,null,0.68]
[null,null,null,null,null,null,null,null,0.69]
[null,null,null,null,null,null,null,null,0.7]
[null,null,null,null,null,null,null,null,0.71]
[null,null,null,null,null,null,null,null,0.72]
[null,null,null,null,null,null,null,null,0.73]
[null,null,null,null,null,null,null,null,0.74]
[null,null,null,null,null,null,null,null,0.75]
[null,null,null,null,null,null,null,null,0.76]
[null,null,null,null,null,null,null,null,0.77]
[null,null,null,null,null,null,null,null,0.78]
[null,null,null,null,null,null,null,null,0.79]
[null,null,null,null,null,null,null,null,0.8]
[null,null,null,null,null,null,null,null,0.81]
[null,null,null,null,null,null,null,null,0.82]
[null,null,null,null,null,null,null,null,0.83]
[null,null,null,null,null,null,null,null,0.84]
[null,null,null,null,null,null,null,null,0.85]
[null,null,null,null,null,null,null,null,0.86]
[null,null,null,null,null,null,null,null,0.87]
[null,null,null,null,null,null,null,null,0.88]
[null,null,null,null,null,null,null,null,0.89]
[null,null,null,null,null,null,null,null,0.9]
[null,null,null,null,null,null,null,null,0.91]
[null,null,null,null,null,null,null,null,0.92]
[null,null,null,null,null,null,null,null,0.93]
[null,null,null,null,null,null,null,null,0.94]
[null,null,null,null,null,null,null,null,0.95]
[null,null,null,null,null,null,null,null,0.96]
[null,null,null,null,null,null,null,null,0.97]
[null,null,null,null,null,null,null,null,0.98]
[null,null,null,null,null,null,null,null,0.99]
[null,null,null,null,null,null,null,null,1]

{"sheet":"Custom Emission Factors","index":15,"n_rows":171,"n_cols":93,"rows_kept":171,"cut":false,"hidden":false,"merged":[[90,47,90,48],[80,47,80,48],[81,47,81,48],[70,47,70,48],[82,47,82,48],[83,47,83,48],[84,47,84,48],[85,47,85,48],[86,47,86,48],[87,47,87,48],[88,47,88,48],[89,47,89,48],[105,47,105,48],[106,47,106,48],[107,47,107,48],[108,47,108,48],[109,47,109,48],[110,47,110,48],[91,47,91,48],[92,47,92,48],[93,47,93,48],[94,47,94,48],[95,47,95,48],[96,47,96,48],[145,47,145,48],[146,47,146,48],[147,47,147,48],[148,47,148,48],[149,47,149,48],[150,47,150,48],[111,47,111,48],[112,47,112,48],[113,47,113,48],[114,47,114,48],[115,47,115,48],[116,47,116,48],[117,47,117,48],[118,47,118,48],[119,47,119,48],[120,47,120,48],[121,47,121,48],[122,47,122,48],[123,47,123,48],[124,47,124,48],[125,47,125,48],[126,47,126,48],[127,47,127,48],[128,47,128,48],[136,47,136,48],[137,47,137,48],[138,47,138,48],[139,47,139,48],[140,47,140,48],[141,47,141,48],[142,47,142,48],[143,47,143,48],[144,47,144,48],[166,47,166,48],[167,47,167,48],[168,47,168,48],[169,47,169,48],[170,47,170,48],[151,47,151,48],[152,47,152,48],[153,47,153,48],[154,47,154,48],[155,47,155,48],[156,47,156,48],[157,47,157,48],[158,47,158,48],[159,47,159,48],[160,47,160,48],[161,47,161,48],[162,47,162,48],[163,47,163,48],[164,47,164,48],[165,47,165,48],[134,47,134,48],[135,47,135,48],[71,47,71,48],[72,47,72,48],[73,47,73,48],[74,47,74,48],[75,47,75,48],[76,47,76,48],[77,47,77,48],[78,47,78,48],[79,47,79,48],[129,47,129,48],[130,47,130,48],[131,47,131,48],[132,47,132,48],[133,47,133,48],[97,47,97,48],[98,47,98,48],[99,47,99,48],[100,47,100,48],[101,47,101,48],[102,47,102,48],[103,47,103,48],[104,47,104,48],[166,45,166,46],[167,45,167,46],[168,45,168,46],[169,45,169,46],[170,45,170,46],[161,45,161,46],[162,45,162,46],[163,45,163,46],[164,45,164,46],[165,45,165,46],[156,45,156,46],[157,45,157,46],[158,45,158,46],[159,45,159,46],[160,45,160,46],[151,45,151,46],[152,45,152,46],[153,45,153,46],[154,45,154,46],[155,45,155,46],[146,45,146,46],[147,45,147,46],[148,45,148,46],[149,45,149,46],[150,45,150,46],[141,45,141,46],[142,45,142,46],[143,45,143,46],[144,45,144,46],[145,45,145,46],[136,45,136,46],[137,45,137,46],[138,45,138,46],[139,45,139,46],[140,45,140,46],[131,45,131,46],[132,45,132,46],[133,45,133,46],[134,45,134,46],[135,45,135,46],[126,45,126,46],[127,45,127,46],[128,45,128,46],[129,45,129,46],[130,45,130,46],[121,45,121,46],[122,45,122,46],[123,45,123,46],[124,45,124,46],[125,45,125,46],[116,45,116,46],[117,45,117,46],[118,45,118,46],[119,45,119,46],[120,45,120,46],[111,45,111,46],[112,45,112,46],[113,45,113,46],[114,45,114,46],[115,45,115,46],[106,45,106,46],[107,45,107,46],[108,45,108,46],[109,45,109,46],[110,45,110,46],[101,45,101,46],[102,45,102,46],[103,45,103,46],[104,45,104,46],[105,45,105,46],[96,45,96,46],[97,45,97,46],[98,45,98,46],[99,45,99,46],[100,45,100,46],[91,45,91,46],[92,45,92,46],[93,45,93,46],[94,45,94,46],[95,45,95,46],[86,45,86,46],[87,45,87,46],[88,45,88,46],[89,45,89,46],[90,45,90,46],[81,45,81,46],[82,45,82,46],[83,45,83,46],[84,45,84,46],[85,45,85,46],[76,45,76,46],[77,45,77,46],[78,45,78,46],[79,45,79,46],[80,45,80,46],[71,45,71,46],[72,45,72,46],[73,45,73,46],[74,45,74,46],[75,45,75,46],[62,36,62,37],[63,36,63,37],[64,36,64,37],[70,45,70,46],[56,36,56,37],[57,36,57,37],[58,36,58,37],[59,36,59,37],[60,36,60,37],[53,36,53,37],[54,36,54,37],[55,36,55,37],[46,36,46,37],[47,36,47,37],[48,36,48,37],[49,36,49,37],[50,36,50,37],[61,36,61,37],[44,36,44,37],[45,36,45,37],[31,21,31,22],[32,21,32,22],[33,21,33,22],[34,21,34,22],[35,21,35,22],[51,36,51,37],[52,36,52,37],[17,1,18,1],[43,1,44,1],[69,1,70,1],[18,21,18,22],[19,21,19,22],[20,21,20,22],[21,21,21,22],[22,21,22,22],[23,21,23,22],[24,21,24,22],[25,21,25,22],[26,21,26,22],[27,21,27,22],[28,21,28,22],[29,21,29,22],[30,21,30,22],[36,21,36,22],[37,21,37,22],[38,21,38,22]]}
[]
[]
[]
[null,"Global warming potentials",null,null,null,null,null,null,null,null,null,null,null,null,null,null,null,null,null,null,null,null,null,null,null,null,null,null,null,null,null,null,null,null,null,null,null,null,null,null,null,null,null,null,null,null,null,null,null,null,null,null,null,null,null,null,null,null,null,null,null,null,null,null,null,null,null,null,null,null,null,null,null,null,null,null,null,null,null,null,null,null,null,null,null,null,null,"You can enter your own custom GHG and GWP's here"]
[null,"You must apply GWP values provided by the IPCC based on a 100-year time horizon. The latest values are given below but you can add in more recent values where these exist or you can seperately report GHG effects using 20-year GWP (in addition to using the 100-year GWP values)"]
[null,null,"CO2","CH4","N2O","SF6","NF3","CCl3F","CCl2F2","CClF3","CCl2FCClF2","CClF2CClF2","CClF2CF3","CBrF3","CBrClF2","CBrF2CBrF2","CCl4","CH3Br","CH3CCl3","CHCl2F","CHCLF2","CHCl2CF3","CHClFCF3","CH3CCl2F","CH3CClF2","CHCl2CF2CF3","CHClFCF2CClF2","CHF3","CH2F2","CH3F2","CHF2CF3","CHF2CHF2","CH2FCF3","CH2FCHF2","CH3CF3","CH2FCH2F","CH3CHF2","CH3CH2F","CF3CHFCF3","CH2FCF2CF3","CHF2CHFCF3","CF3CH2CF3","CH2FCF2CHF2","CHF2CH2CF3","CH3CF2CH2CF3","CF3CHFCHFCF2CF3","CF4","C2F6","C3F8","c-C4F8","C4F10","C5F12","C6F14","C10F18","SF5CF3","c-C3F6","CHF2OCF3","CHF2OCHF2","CH3OCF3","CHF2OCHClCF3","CH3OCF2CF3","CHF2OCH2CF3","CH3OCF2CF2CF3","CHF2CF2OCH2CF3","CH3OCF2CF2CHF2","C4F9OCH3","C4F9OC2H5","CHF2OCF2OC2F4OCHF2","CHF2OCF2OCHF2","CHF2OCF2CF2OCHF2","CF3CHFOCF3","CHF2OCHFCF3","CF3CH2OCF3","CHF2CH2OCF3","CF3CH2OCH3","CHF2CF2OCF2CF3","CF3CH2OCF2CF3","CHF2CH2OCF2CF3","CH3OCF2CHFCF3","CHF2CH2OCF2CHF2","CHF2OCH2CF2CHF2","CF3CF2CH2OCH3","CF3OCF(CF3)CF2OCF2OCF3","CHCl3","CH2Cl2","CH3Cl","CHBrF2","HFC/PFC custom 1","HFC/PFC custom 2","HFC/PFC custom 3","HFC/PFC custom 4","HFC/PFC custom 5","[select PFC/HFC]"]
[null,"IPCC Fifth Assessment Report",1,28,265,23500,16100,4660,10200,13900,5820,8590,7670,6290,1750,1470,1730,2,160,148,1760,79,527,782,1980,127,525,12400,677,116,3170,1120,1300,328,4800,16,138,4,3350,1210,1330,8060,716,858,804,1650,6630,11100,8900,9540,9200,8550,7910,7190,17400,9200,12400,5560,523,491,654,812,530,889,413,421,57,2820,5350,2910,6450,1790,979,828,1,3070,929,854,387,719,446,627,9710,16,9,12,376,0,0,0,0,0,0]
[null,"IPCC Fourth Assessment Report",1,25,298,22800,17200,475,10900,14400,6130,10000,7370,7140,1890,1640,1400,5,146,null,1810,77,609,725,2310,122,595,14800,675,124,3500,null,1430,null,4470,null,124,null,3220,null,null,null,null,1030,794,1640,7390,12200,null,null,null,null,null,7500,17700,null,14900,6320,756,350,708,659,575,580,110,297,59,1870,2800,1500,null,null,null,null,null,null,null,null,null,null,null,null,10300,null,8.6999999999999993,13,null,0,0,0,0,0]
[null,"IPCC Second Assessment Report",1,21,310,23900,null,3800,8100,null,4800,null,null,5400,null,null,1400,null,100,null,1500,90,470,600,1800,null,null,11700,650,150,2800,1000,1300,300,3800,null,140,null,2900,null,null,6300,560,null,null,1300,6500,9200,7000,8700,7000,7500,7400,null,null,null,null,null,null,null,null,null,null,null,null,null,null,null,null,null,null,null,null,null,null,null,null,null,null,null,null,null,null,4,9,null,null,0,0,0,0,0]
[null,"Other",1,28,265,23500,16100,4660,10200,13900,5820,8590,7670,6290,1750,1470,1730,2,160,148,1760,79,527,782,1980,127,525,12400,677,116,3170,1120,1300,328,4800,16,138,4,3350,1210,1330,8060,716,858,804,1650,6630,11100,8900,9540,9200,8550,7910,7190,17400,9200,12400,5560,523,491,654,812,530,889,413,421,57,2820,5350,2910,6450,1790,979,828,1,3070,929,854,387,719,446,627,9710,16,9,12,376,0,0,0,0,0,0]
[]
[]
[]
[]
[]
[null,"Stationary Sources Emission Factors"]
[null,"You can add your own custom emission factors here. You can also enter a custom unit for each relevant GHG."]
[null,"Stationary Source","CO2 (kg)",{"$f":"C18","v":"CO2 (kg)"},{"$f":"D18","v":"CO2 (kg)"},{"$f":"E18","v":"CO2 (kg)"},{"$f":"F18","v":"CO2 (kg)"},{"$f":"F18","v":"CO2 (kg)"},{"$f":"'Stationary emission factors'!J3","v":"CH4 (kg)"},{"$f":"'Stationary emission factors'!J3","v":"CH4 (kg)"},{"$f":"J18","v":"CH4 (kg)"},{"$f":"K18","v":"CH4 (kg)"},{"$f":"L18","v":"CH4 (kg)"},{"$f":"L18","v":"CH4 (kg)"},{"$f":"'Stationary emission factors'!P3","v":"N2O (kg)"},{"$f":"'Stationary emission factors'!P3","v":"N2O (kg)"},{"$f":"P18","v":"N2O (kg)"},{"$f":"P18","v":"N2O (kg)"},{"$f":"Q18","v":"N2O (kg)"},{"$f":"Q18","v":"N2O (kg)"}]
[null,null,{"$f":"'Stationary emission factors'!D5","v":"TJ"},{"$f":"'Stationary emission factors'!E5","v":"tonne"},{"$f":"'Stationary emission factors'!F5","v":"litre"},{"$f":"'Stationary emission factors'!G5","v":"m3"},{"$f":"'Stationary emission factors'!H5","v":"kWh"},"custom unit",{"$f":"'Stationary emission factors'!J5","v":"TJ"},{"$f":"'Stationary emission factors'!K5","v":"tonne"},{"$f":"'Stationary emission factors'!L5","v":"litre"},{"$f":"'Stationary emission factors'!M5","v":"m3"},{"$f":"'Stationary emission factors'!N5","v":"kWh"},{"$f":"H19","v":"custom unit"},{"$f":"'Stationary emission factors'!P5","v":"TJ"},{"$f":"'Stationary emission factors'!Q5","v":"tonne"},{"$f":"'Stationary emission factors'!R5","v":"litre"},{"$f":"'Stationary emission factors'!S5","v":"m3"},{"$f":"'Stationary emission factors'!T5","v":"kWh"},{"$f":"H19","v":"custom unit"},null,"Reference "]
[null,"custom stationary EF1"]
[null,"custom stationary EF2"]
[null,"custom stationary EF3"]
[null,"custom stationary EF4"]
[null,"custom stationary EF5"]
[null,"custom stationary EF6"]
[null,"custom stationary EF7"]
[null,"custom stationary EF8"]
[null,"custom stationary EF9"]
[null,"custom stationary EF10"]
[null,"custom stationary EF11"]
[null,"custom stationary EF12"]
[null,"custom stationary EF13"]
[null,"custom stationary EF14"]
[null,"custom stationary EF15"]
[null,"custom stationary EF16"]
[null,"custom stationary EF17"]
[null,"custom stationary EF18"]
[null,"custom stationary EF19"]
[null,"custom stationary EF20"]
[]
[]
[null,"Mobile Sources Emission Factors"]
[null,"You can add your own custom emission factors here. You can also enter a custom unit."]
[null,"Mobile Sources","CO2 (kg)","CO2 (kg)","CO2 (kg)","CO2 (kg)","CO2 (kg)","CO2 (kg)","CO2 (kg)","CO2 (kg)","CO2 (kg)","CO2 (kg)","CO2 (kg)","CH4 (kg)","CH4 (kg)","CH4 (kg)","CH4 (kg)","CH4 (kg)","CH4 (kg)","CH4 (kg)","CH4 (kg)","CH4 (kg)","CH4 (kg)","CH4 (kg)","N2O(kg)","N2O(kg)","N2O(kg)","N2O(kg)","N2O(kg)","N2O(kg)","N2O(kg)","N2O(kg)","N2O(kg)","N2O(kg)","N2O(kg)"]
[null,null,"US Gallon","Standard Cubic Foot","mile","short ton mile","passenger mile","litre","m3","kilometer","tonne kilometer","passenger kilometer","custom unit","US Gallon","Standard Cubic Foot","mile","short ton mile","passenger mile","litre","m3","kilometer","tonne kilometer","passenger kilometer",{"$f":"M45","v":"custom unit"},"US Gallon","Standard Cubic Foot","mile","short ton mile","passenger mile","litre","m3","kilometer","tonne kilometer","passenger kilometer",{"$f":"M45","v":"custom unit"},null,"Reference "]
[null,"custom mobile EF 1",null,null,null,null,null,null,null,null,null,null,null,null,null,null,null,null,null,null,null,null,null,null,null,null,null,null,null,null,null,null,null,null,null,null,"reference 1"]
[null,"custom mobile EF 2"]
[null,"custom mobile EF 3"]
[null,"custom mobile EF 4"]
[null,"custom mobile EF 5"]
[null,"custom mobile EF 6"]
[null,"custom mobile EF 7"]
[null,"custom mobile EF 8"]
[null,"custom mobile EF 9"]
[null,"custom mobile EF 10"]
[null,"custom mobile EF 11"]
[null,"custom mobile EF 12"]
[null,"custom mobile EF 13"]
[null,"custom mobile EF 14"]
[null,"custom mobile EF 15"]
[null,"custom mobile EF 16"]
[null,"custom mobile EF 17"]
[null,"custom mobile EF 18"]
[null,"custom mobile EF 19"]
[null,"custom mobile EF 20",null,null,null,null,null,null,null,null,null,null,null,null,null,null,null,null,null,null,null,null,null,null,null,null,null,null,null,null,null,null,null,null,null,null,"reference 20"]
[]
[]
[null,"Other Emission Factors"]
[null,"You can add your own custom CO2, CH4 and N20 emission factors here. You can also enter a custom unit.",null,null,null,null,null,null,null,null,null,null,null,null,null,null,null,null,null,null,null,null,null,null,null,null,null,null,null,null,null,null,null,null,null,null,null,null,null,null,null,null,null,null,"custom unit"]
[null,"Other sources","CO2 (kg)","CO2 (kg)","CO2 (kg)","CO2 (kg)","CO2 (kg)","CO2 (kg)","CO2 (kg)","CO2 (kg)","CO2 (kg)","CO2 (kg)","CO2 (kg)","CO2 (kg)","CO2 (kg)","CO2 (kg)","CH4 (kg)","CH4 (kg)","CH4 (kg)","CH4 (kg)","CH4 (kg)","CH4 (kg)","CH4 (kg)","CH4 (kg)","CH4 (kg)","CH4 (kg)","CH4 (kg)","CH4 (kg)","CH4 (kg)","CH4 (kg)","N2O(kg)","N2O(kg)","N2O(kg)","N2O(kg)","N2O(kg)","N2O(kg)","N2O(kg)","N2O(kg)","N2O(kg)","N2O(kg)","N2O(kg)","N2O(kg)","N2O(kg)","N2O(kg)","Other GHG (kg)"]
[null,null,"US Gallon","Standard Cubic Foot","mile","short ton mile","passenger mile","litre","m3","kilometer","tonne kilometer","passenger kilometer","TJ","tonne","kWh","custom unit","US Gallon","Standard Cubic Foot","mile","short ton mile","passenger mile","litre","m3","kilometer","tonne kilometer","passenger kilometer","TJ","tonne","kWh",{"$f":"P71","v":"custom unit"},"US Gallon","Standard Cubic Foot","mile","short ton mile","passenger mile","litre","m3","kilometer","tonne kilometer","passenger kilometer","TJ","tonne","kWh",{"$f":"P71","v":"custom unit"},"units",null,null,"Reference"]
[null,"custom other EF 1",null,null,null,null,null,null,null,null,null,null,null,null,null,null,null,null,null,null,null,null,null,null,null,null,null,null,null,null,0.4]
[null,"custom other EF 2"]
[null,"custom other EF 3"]
[null,"custom other EF 4"]
[null,"custom other EF 5"]
[null,"custom other EF 6"]
[null,"custom other EF 7"]
[null,"custom other EF 8"]
[null,"custom other EF 9"]
[null,"custom other EF 10"]
[null,"custom other EF 11"]
[null,"custom other EF 12"]
[null,"custom other EF 13"]
[null,"custom other EF 14"]
[null,"custom other EF 15"]
[null,"custom other EF 16"]
[null,"custom other EF 17"]
[null,"custom other EF 18"]
[null,"custom other EF 19"]
[null,"custom other EF 20"]
[null,"custom other EF 21"]
[null,"custom other EF 22"]
[null,"custom other EF 23"]
[null,"custom other EF 24"]
[null,"custom other EF 25"]
[null,"custom other EF 26"]
[null,"custom other EF 27"]
[null,"custom other EF 28"]
[null,"custom other EF 29"]
[null,"custom other EF 30"]
[null,"custom other EF 31"]
[null,"custom other EF 32"]
[null,"custom other EF 33"]
[null,"custom other EF 34"]
[null,"custom other EF 35"]
[null,"custom other EF 36"]
[null,"custom other EF 37"]
[null,"custom other EF 38"]
[null,"custom other EF 39"]
[null,"custom other EF 40"]
[null,"custom other EF 41"]
[null,"custom other EF 42"]
[null,"custom other EF 43"]
[null,"custom other EF 44"]
[null,"custom other EF 45"]
[null,"custom other EF 46"]
[null,"custom other EF 47"]
[null,"custom other EF 48"]
[null,"custom other EF 49"]
[null,"custom other EF 50"]
[null,"custom other EF 51"]
[null,"custom other EF 52"]
[null,"custom other EF 53"]
[null,"custom other EF 54"]
[null,"custom other EF 55"]
[null,"custom other EF 56"]
[null,"custom other EF 57"]
[null,"custom other EF 58"]
[null,"custom other EF 59"]
[null,"custom other EF 60"]
[null,"custom other EF 61"]
[null,"custom other EF 62"]
[null,"custom other EF 63"]
[null,"custom other EF 64"]
[null,"custom other EF 65"]
[null,"custom other EF 66"]
[null,"custom other EF 67"]
[null,"custom other EF 68"]
[null,"custom other EF 69"]
[null,"custom other EF 70"]
[null,"custom other EF 71"]
[null,"custom other EF 72"]
[null,"custom other EF 73"]
[null,"custom other EF 74"]
[null,"custom other EF 75"]
[null,"custom other EF 76"]
[null,"custom other EF 77"]
[null,"custom other EF 78"]
[null,"custom other EF 79"]
[null,"custom other EF 80"]
[null,"custom other EF 81"]
[null,"custom other EF 82"]
[null,"custom other EF 83"]
[null,"custom other EF 84"]
[null,"custom other EF 85"]
[null,"custom other EF 86"]
[null,"custom other EF 87"]
[null,"custom other EF 88"]
[null,"custom other EF 89"]
[null,"custom other EF 90"]
[null,"custom other EF 91"]
[null,"custom other EF 92"]
[null,"custom other EF 93"]
[null,"custom other EF 94"]
[null,"custom other EF 95"]
[null,"custom other EF 96"]
[null,"custom other EF 97"]
[null,"custom other EF 98"]
[null,"custom other EF 99"]
[null,"custom other EF 100"]

{"sheet":"Stationary emission factors","index":16,"n_rows":503,"n_cols":22,"rows_kept":503,"cut":false,"hidden":false,"merged":[[3,3,3,6]]}
[]
[null,1,2,3,4,5,6,7,8,9,10,11,12,13,14,15,16,17,18,19,20]
[null,null,null,"CO2 (kg)",null,null,null,null,null,"CH4 (kg)",null,null,null,null,null,"N2O (kg)"]
[]
[null,"Type","Source","TJ","tonne","litre","m3","kWh",{"$f":"'Custom Emission Factors'!H19","v":"custom unit"},"TJ","tonne","litre","m3","kWh",{"$f":"'Custom Emission Factors'!N19","v":"custom unit"},"TJ","tonne","litre","m3","kWh",{"$f":"'Custom Emission Factors'!T19","v":"custom unit"},"Reference"]
[null,"oil products","Crude oil",73300,3100.59,2.4804720000000002,"",null,null,10,0.42299999999999999,3.3839999999999999E-4,"",null,null,0.6,2.538E-2,2.0304000000000001E-5,null,null,null,"WRI (2014) "]
[null,"oil products","Orimulsion",77000,2117.5,"","",null,null,10,0.27500000000000002,"","",null,null,0.6,1.6500000000000001E-2,"",null,null,null,"WRI (2014) "]
[null,"oil products","Natural Gas Liquids",64200,2837.64,"","",null,null,10,0.442,"","",null,null,0.6,2.6519999999999998E-2,"",null,null,null,"WRI (2014) "]
[null,"oil products","Motor gasoline",69300,3069.99,2.2717925999999999,"",null,null,10,0.443,3.2781999999999999E-4,"",null,null,0.6,2.6579999999999999E-2,1.9669199999999998E-5,null,null,null,"WRI (2014) "]
[null,"oil products","Aviation gasoline",70000,3101,2.2017099999999998,"",null,null,10,0.443,3.1452999999999999E-4,"",null,null,0.6,2.6579999999999999E-2,1.8871799999999998E-5,null,null,null,"WRI (2014) "]
[null,"oil products","Jet gasoline",70000,3101,2.2017099999999998,"",null,null,10,0.443,3.1452999999999999E-4,"",null,null,0.6,2.6579999999999999E-2,1.8871799999999998E-5,null,null,null,"WRI (2014) "]
[null,"oil products","Jet kerosene",71500,3153.15,2.4909885000000003,"",null,null,10,0.441,3.4839000000000002E-4,"",null,null,0.6,2.6460000000000001E-2,2.09034E-5,null,null,null,"WRI (2014) "]
[null,"oil products","Other kerosene",71900,3149.22,2.5193759999999998,"",null,null,10,0.438,3.5040000000000006E-4,"",null,null,0.6,2.6279999999999998E-2,2.1024000000000001E-5,null,null,null,"WRI (2014) "]
[null,"oil products","Shale oil",73300,2792.73,2.7927300000000002,"",null,null,10,0.38100000000000001,3.8099999999999999E-4,"",null,null,0.6,2.2859999999999998E-2,2.2859999999999998E-5,null,null,null,"WRI (2014) "]
[null,"oil products","Gas/Diesel oil",74100,3186.3,2.6764920000000001,"",null,null,10,0.43,3.612E-4,"",null,null,0.6,2.58E-2,2.1671999999999999E-5,null,null,null,"WRI (2014) "]
[null,"oil products","Residual fuel oil",77400,3126.96,2.9393423999999997,"",null,null,10,0.40400000000000003,3.7975999999999998E-4,"",null,null,0.6,2.4239999999999998E-2,2.2785599999999997E-5,null,null,null,"WRI (2014) "]
[null,"oil products","Liquified Petroleum Gases",63100,2984.63,1.6117002000000002,"",null,null,5,0.23649999999999999,1.2770999999999998E-4,"",null,null,0.1,4.7299999999999998E-3,2.5542E-6,null,null,null,"WRI (2014) "]
[null,"oil products","Ethane",61600,2858.24,"",3.7157119999999995,null,null,5,0.23200000000000001,"",3.0160000000000001E-4,null,null,0.1,4.64E-3,"",6.032E-6,null,null,"WRI (2014) "]
[null,"oil products","Naphtha",73300,3261.85,2.5116244999999999,"",null,null,10,0.44500000000000001,3.4265000000000001E-4,"",null,null,0.6,2.6699999999999998E-2,2.0559000000000001E-5,null,null,null,"WRI (2014) "]
[null,"oil products","Bitumen",80700,3244.14,"","",null,null,10,0.40200000000000002,"","",null,null,0.6,2.4120000000000003E-2,"",null,null,null,"WRI (2014) "]
[null,"oil products","Lubricants",73300,2946.66,2.9466600000000001,"",null,null,10,0.40200000000000002,4.0200000000000001E-4,"",null,null,0.6,2.4120000000000003E-2,2.4120000000000003E-5,null,null,null,"WRI (2014) "]
[null,"oil products","Petroleum coke",97500,3168.75,"","",null,null,10,0.32500000000000001,"","",null,null,0.6,1.95E-2,"",null,null,null,"WRI (2014) "]
[null,"oil products","Refinery feedstocks",73300,3151.9,"","",null,null,10,0.43,"","",null,null,0.6,2.58E-2,"",null,null,null,"WRI (2014) "]
[null,"oil products","Refinery gas",57600,2851.2,"","",null,null,5,0.2475,"","",null,null,0.1,4.9500000000000004E-3,"",null,null,null,"WRI (2014) "]
[null,"oil products","Paraffin waxes",73300,2946.66,"","",null,null,10,0.40200000000000002,"","",null,null,0.6,2.4120000000000003E-2,"",null,null,null,"WRI (2014) "]
[null,"oil products","White Spirit/SBP",73300,2946.66,"","",null,null,10,0.40200000000000002,"","",null,null,0.6,2.4120000000000003E-2,"",null,null,null,"WRI (2014) "]
[null,"oil products","Other petroleum products",73300,2946.66,"","",null,null,10,0.40200000000000002,"","",null,null,0.6,2.4120000000000003E-2,"",null,null,null,"WRI (2014) "]
[null,"coal products","Anthracite",98300,2624.61,"","",null,null,10,0.26700000000000002,"","",null,null,1.5,4.0049999999999995E-2,"",null,null,null,"WRI (2014) "]
[null,"coal products","Coking coal",94600,2667.72,"","",null,null,10,0.28199999999999997,"","",null,null,1.5,4.2299999999999997E-2,"",null,null,null,"WRI (2014) "]
[null,"coal products","Other bituminous coal",94600,2440.6799999999998,"","",null,null,10,0.25800000000000001,"","",null,null,1.5,3.8700000000000005E-2,"",null,null,null,"WRI (2014) "]
[null,"coal products","Sub bituminous coal",96100,1816.2899999999997,"","",null,null,10,0.189,"","",null,null,1.5,2.8349999999999997E-2,"",null,null,null,"WRI (2014) "]
[null,"coal products","Lignite",101000,1201.9000000000001,"","",null,null,10,0.11899999999999999,"","",null,null,1.5,1.7850000000000001E-2,"",null,null,null,"WRI (2014) "]
[null,"coal products","Oil shale and tar sands",107000,952.3,"","",null,null,10,8.8999999999999996E-2,"","",null,null,1.5,1.3350000000000001E-2,"",null,null,null,"WRI (2014) "]
[null,"coal products","Brown coal briquettes",97500,2018.25,"","",null,null,10,0.20699999999999999,"","",null,null,1.5,3.1049999999999998E-2,"",null,null,null,"WRI (2014) "]
[null,"coal products","Patent fuel",97500,2018.25,"","",null,null,10,0.20699999999999999,"","",null,null,1.5,3.1049999999999998E-2,"",null,null,null,"WRI (2014) "]
[null,"coal products","Coke oven coke",107000,3017.4,"","",null,null,10,0.28199999999999997,"","",null,null,1.5,4.2299999999999997E-2,"",null,null,null,"WRI (2014) "]
[null,"coal products","Lignite coke",107000,3017.4,"","",null,null,10,0.28199999999999997,"","",null,null,1.5,4.2299999999999997E-2,"",null,null,null,"WRI (2014) "]
[null,"coal products","Gas coke",107000,3017.4,"","",null,null,5,0.14099999999999999,"","",null,null,0.1,2.8200000000000005E-3,"",null,null,null,"WRI (2014) "]
[null,"coal products","Coal tar",80700,2259.6,"","",null,null,10,0.28000000000000003,"","",null,null,1.5,4.2000000000000003E-2,"",null,null,null,"WRI (2014) "]
[null,"coal products","Gas works gas",44400,1718.2800000000002,"","",null,null,5,0.19350000000000001,"","",null,null,0.1,3.8700000000000006E-3,"",null,null,null,"WRI (2014) "]
[null,"coal products","Coke oven gas",44400,1718.2800000000002,"","",null,null,5,0.19350000000000001,"","",null,null,0.1,3.8700000000000006E-3,"",null,null,null,"WRI (2014) "]
[null,"coal products","Blast furnace gas",260000,642.20000000000005,"","",null,null,5,1.2350000000000002E-2,"","",null,null,0.1,2.4700000000000004E-4,"",null,null,null,"WRI (2014) "]
[null,"coal products","Oxygen steel furnace gas",182000,1284.92,"","",null,null,5,3.5299999999999998E-2,"","",null,null,0.1,7.0599999999999992E-4,"",null,null,null,"WRI (2014) "]
[null,"natural gas","Natural gas",56100,2692.8,"",1.8849600000000002,null,null,5,0.24,"",1.6799999999999999E-4,null,null,0.1,4.8000000000000004E-3,"",3.3600000000000004E-6,null,null,"WRI (2014) "]
[null,"other wastes","Municipal waste (Non biomass fraction)",91700,917,"","",null,null,300,3,"","",null,null,4,0.04,"",null,null,null,"WRI (2014) "]
[null,"other wastes","Industrial wastes",143000,"NA","","",null,null,300,"NA","","",null,null,4,"NA","",null,null,null,"WRI (2014) "]
[null,"other wastes","Waste oils",73300,2946.66,"","",null,null,300,12.06,"","",null,null,4,0.1608,"",null,null,null,"WRI (2014) "]
[null,"biomass","Wood or Wood waste",112000,1747.2,"","",null,null,300,4.68,"","",null,null,4,6.2399999999999997E-2,"",null,null,null,"WRI (2014) "]
[null,"biomass","Sulphite lyes (Black liqour)",95300,1124.54,"","",null,null,3,3.5400000000000008E-2,"","",null,null,2,2.3600000000000003E-2,"",null,null,null,"WRI (2014) "]
[null,"biomass","Other primary solid biomass fuels",100000,1160,"","",null,null,300,3.48,"","",null,null,4,4.6399999999999997E-2,"",null,null,null,"WRI (2014) "]
[null,"biomass","Charcoal",112000,3304,"","",null,null,200,5.9,"","",null,null,1,2.9499999999999998E-2,"",null,null,null,"WRI (2014) "]
[null,"biomass","Biogasoline",70800,1911.6,"","",null,null,10,0.27,"","",null,null,0.6,1.6199999999999999E-2,"",null,null,null,"WRI (2014) "]
[null,"biomass","Biodiesels",70800,1911.6,"","",null,null,10,0.27,"","",null,null,0.6,1.6199999999999999E-2,"",null,null,null,"WRI (2014) "]
[null,"biomass","Other liquid biofuels",79600,2181.04,"","",null,null,10,0.27400000000000002,"","",null,null,0.6,1.6439999999999996E-2,"",null,null,null,"WRI (2014) "]
[null,"biomass","Landfill gas",54600,2751.84,"",2.4766560000000002,null,null,5,0.252,"",2.2679999999999998E-4,null,null,0.1,5.0400000000000002E-3,"",4.5360000000000003E-6,null,null,"WRI (2014) "]
[null,"biomass","Sludge gas",54600,2751.84,"","",null,null,5,0.252,"","",null,null,0.1,5.0400000000000002E-3,"",null,null,null,"WRI (2014) "]
[null,"biomass","Other biogas",54600,2751.84,"","",null,null,5,0.252,"","",null,null,0.1,5.0400000000000002E-3,"",null,null,null,"WRI (2014) "]
[null,"biomass","Municipal wastes (Biomass fraction)",100000,1160,"","",null,null,300,3.48,"","",null,null,4,4.6399999999999997E-2,"",null,null,null,"WRI (2014) "]
[null,"biomass","Peat",106000,1034.56,"","",null,null,10,9.7599999999999992E-2,"","",null,null,1.4,1.3663999999999999E-2,"",null,null,null,"WRI (2014) "]
[null,"electricity (purchased)","Electricity",null,null,null,null,null,null,null,null,null,null,null,null,null,null,null,null,null,null,"WRI (2014) "]
[null,"electricity (purchased)","Electricity  generation (UK average 2015)",null,null,null,null,0.45850000000000002,null,null,null,null,null,{"$f":"0.00035/25","v":1.4E-5},null,null,null,null,null,{"$f":"0.00334/298","v":1.1208053691275167E-5},null,"WRI (2014) "]
[null,"electricity (purchased)","Electricity generation (US average 2015)",null,null,null,null,0.55898455716950002,null,null,null,null,null,1.09497198118E-5,null,null,null,null,null,8.2825966761999984E-6,null,"WRI (2014) "]
[null,"custom",{"$f":"'Custom Emission Factors'!B20","v":"custom stationary EF1"},{"$f":"'Custom Emission Factors'!C20","v":0},{"$f":"'Custom Emission Factors'!D20","v":0},{"$f":"'Custom Emission Factors'!E20","v":0},{"$f":"'Custom Emission Factors'!F20","v":0},{"$f":"'Custom Emission Factors'!G20","v":0},{"$f":"'Custom Emission Factors'!H20","v":0},{"$f":"'Custom Emission Factors'!I20","v":0},{"$f":"'Custom Emission Factors'!J20","v":0},{"$f":"'Custom Emission Factors'!K20","v":0},{"$f":"'Custom Emission Factors'!L20","v":0},{"$f":"'Custom Emission Factors'!M20","v":0},{"$f":"'Custom Emission Factors'!N20","v":0},{"$f":"'Custom Emission Factors'!O20","v":0},{"$f":"'Custom Emission Factors'!P20","v":0},{"$f":"'Custom Emission Factors'!Q20","v":0},{"$f":"'Custom Emission Factors'!R20","v":0},null,{"$f":"'Custom Emission Factors'!T20","v":0},{"$f":"IF('Custom Emission Factors'!V20<>0, 'Custom Emission Factors'!V20,\"\")","v":""}]
[null,"custom",{"$f":"'Custom Emission Factors'!B21","v":"custom stationary EF2"},{"$f":"'Custom Emission Factors'!C21","v":0},{"$f":"'Custom Emission Factors'!D21","v":0},{"$f":"'Custom Emission Factors'!E21","v":0},{"$f":"'Custom Emission Factors'!F21","v":0},{"$f":"'Custom Emission Factors'!G21","v":0},{"$f":"'Custom Emission Factors'!H21","v":0},{"$f":"'Custom Emission Factors'!I21","v":0},{"$f":"'Custom Emission Factors'!J21","v":0},{"$f":"'Custom Emission Factors'!K21","v":0},{"$f":"'Custom Emission Factors'!L21","v":0},{"$f":"'Custom Emission Factors'!M21","v":0},{"$f":"'Custom Emission Factors'!N21","v":0},{"$f":"'Custom Emission Factors'!O21","v":0},{"$f":"'Custom Emission Factors'!P21","v":0},{"$f":"'Custom Emission Factors'!Q21","v":0},{"$f":"'Custom Emission Factors'!R21","v":0},null,{"$f":"'Custom Emission Factors'!T21","v":0},{"$f":"IF('Custom Emission Factors'!V21<>0, 'Custom Emission Factors'!V21,\"\")","v":""}]
[null,"custom",{"$f":"'Custom Emission Factors'!B22","v":"custom stationary EF3"},{"$f":"'Custom Emission Factors'!C22","v":0},{"$f":"'Custom Emission Factors'!D22","v":0},{"$f":"'Custom Emission Factors'!E22","v":0},{"$f":"'Custom Emission Factors'!F22","v":0},{"$f":"'Custom Emission Factors'!G22","v":0},{"$f":"'Custom Emission Factors'!H22","v":0},{"$f":"'Custom Emission Factors'!I22","v":0},{"$f":"'Custom Emission Factors'!J22","v":0},{"$f":"'Custom Emission Factors'!K22","v":0},{"$f":"'Custom Emission Factors'!L22","v":0},{"$f":"'Custom Emission Factors'!M22","v":0},{"$f":"'Custom Emission Factors'!N22","v":0},{"$f":"'Custom Emission Factors'!O22","v":0},{"$f":"'Custom Emission Factors'!P22","v":0},{"$f":"'Custom Emission Factors'!Q22","v":0},{"$f":"'Custom Emission Factors'!R22","v":0},null,{"$f":"'Custom Emission Factors'!T22","v":0},{"$f":"IF('Custom Emission Factors'!V22<>0, 'Custom Emission Factors'!V22,\"\")","v":""}]
[null,"custom",{"$f":"'Custom Emission Factors'!B23","v":"custom stationary EF4"},{"$f":"'Custom Emission Factors'!C23","v":0},{"$f":"'Custom Emission Factors'!D23","v":0},{"$f":"'Custom Emission Factors'!E23","v":0},{"$f":"'Custom Emission Factors'!F23","v":0},{"$f":"'Custom Emission Factors'!G23","v":0},{"$f":"'Custom Emission Factors'!H23","v":0},{"$f":"'Custom Emission Factors'!I23","v":0},{"$f":"'Custom Emission Factors'!J23","v":0},{"$f":"'Custom Emission Factors'!K23","v":0},{"$f":"'Custom Emission Factors'!L23","v":0},{"$f":"'Custom Emission Factors'!M23","v":0},{"$f":"'Custom Emission Factors'!N23","v":0},{"$f":"'Custom Emission Factors'!O23","v":0},{"$f":"'Custom Emission Factors'!P23","v":0},{"$f":"'Custom Emission Factors'!Q23","v":0},{"$f":"'Custom Emission Factors'!R23","v":0},null,{"$f":"'Custom Emission Factors'!T23","v":0},{"$f":"IF('Custom Emission Factors'!V23<>0, 'Custom Emission Factors'!V23,\"\")","v":""}]
[null,"custom",{"$f":"'Custom Emission Factors'!B24","v":"custom stationary EF5"},{"$f":"'Custom Emission Factors'!C24","v":0},{"$f":"'Custom Emission Factors'!D24","v":0},{"$f":"'Custom Emission Factors'!E24","v":0},{"$f":"'Custom Emission Factors'!F24","v":0},{"$f":"'Custom Emission Factors'!G24","v":0},{"$f":"'Custom Emission Factors'!H24","v":0},{"$f":"'Custom Emission Factors'!I24","v":0},{"$f":"'Custom Emission Factors'!J24","v":0},{"$f":"'Custom Emission Factors'!K24","v":0},{"$f":"'Custom Emission Factors'!L24","v":0},{"$f":"'Custom Emission Factors'!M24","v":0},{"$f":"'Custom Emission Factors'!N24","v":0},{"$f":"'Custom Emission Factors'!O24","v":0},{"$f":"'Custom Emission Factors'!P24","v":0},{"$f":"'Custom Emission Factors'!Q24","v":0},{"$f":"'Custom Emission Factors'!R24","v":0},null,{"$f":"'Custom Emission Factors'!T24","v":0},{"$f":"IF('Custom Emission Factors'!V24<>0, 'Custom Emission Factors'!V24,\"\")","v":""}]
[null,"custom",{"$f":"'Custom Emission Factors'!B25","v":"custom stationary EF6"},{"$f":"'Custom Emission Factors'!C25","v":0},{"$f":"'Custom Emission Factors'!D25","v":0},{"$f":"'Custom Emission Factors'!E25","v":0},{"$f":"'Custom Emission Factors'!F25","v":0},{"$f":"'Custom Emission Factors'!G25","v":0},{"$f":"'Custom Emission Factors'!H25","v":0},{"$f":"'Custom Emission Factors'!I25","v":0},{"$f":"'Custom Emission Factors'!J25","v":0},{"$f":"'Custom Emission Factors'!K25","v":0},{"$f":"'Custom Emission Factors'!L25","v":0},{"$f":"'Custom Emission Factors'!M25","v":0},{"$f":"'Custom Emission Factors'!N25","v":0},{"$f":"'Custom Emission Factors'!O25","v":0},{"$f":"'Custom Emission Factors'!P25","v":0},{"$f":"'Custom Emission Factors'!Q25","v":0},{"$f":"'Custom Emission Factors'!R25","v":0},null,{"$f":"'Custom Emission Factors'!T25","v":0},{"$f":"IF('Custom Emission Factors'!V25<>0, 'Custom Emission Factors'!V25,\"\")","v":""}]
[null,"custom",{"$f":"'Custom Emission Factors'!B26","v":"custom stationary EF7"},{"$f":"'Custom Emission Factors'!C26","v":0},{"$f":"'Custom Emission Factors'!D26","v":0},{"$f":"'Custom Emission Factors'!E26","v":0},{"$f":"'Custom Emission Factors'!F26","v":0},{"$f":"'Custom Emission Factors'!G26","v":0},{"$f":"'Custom Emission Factors'!H26","v":0},{"$f":"'Custom Emission Factors'!I26","v":0},{"$f":"'Custom Emission Factors'!J26","v":0},{"$f":"'Custom Emission Factors'!K26","v":0},{"$f":"'Custom Emission Factors'!L26","v":0},{"$f":"'Custom Emission Factors'!M26","v":0},{"$f":"'Custom Emission Factors'!N26","v":0},{"$f":"'Custom Emission Factors'!O26","v":0},{"$f":"'Custom Emission Factors'!P26","v":0},{"$f":"'Custom Emission Factors'!Q26","v":0},{"$f":"'Custom Emission Factors'!R26","v":0},null,{"$f":"'Custom Emission Factors'!T26","v":0},{"$f":"IF('Custom Emission Factors'!V26<>0, 'Custom Emission Factors'!V26,\"\")","v":""}]
[null,"custom",{"$f":"'Custom Emission Factors'!B27","v":"custom stationary EF8"},{"$f":"'Custom Emission Factors'!C27","v":0},{"$f":"'Custom Emission Factors'!D27","v":0},{"$f":"'Custom Emission Factors'!E27","v":0},{"$f":"'Custom Emission Factors'!F27","v":0},{"$f":"'Custom Emission Factors'!G27","v":0},{"$f":"'Custom Emission Factors'!H27","v":0},{"$f":"'Custom Emission Factors'!I27","v":0},{"$f":"'Custom Emission Factors'!J27","v":0},{"$f":"'Custom Emission Factors'!K27","v":0},{"$f":"'Custom Emission Factors'!L27","v":0},{"$f":"'Custom Emission Factors'!M27","v":0},{"$f":"'Custom Emission Factors'!N27","v":0},{"$f":"'Custom Emission Factors'!O27","v":0},{"$f":"'Custom Emission Factors'!P27","v":0},{"$f":"'Custom Emission Factors'!Q27","v":0},{"$f":"'Custom Emission Factors'!R27","v":0},null,{"$f":"'Custom Emission Factors'!T27","v":0},{"$f":"IF('Custom Emission Factors'!V27<>0, 'Custom Emission Factors'!V27,\"\")","v":""}]
[null,"custom",{"$f":"'Custom Emission Factors'!B28","v":"custom stationary EF9"},{"$f":"'Custom Emission Factors'!C28","v":0},{"$f":"'Custom Emission Factors'!D28","v":0},{"$f":"'Custom Emission Factors'!E28","v":0},{"$f":"'Custom Emission Factors'!F28","v":0},{"$f":"'Custom Emission Factors'!G28","v":0},{"$f":"'Custom Emission Factors'!H28","v":0},{"$f":"'Custom Emission Factors'!I28","v":0},{"$f":"'Custom Emission Factors'!J28","v":0},{"$f":"'Custom Emission Factors'!K28","v":0},{"$f":"'Custom Emission Factors'!L28","v":0},{"$f":"'Custom Emission Factors'!M28","v":0},{"$f":"'Custom Emission Factors'!N28","v":0},{"$f":"'Custom Emission Factors'!O28","v":0},{"$f":"'Custom Emission Factors'!P28","v":0},{"$f":"'Custom Emission Factors'!Q28","v":0},{"$f":"'Custom Emission Factors'!R28","v":0},null,{"$f":"'Custom Emission Factors'!T28","v":0},{"$f":"IF('Custom Emission Factors'!V28<>0, 'Custom Emission Factors'!V28,\"\")","v":""}]
[null,"custom",{"$f":"'Custom Emission Factors'!B29","v":"custom stationary EF10"},{"$f":"'Custom Emission Factors'!C29","v":0},{"$f":"'Custom Emission Factors'!D29","v":0},{"$f":"'Custom Emission Factors'!E29","v":0},{"$f":"'Custom Emission Factors'!F29","v":0},{"$f":"'Custom Emission Factors'!G29","v":0},{"$f":"'Custom Emission Factors'!H29","v":0},{"$f":"'Custom Emission Factors'!I29","v":0},{"$f":"'Custom Emission Factors'!J29","v":0},{"$f":"'Custom Emission Factors'!K29","v":0},{"$f":"'Custom Emission Factors'!L29","v":0},{"$f":"'Custom Emission Factors'!M29","v":0},{"$f":"'Custom Emission Factors'!N29","v":0},{"$f":"'Custom Emission Factors'!O29","v":0},{"$f":"'Custom Emission Factors'!P29","v":0},{"$f":"'Custom Emission Factors'!Q29","v":0},{"$f":"'Custom Emission Factors'!R29","v":0},null,{"$f":"'Custom Emission Factors'!T29","v":0},{"$f":"IF('Custom Emission Factors'!V29<>0, 'Custom Emission Factors'!V29,\"\")","v":""}]
[null,"custom",{"$f":"'Custom Emission Factors'!B30","v":"custom stationary EF11"},{"$f":"'Custom Emission Factors'!C30","v":0},{"$f":"'Custom Emission Factors'!D30","v":0},{"$f":"'Custom Emission Factors'!E30","v":0},{"$f":"'Custom Emission Factors'!F30","v":0},{"$f":"'Custom Emission Factors'!G30","v":0},{"$f":"'Custom Emission Factors'!H30","v":0},{"$f":"'Custom Emission Factors'!I30","v":0},{"$f":"'Custom Emission Factors'!J30","v":0},{"$f":"'Custom Emission Factors'!K30","v":0},{"$f":"'Custom Emission Factors'!L30","v":0},{"$f":"'Custom Emission Factors'!M30","v":0},{"$f":"'Custom Emission Factors'!N30","v":0},{"$f":"'Custom Emission Factors'!O30","v":0},{"$f":"'Custom Emission Factors'!P30","v":0},{"$f":"'Custom Emission Factors'!Q30","v":0},{"$f":"'Custom Emission Factors'!R30","v":0},null,{"$f":"'Custom Emission Factors'!T30","v":0},{"$f":"IF('Custom Emission Factors'!V30<>0, 'Custom Emission Factors'!V30,\"\")","v":""}]
[null,"custom",{"$f":"'Custom Emission Factors'!B31","v":"custom stationary EF12"},{"$f":"'Custom Emission Factors'!C31","v":0},{"$f":"'Custom Emission Factors'!D31","v":0},{"$f":"'Custom Emission Factors'!E31","v":0},{"$f":"'Custom Emission Factors'!F31","v":0},{"$f":"'Custom Emission Factors'!G31","v":0},{"$f":"'Custom Emission Factors'!H31","v":0},{"$f":"'Custom Emission Factors'!I31","v":0},{"$f":"'Custom Emission Factors'!J31","v":0},{"$f":"'Custom Emission Factors'!K31","v":0},{"$f":"'Custom Emission Factors'!L31","v":0},{"$f":"'Custom Emission Factors'!M31","v":0},{"$f":"'Custom Emission Factors'!N31","v":0},{"$f":"'Custom Emission Factors'!O31","v":0},{"$f":"'Custom Emission Factors'!P31","v":0},{"$f":"'Custom Emission Factors'!Q31","v":0},{"$f":"'Custom Emission Factors'!R31","v":0},null,{"$f":"'Custom Emission Factors'!T31","v":0},{"$f":"IF('Custom Emission Factors'!V31<>0, 'Custom Emission Factors'!V31,\"\")","v":""}]
[null,"custom",{"$f":"'Custom Emission Factors'!B32","v":"custom stationary EF13"},{"$f":"'Custom Emission Factors'!C32","v":0},{"$f":"'Custom Emission Factors'!D32","v":0},{"$f":"'Custom Emission Factors'!E32","v":0},{"$f":"'Custom Emission Factors'!F32","v":0},{"$f":"'Custom Emission Factors'!G32","v":0},{"$f":"'Custom Emission Factors'!H32","v":0},{"$f":"'Custom Emission Factors'!I32","v":0},{"$f":"'Custom Emission Factors'!J32","v":0},{"$f":"'Custom Emission Factors'!K32","v":0},{"$f":"'Custom Emission Factors'!L32","v":0},{"$f":"'Custom Emission Factors'!M32","v":0},{"$f":"'Custom Emission Factors'!N32","v":0},{"$f":"'Custom Emission Factors'!O32","v":0},{"$f":"'Custom Emission Factors'!P32","v":0},{"$f":"'Custom Emission Factors'!Q32","v":0},{"$f":"'Custom Emission Factors'!R32","v":0},null,{"$f":"'Custom Emission Factors'!T32","v":0},{"$f":"IF('Custom Emission Factors'!V32<>0, 'Custom Emission Factors'!V32,\"\")","v":""}]
[null,"custom",{"$f":"'Custom Emission Factors'!B33","v":"custom stationary EF14"},{"$f":"'Custom Emission Factors'!C33","v":0},{"$f":"'Custom Emission Factors'!D33","v":0},{"$f":"'Custom Emission Factors'!E33","v":0},{"$f":"'Custom Emission Factors'!F33","v":0},{"$f":"'Custom Emission Factors'!G33","v":0},{"$f":"'Custom Emission Factors'!H33","v":0},{"$f":"'Custom Emission Factors'!I33","v":0},{"$f":"'Custom Emission Factors'!J33","v":0},{"$f":"'Custom Emission Factors'!K33","v":0},{"$f":"'Custom Emission Factors'!L33","v":0},{"$f":"'Custom Emission Factors'!M33","v":0},{"$f":"'Custom Emission Factors'!N33","v":0},{"$f":"'Custom Emission Factors'!O33","v":0},{"$f":"'Custom Emission Factors'!P33","v":0},{"$f":"'Custom Emission Factors'!Q33","v":0},{"$f":"'Custom Emission Factors'!R33","v":0},null,{"$f":"'Custom Emission Factors'!T33","v":0},{"$f":"IF('Custom Emission Factors'!V33<>0, 'Custom Emission Factors'!V33,\"\")","v":""}]
[null,"custom",{"$f":"'Custom Emission Factors'!B34","v":"custom stationary EF15"},{"$f":"'Custom Emission Factors'!C34","v":0},{"$f":"'Custom Emission Factors'!D34","v":0},{"$f":"'Custom Emission Factors'!E34","v":0},{"$f":"'Custom Emission Factors'!F34","v":0},{"$f":"'Custom Emission Factors'!G34","v":0},{"$f":"'Custom Emission Factors'!H34","v":0},{"$f":"'Custom Emission Factors'!I34","v":0},{"$f":"'Custom Emission Factors'!J34","v":0},{"$f":"'Custom Emission Factors'!K34","v":0},{"$f":"'Custom Emission Factors'!L34","v":0},{"$f":"'Custom Emission Factors'!M34","v":0},{"$f":"'Custom Emission Factors'!N34","v":0},{"$f":"'Custom Emission Factors'!O34","v":0},{"$f":"'Custom Emission Factors'!P34","v":0},{"$f":"'Custom Emission Factors'!Q34","v":0},{"$f":"'Custom Emission Factors'!R34","v":0},null,{"$f":"'Custom Emission Factors'!T34","v":0},{"$f":"IF('Custom Emission Factors'!V34<>0, 'Custom Emission Factors'!V34,\"\")","v":""}]
[null,"custom",{"$f":"'Custom Emission Factors'!B35","v":"custom stationary EF16"},{"$f":"'Custom Emission Factors'!C35","v":0},{"$f":"'Custom Emission Factors'!D35","v":0},{"$f":"'Custom Emission Factors'!E35","v":0},{"$f":"'Custom Emission Factors'!F35","v":0},{"$f":"'Custom Emission Factors'!G35","v":0},{"$f":"'Custom Emission Factors'!H35","v":0},{"$f":"'Custom Emission Factors'!I35","v":0},{"$f":"'Custom Emission Factors'!J35","v":0},{"$f":"'Custom Emission Factors'!K35","v":0},{"$f":"'Custom Emission Factors'!L35","v":0},{"$f":"'Custom Emission Factors'!M35","v":0},{"$f":"'Custom Emission Factors'!N35","v":0},{"$f":"'Custom Emission Factors'!O35","v":0},{"$f":"'Custom Emission Factors'!P35","v":0},{"$f":"'Custom Emission Factors'!Q35","v":0},{"$f":"'Custom Emission Factors'!R35","v":0},null,{"$f":"'Custom Emission Factors'!T35","v":0},{"$f":"IF('Custom Emission Factors'!V35<>0, 'Custom Emission Factors'!V35,\"\")","v":""}]
[null,"custom",{"$f":"'Custom Emission Factors'!B36","v":"custom stationary EF17"},{"$f":"'Custom Emission Factors'!C36","v":0},{"$f":"'Custom Emission Factors'!D36","v":0},{"$f":"'Custom Emission Factors'!E36","v":0},{"$f":"'Custom Emission Factors'!F36","v":0},{"$f":"'Custom Emission Factors'!G36","v":0},{"$f":"'Custom Emission Factors'!H36","v":0},{"$f":"'Custom Emission Factors'!I36","v":0},{"$f":"'Custom Emission Factors'!J36","v":0},{"$f":"'Custom Emission Factors'!K36","v":0},{"$f":"'Custom Emission Factors'!L36","v":0},{"$f":"'Custom Emission Factors'!M36","v":0},{"$f":"'Custom Emission Factors'!N36","v":0},{"$f":"'Custom Emission Factors'!O36","v":0},{"$f":"'Custom Emission Factors'!P36","v":0},{"$f":"'Custom Emission Factors'!Q36","v":0},{"$f":"'Custom Emission Factors'!R36","v":0},null,{"$f":"'Custom Emission Factors'!T36","v":0},{"$f":"IF('Custom Emission Factors'!V36<>0, 'Custom Emission Factors'!V36,\"\")","v":""}]
[null,"custom",{"$f":"'Custom Emission Factors'!B37","v":"custom stationary EF18"},{"$f":"'Custom Emission Factors'!C37","v":0},{"$f":"'Custom Emission Factors'!D37","v":0},{"$f":"'Custom Emission Factors'!E37","v":0},{"$f":"'Custom Emission Factors'!F37","v":0},{"$f":"'Custom Emission Factors'!G37","v":0},{"$f":"'Custom Emission Factors'!H37","v":0},{"$f":"'Custom Emission Factors'!I37","v":0},{"$f":"'Custom Emission Factors'!J37","v":0},{"$f":"'Custom Emission Factors'!K37","v":0},{"$f":"'Custom Emission Factors'!L37","v":0},{"$f":"'Custom Emission Factors'!M37","v":0},{"$f":"'Custom Emission Factors'!N37","v":0},{"$f":"'Custom Emission Factors'!O37","v":0},{"$f":"'Custom Emission Factors'!P37","v":0},{"$f":"'Custom Emission Factors'!Q37","v":0},{"$f":"'Custom Emission Factors'!R37","v":0},null,{"$f":"'Custom Emission Factors'!T37","v":0},{"$f":"IF('Custom Emission Factors'!V37<>0, 'Custom Emission Factors'!V37,\"\")","v":""}]
[null,"custom",{"$f":"'Custom Emission Factors'!B38","v":"custom stationary EF19"},{"$f":"'Custom Emission Factors'!C38","v":0},{"$f":"'Custom Emission Factors'!D38","v":0},{"$f":"'Custom Emission Factors'!E38","v":0},{"$f":"'Custom Emission Factors'!F38","v":0},{"$f":"'Custom Emission Factors'!G38","v":0},{"$f":"'Custom Emission Factors'!H38","v":0},{"$f":"'Custom Emission Factors'!I38","v":0},{"$f":"'Custom Emission Factors'!J38","v":0},{"$f":"'Custom Emission Factors'!K38","v":0},{"$f":"'Custom Emission Factors'!L38","v":0},{"$f":"'Custom Emission Factors'!M38","v":0},{"$f":"'Custom Emission Factors'!N38","v":0},{"$f":"'Custom Emission Factors'!O38","v":0},{"$f":"'Custom Emission Factors'!P38","v":0},{"$f":"'Custom Emission Factors'!Q38","v":0},{"$f":"'Custom Emission Factors'!R38","v":0},null,{"$f":"'Custom Emission Factors'!T38","v":0},{"$f":"IF('Custom Emission Factors'!V38<>0, 'Custom Emission Factors'!V38,\"\")","v":""}]
[null,"custom",{"$f":"'Custom Emission Factors'!B39","v":"custom stationary EF20"},{"$f":"'Custom Emission Factors'!C39","v":0},{"$f":"'Custom Emission Factors'!D39","v":0},{"$f":"'Custom Emission Factors'!E39","v":0},{"$f":"'Custom Emission Factors'!F39","v":0},{"$f":"'Custom Emission Factors'!G39","v":0},{"$f":"'Custom Emission Factors'!H39","v":0},{"$f":"'Custom Emission Factors'!I39","v":0},{"$f":"'Custom Emission Factors'!J39","v":0},{"$f":"'Custom Emission Factors'!K39","v":0},{"$f":"'Custom Emission Factors'!L39","v":0},{"$f":"'Custom Emission Factors'!M39","v":0},{"$f":"'Custom Emission Factors'!N39","v":0},{"$f":"'Custom Emission Factors'!O39","v":0},{"$f":"'Custom Emission Factors'!P39","v":0},{"$f":"'Custom Emission Factors'!Q39","v":0},{"$f":"'Custom Emission Factors'!R39","v":0},null,{"$f":"'Custom Emission Factors'!T39","v":0},{"$f":"IF('Custom Emission Factors'!V39<>0, 'Custom Emission Factors'!V39,\"\")","v":""}]
[null,"other"]
[null,"other"]
[null,"other"]
[null,"other"]
[null,"other"]
[null,"other"]
[null,"other"]
[null,"other"]
[null,"other"]
[null,"other"]
[null,"other"]
[null,"other"]
[null,"other"]
[null,"other"]
[null,"other"]
[null,"other"]
[null,"other"]
[null,"other"]
[null,"other"]
[null,"other"]
[null,"other"]
[null,"other"]
[null,"other"]
[null,"other"]
[null,"other"]
[null,"other"]
[null,"other"]
[null,"other"]
[null,"other"]
[null,"other"]
[null,"other"]
[null,"other"]
[null,"other"]
[null,"other"]
[null,"other"]
[null,"other"]
[null,"other"]
[null,"other"]
[null,"other"]
[null,"other"]
[null,"other"]
[null,"other"]
[null,"other"]
[null,"other"]
[null,"other"]
[null,"other"]
[null,"other"]
[null,"other"]
[null,"other"]
[null,"other"]
[null,"other"]
[null,"other"]
[null,"other"]
[null,"other"]
[null,"other"]
[null,"other"]
[null,"other"]
[null,"other"]
[null,"other"]
[null,"other"]
[null,"other"]
[null,"other"]
[null,"other"]
[null,"other"]
[null,"other"]
[null,"other"]
[null,"other"]
[null,"other"]
[null,"other"]
[null,"other"]
[null,"other"]
[null,"other"]
[null,"other"]
[null,"other"]
[null,"other"]
[null,"other"]
[null,"other"]
[null,"other"]
[null,"other"]
[null,"other"]
[null,"other"]
[null,"other"]
[null,"other"]
[null,"other"]
[null,"other"]
[null,"other"]
[null,"other"]
[null,"other"]
[null,"other"]
[null,"other"]
[null,"other"]
[null,"other"]
[null,"other"]
[null,"other"]
[null,"other"]
[null,"other"]
[null,"other"]
[null,"other"]
[null,"other"]
[null,"other"]
[null,"other"]
[null,"other"]
[null,"other"]
[null,"other"]
[null,"other"]
[null,"other"]
[null,"other"]
[null,"other"]
[null,"other"]
[null,"other"]
[null,"other"]
[null,"other"]
[null,"other"]
[null,"other"]
[null,"other"]
[null,"other"]
[null,"other"]
[null,"other"]
[null,"other"]
[null,"other"]
[null,"other"]
[null,"other"]
[null,"other"]
[null,"other"]
[null,"other"]
[null,"other"]
[null,"other"]
[null,"other"]
[null,"other"]
[null,"other"]
[null,"other"]
[null,"other"]
[null,"other"]
[null,"other"]
[null,"other"]
[null,"other"]
[null,"other"]
[null,"other"]
[null,"other"]
[null,"other"]
[null,"other"]
[null,"other"]
[null,"other"]
[null,"other"]
[null,"other"]
[null,"other"]
[null,"other"]
[null,"other"]
[null,"other"]
[null,"other"]
[null,"other"]
[null,"other"]
[null,"other"]
[null,"other"]
[null,"other"]
[null,"other"]
[null,"other"]
[null,"other"]
[null,"other"]
[null,"other"]
[null,"other"]
[null,"other"]
[null,"other"]
[null,"other"]
[null,"other"]
[null,"other"]
[null,"other"]
[null,"other"]
[null,"other"]
[null,"other"]
[null,"other"]
[null,"other"]
[null,"other"]
[null,"other"]
[null,"other"]
[null,"other"]
[null,"other"]
[null,"other"]
[null,"other"]
[null,"other"]
[null,"other"]
[null,"other"]
[null,"other"]
[null,"other"]
[null,"other"]
[null,"other"]
[null,"other"]
[null,"other"]
[null,"other"]
[null,"other"]
[null,"other"]
[null,"other"]
[null,"other"]
[null,"other"]
[null,"other"]
[null,"other"]
[null,"other"]
[null,"other"]
[null,"other"]
[null,"other"]
[null,"other"]
[null,"other"]
[null,"other"]
[null,"other"]
[null,"other"]
[null,"other"]
[null,"other"]
[null,"other"]
[null,"other"]
[null,"other"]
[null,"other"]
[null,"other"]
[null,"other"]
[null,"other"]
[null,"other"]
[null,"other"]
[null,"other"]
[null,"other"]
[null,"other"]
[null,"other"]
[null,"other"]
[null,"other"]
[null,"other"]
[null,"other"]
[null,"other"]
[null,"other"]
[null,"other"]
[null,"other"]
[null,"other"]
[null,"other"]
[null,"other"]
[null,"other"]
[null,"other"]
[null,"other"]
[null,"other"]
[null,"other"]
[null,"other"]
[null,"other"]
[null,"other"]
[null,"other"]
[null,"other"]
[null,"other"]
[null,"other"]
[null,"other"]
[null,"other"]
[null,"other"]
[null,"other"]
[null,"other"]
[null,"other"]
[null,"other"]
[null,"other"]
[null,"other"]
[null,"other"]
[null,"other"]
[null,"other"]
[null,"other"]
[null,"other"]
[null,"other"]
[null,"other"]
[null,"other"]
[null,"other"]
[null,"other"]
[null,"other"]
[null,"other"]
[null,"other"]
[null,"other"]
[null,"other"]
[null,"other"]
[null,"other"]
[null,"other"]
[null,"other"]
[null,"other"]
[null,"other"]
[null,"other"]
[null,"other"]
[null,"other"]
[null,"other"]
[null,"other"]
[null,"other"]
[null,"other"]
[null,"other"]
[null,"other"]
[null,"other"]
[null,"other"]
[null,"other"]
[null,"other"]
[null,"other"]
[null,"other"]
[null,"other"]
[null,"other"]
[null,"other"]
[null,"other"]
[null,"other"]
[null,"other"]
[null,"other"]
[null,"other"]
[null,"other"]
[null,"other"]
[null,"other"]
[null,"other"]
[null,"other"]
[null,"other"]
[null,"other"]
[null,"other"]
[null,"other"]
[null,"other"]
[null,"other"]
[null,"other"]
[null,"other"]
[null,"other"]
[null,"other"]
[null,"other"]
[null,"other"]
[null,"other"]
[null,"other"]
[null,"other"]
[null,"other"]
[null,"other"]
[null,"other"]
[null,"other"]
[null,"other"]
[null,"other"]
[null,"other"]
[null,"other"]
[null,"other"]
[null,"other"]
[null,"other"]
[null,"other"]
[null,"other"]
[null,"other"]
[null,"other"]
[null,"other"]
[null,"other"]
[null,"other"]
[null,"other"]
[null,"other"]
[null,"other"]
[null,"other"]
[null,"other"]
[null,"other"]
[null,"other"]
[null,"other"]
[null,"other"]
[null,"other"]
[null,"other"]
[null,"other"]
[null,"other"]
[null,"other"]
[null,"other"]
[null,"other"]
[null,"other"]
[null,"other"]
[null,"other"]
[null,"other"]
[null,"other"]
[null,"other"]
[null,"other"]
[null,"other"]
[null,"other"]
[null,"other"]
[null,"other"]
[null,"other"]
[null,"other"]
[null,"other"]
[null,"other"]
[null,"other"]
[null,"other"]
[null,"other"]
[null,"other"]
[null,"other"]
[null,"other"]
[null,"other"]
[null,"other"]
[null,"other"]
[null,"other"]
[null,"other"]
[null,"other"]
[null,"other"]
[null,"other"]
[null,"other"]
[null,"other"]
[null,"other"]
[null,"other"]
[null,"other"]
[null,"other"]
[null,"other"]
[null,"other"]
[null,"other"]
[null,"other"]
[null,"other"]
[null,"other"]
[null,"other"]
[null,"other"]
[null,"other"]
[null,"other"]
[null,"other"]
[null,"other"]
[null,"other"]
[null,"other"]
[null,"other"]
[null,"other"]
[null,"other"]
[null,"other"]
[null,"other"]
[null,"other"]
[null,"other"]
[null,"other"]
[null,"other"]
[null,"other"]
[null,"other"]
[null,"other"]
[null,"other"]
[null,"other"]
[null,"other"]
[null,"other"]
[null,"other"]
[null,"other"]
[null,"other"]
[null,"other"]
[null,"other"]
[null,"other"]

{"sheet":"Mobile Emission Factors","index":17,"n_rows":534,"n_cols":37,"rows_kept":534,"cut":false,"hidden":false,"merged":[]}
[null,1,2,3,4,5,6,7,8,9,10,11,12,13,14,15,16,17,18,19,20,21,22,23,24,25,26,27,28,29,30,31,32,33,34,35]
[null,null,null,"CO2 (kg)","CO2 (kg)","CO2 (kg)","CO2 (kg)","CO2 (kg)","CO2 (kg)","CO2 (kg)","CO2 (kg)","CO2 (kg)","CO2 (kg)","CO2 (kg)","CH4 (kg)","CH4 (kg)","CH4 (kg)","CH4 (kg)","CH4 (kg)","CH4 (kg)","CH4 (kg)","CH4 (kg)","CH4 (kg)","CH4 (kg)","CH4 (kg)","N2O(kg)","N2O(kg)","N2O(kg)","N2O(kg)","N2O(kg)","N2O(kg)","N2O(kg)","N2O(kg)","N2O(kg)","N2O(kg)","N2O(kg)"]
[null,"type","source","US Gallon","Standard Cubic Foot","mile","short ton mile","passenger mile","litre","m3","kilometer","tonne kilometer","passenger kilometer",{"$f":"'Custom Emission Factors'!M45","v":"custom unit"},"US Gallon","Standard Cubic Foot","mile","short ton mile","passenger mile","litre","m3","kilometer","tonne kilometer","passenger kilometer",{"$f":"'Custom Emission Factors'!X45","v":"custom unit"},{"$f":"O3","v":"US Gallon"},"Standard Cubic Foot","mile","short ton mile","passenger mile","litre","m3","kilometer","tonne kilometer","passenger kilometer",{"$f":"'Custom Emission Factors'!AI45","v":"custom unit"},"Reference"]
[null,"agriculture","Agricultural Equipment - Gasoline (UK)",null,null,null,null,null,null,null,null,null,null,null,1.2600000000000001E-3,null,null,null,null,{"$f":"O4/USGallonsTOlitres","v":3.328569428410661E-4},null,null,null,null,null,2.2000000000000001E-4,null,null,null,null,{"$f":"Z4/USGallonsTOlitres","v":5.8117878908757574E-5},null,null,null,null,null,"WRI (2014) http://www.ghgprotocol.org/calculation-tools/all-tools"]
[null,"agriculture","Agricultural Equipment - Diesel Fuel (UK)",null,null,null,null,null,null,null,null,null,null,null,1.4399999999999999E-3,null,null,null,null,3.8040793467550407E-4,null,null,null,null,null,2.6000000000000003E-4,null,null,null,null,6.8684765983077133E-5,null,null,null,null,null,"WRI (2014)"]
[null,"agriculture","Agricultural Equipment - Gasoline (US)",null,null,null,null,null,null,null,null,null,null,null,1.2600000000000001E-3,null,null,null,null,3.328569428410661E-4,null,null,null,null,null,2.2000000000000001E-4,null,null,null,null,5.8117878908757574E-5,null,null,null,null,null,"WRI (2014)"]
[null,"agriculture","Agricultural Equipment - Diesel Fuel (US)",null,null,null,null,null,null,null,null,null,null,null,1.4399999999999999E-3,null,null,null,null,3.8040793467550407E-4,null,null,null,null,null,2.6000000000000003E-4,null,null,null,null,6.8684765983077133E-5,null,null,null,null,null,"WRI (2014)"]
[null,"construction ","Construction Equipment - Gasoline (UK)",null,null,null,null,null,null,null,null,null,null,null,5.0000000000000001E-4,null,null,null,null,1.3208608842899447E-4,null,null,null,null,null,2.2000000000000001E-4,null,null,null,null,5.8117878908757574E-5,null,null,null,null,null,"WRI (2014)"]
[null,"construction ","Construction Equipment - Diesel Fuel (UK)",null,null,null,null,null,null,null,null,null,null,null,5.8E-4,null,null,null,null,1.532198625776336E-4,null,null,null,null,null,2.6000000000000003E-4,null,null,null,null,6.8684765983077133E-5,null,null,null,null,null,"WRI (2014)"]
[null,"construction ","Construction Equipment - Gasoline (US)",null,null,null,null,null,null,null,null,null,null,null,5.0000000000000001E-4,null,null,null,null,1.3208608842899447E-4,null,null,null,null,null,2.2000000000000001E-4,null,null,null,null,5.8117878908757574E-5,null,null,null,null,null,"WRI (2014)"]
[null,"construction ","Construction Equipment - Diesel Fuel (US)",null,null,null,null,null,null,null,null,null,null,null,5.8E-4,null,null,null,null,1.532198625776336E-4,null,null,null,null,null,2.6000000000000003E-4,null,null,null,null,6.8684765983077133E-5,null,null,null,null,null,"WRI (2014)"]
[null,"custom",{"$f":"'Custom Emission Factors'!B46","v":"custom mobile EF 1"},{"$f":"'Custom Emission Factors'!C46","v":0},{"$f":"'Custom Emission Factors'!D46","v":0},{"$f":"'Custom Emission Factors'!E46","v":0},{"$f":"'Custom Emission Factors'!F46","v":0},{"$f":"'Custom Emission Factors'!G46","v":0},{"$f":"'Custom Emission Factors'!H46","v":0},{"$f":"'Custom Emission Factors'!I46","v":0},{"$f":"'Custom Emission Factors'!J46","v":0},{"$f":"'Custom Emission Factors'!K46","v":0},{"$f":"'Custom Emission Factors'!L46","v":0},{"$f":"'Custom Emission Factors'!M46","v":0},{"$f":"'Custom Emission Factors'!N46","v":0},{"$f":"'Custom Emission Factors'!O46","v":0},{"$f":"'Custom Emission Factors'!P46","v":0},{"$f":"'Custom Emission Factors'!Q46","v":0},{"$f":"'Custom Emission Factors'!R46","v":0},{"$f":"'Custom Emission Factors'!S46","v":0},{"$f":"'Custom Emission Factors'!T46","v":0},{"$f":"'Custom Emission Factors'!U46","v":0},{"$f":"'Custom Emission Factors'!V46","v":0},{"$f":"'Custom Emission Factors'!W46","v":0},{"$f":"'Custom Emission Factors'!X46","v":0},{"$f":"'Custom Emission Factors'!Y46","v":0},{"$f":"'Custom Emission Factors'!Z46","v":0},{"$f":"'Custom Emission Factors'!AA46","v":0},{"$f":"'Custom Emission Factors'!AB46","v":0},{"$f":"'Custom Emission Factors'!AC46","v":0},{"$f":"'Custom Emission Factors'!AD46","v":0},{"$f":"'Custom Emission Factors'!AE46","v":0},{"$f":"'Custom Emission Factors'!AF46","v":0},{"$f":"'Custom Emission Factors'!AG46","v":0},{"$f":"'Custom Emission Factors'!AH46","v":0},{"$f":"'Custom Emission Factors'!AI46","v":0},"WRI (2014)"]
[null,"custom",{"$f":"'Custom Emission Factors'!B47","v":"custom mobile EF 2"},{"$f":"'Custom Emission Factors'!C47","v":0},{"$f":"'Custom Emission Factors'!D47","v":0},{"$f":"'Custom Emission Factors'!E47","v":0},{"$f":"'Custom Emission Factors'!F47","v":0},{"$f":"'Custom Emission Factors'!G47","v":0},{"$f":"'Custom Emission Factors'!H47","v":0},{"$f":"'Custom Emission Factors'!I47","v":0},{"$f":"'Custom Emission Factors'!J47","v":0},{"$f":"'Custom Emission Factors'!K47","v":0},{"$f":"'Custom Emission Factors'!L47","v":0},{"$f":"'Custom Emission Factors'!M47","v":0},{"$f":"'Custom Emission Factors'!N47","v":0},{"$f":"'Custom Emission Factors'!O47","v":0},{"$f":"'Custom Emission Factors'!P47","v":0},{"$f":"'Custom Emission Factors'!Q47","v":0},{"$f":"'Custom Emission Factors'!R47","v":0},{"$f":"'Custom Emission Factors'!S47","v":0},{"$f":"'Custom Emission Factors'!T47","v":0},{"$f":"'Custom Emission Factors'!U47","v":0},{"$f":"'Custom Emission Factors'!V47","v":0},{"$f":"'Custom Emission Factors'!W47","v":0},{"$f":"'Custom Emission Factors'!X47","v":0},{"$f":"'Custom Emission Factors'!Y47","v":0},{"$f":"'Custom Emission Factors'!Z47","v":0},{"$f":"'Custom Emission Factors'!AA47","v":0},{"$f":"'Custom Emission Factors'!AB47","v":0},{"$f":"'Custom Emission Factors'!AC47","v":0},{"$f":"'Custom Emission Factors'!AD47","v":0},{"$f":"'Custom Emission Factors'!AE47","v":0},{"$f":"'Custom Emission Factors'!AF47","v":0},{"$f":"'Custom Emission Factors'!AG47","v":0},{"$f":"'Custom Emission Factors'!AH47","v":0},{"$f":"'Custom Emission Factors'!AI47","v":0},"WRI (2014)"]
[null,"custom",{"$f":"'Custom Emission Factors'!B48","v":"custom mobile EF 3"},{"$f":"'Custom Emission Factors'!C48","v":0},{"$f":"'Custom Emission Factors'!D48","v":0},{"$f":"'Custom Emission Factors'!E48","v":0},{"$f":"'Custom Emission Factors'!F48","v":0},{"$f":"'Custom Emission Factors'!G48","v":0},{"$f":"'Custom Emission Factors'!H48","v":0},{"$f":"'Custom Emission Factors'!I48","v":0},{"$f":"'Custom Emission Factors'!J48","v":0},{"$f":"'Custom Emission Factors'!K48","v":0},{"$f":"'Custom Emission Factors'!L48","v":0},{"$f":"'Custom Emission Factors'!M48","v":0},{"$f":"'Custom Emission Factors'!N48","v":0},{"$f":"'Custom Emission Factors'!O48","v":0},{"$f":"'Custom Emission Factors'!P48","v":0},{"$f":"'Custom Emission Factors'!Q48","v":0},{"$f":"'Custom Emission Factors'!R48","v":0},{"$f":"'Custom Emission Factors'!S48","v":0},{"$f":"'Custom Emission Factors'!T48","v":0},{"$f":"'Custom Emission Factors'!U48","v":0},{"$f":"'Custom Emission Factors'!V48","v":0},{"$f":"'Custom Emission Factors'!W48","v":0},{"$f":"'Custom Emission Factors'!X48","v":0},{"$f":"'Custom Emission Factors'!Y48","v":0},{"$f":"'Custom Emission Factors'!Z48","v":0},{"$f":"'Custom Emission Factors'!AA48","v":0},{"$f":"'Custom Emission Factors'!AB48","v":0},{"$f":"'Custom Emission Factors'!AC48","v":0},{"$f":"'Custom Emission Factors'!AD48","v":0},{"$f":"'Custom Emission Factors'!AE48","v":0},{"$f":"'Custom Emission Factors'!AF48","v":0},{"$f":"'Custom Emission Factors'!AG48","v":0},{"$f":"'Custom Emission Factors'!AH48","v":0},{"$f":"'Custom Emission Factors'!AI48","v":0},"WRI (2014)"]
[null,"custom",{"$f":"'Custom Emission Factors'!B49","v":"custom mobile EF 4"},{"$f":"'Custom Emission Factors'!C49","v":0},{"$f":"'Custom Emission Factors'!D49","v":0},{"$f":"'Custom Emission Factors'!E49","v":0},{"$f":"'Custom Emission Factors'!F49","v":0},{"$f":"'Custom Emission Factors'!G49","v":0},{"$f":"'Custom Emission Factors'!H49","v":0},{"$f":"'Custom Emission Factors'!I49","v":0},{"$f":"'Custom Emission Factors'!J49","v":0},{"$f":"'Custom Emission Factors'!K49","v":0},{"$f":"'Custom Emission Factors'!L49","v":0},{"$f":"'Custom Emission Factors'!M49","v":0},{"$f":"'Custom Emission Factors'!N49","v":0},{"$f":"'Custom Emission Factors'!O49","v":0},{"$f":"'Custom Emission Factors'!P49","v":0},{"$f":"'Custom Emission Factors'!Q49","v":0},{"$f":"'Custom Emission Factors'!R49","v":0},{"$f":"'Custom Emission Factors'!S49","v":0},{"$f":"'Custom Emission Factors'!T49","v":0},{"$f":"'Custom Emission Factors'!U49","v":0},{"$f":"'Custom Emission Factors'!V49","v":0},{"$f":"'Custom Emission Factors'!W49","v":0},{"$f":"'Custom Emission Factors'!X49","v":0},{"$f":"'Custom Emission Factors'!Y49","v":0},{"$f":"'Custom Emission Factors'!Z49","v":0},{"$f":"'Custom Emission Factors'!AA49","v":0},{"$f":"'Custom Emission Factors'!AB49","v":0},{"$f":"'Custom Emission Factors'!AC49","v":0},{"$f":"'Custom Emission Factors'!AD49","v":0},{"$f":"'Custom Emission Factors'!AE49","v":0},{"$f":"'Custom Emission Factors'!AF49","v":0},{"$f":"'Custom Emission Factors'!AG49","v":0},{"$f":"'Custom Emission Factors'!AH49","v":0},{"$f":"'Custom Emission Factors'!AI49","v":0},"WRI (2014)"]
[null,"custom",{"$f":"'Custom Emission Factors'!B50","v":"custom mobile EF 5"},{"$f":"'Custom Emission Factors'!C50","v":0},{"$f":"'Custom Emission Factors'!D50","v":0},{"$f":"'Custom Emission Factors'!E50","v":0},{"$f":"'Custom Emission Factors'!F50","v":0},{"$f":"'Custom Emission Factors'!G50","v":0},{"$f":"'Custom Emission Factors'!H50","v":0},{"$f":"'Custom Emission Factors'!I50","v":0},{"$f":"'Custom Emission Factors'!J50","v":0},{"$f":"'Custom Emission Factors'!K50","v":0},{"$f":"'Custom Emission Factors'!L50","v":0},{"$f":"'Custom Emission Factors'!M50","v":0},{"$f":"'Custom Emission Factors'!N50","v":0},{"$f":"'Custom Emission Factors'!O50","v":0},{"$f":"'Custom Emission Factors'!P50","v":0},{"$f":"'Custom Emission Factors'!Q50","v":0},{"$f":"'Custom Emission Factors'!R50","v":0},{"$f":"'Custom Emission Factors'!S50","v":0},{"$f":"'Custom Emission Factors'!T50","v":0},{"$f":"'Custom Emission Factors'!U50","v":0},{"$f":"'Custom Emission Factors'!V50","v":0},{"$f":"'Custom Emission Factors'!W50","v":0},{"$f":"'Custom Emission Factors'!X50","v":0},{"$f":"'Custom Emission Factors'!Y50","v":0},{"$f":"'Custom Emission Factors'!Z50","v":0},{"$f":"'Custom Emission Factors'!AA50","v":0},{"$f":"'Custom Emission Factors'!AB50","v":0},{"$f":"'Custom Emission Factors'!AC50","v":0},{"$f":"'Custom Emission Factors'!AD50","v":0},{"$f":"'Custom Emission Factors'!AE50","v":0},{"$f":"'Custom Emission Factors'!AF50","v":0},{"$f":"'Custom Emission Factors'!AG50","v":0},{"$f":"'Custom Emission Factors'!AH50","v":0},{"$f":"'Custom Emission Factors'!AI50","v":0},"WRI (2014)"]
[null,"custom",{"$f":"'Custom Emission Factors'!B51","v":"custom mobile EF 6"},{"$f":"'Custom Emission Factors'!C51","v":0},{"$f":"'Custom Emission Factors'!D51","v":0},{"$f":"'Custom Emission Factors'!E51","v":0},{"$f":"'Custom Emission Factors'!F51","v":0},{"$f":"'Custom Emission Factors'!G51","v":0},{"$f":"'Custom Emission Factors'!H51","v":0},{"$f":"'Custom Emission Factors'!I51","v":0},{"$f":"'Custom Emission Factors'!J51","v":0},{"$f":"'Custom Emission Factors'!K51","v":0},{"$f":"'Custom Emission Factors'!L51","v":0},{"$f":"'Custom Emission Factors'!M51","v":0},{"$f":"'Custom Emission Factors'!N51","v":0},{"$f":"'Custom Emission Factors'!O51","v":0},{"$f":"'Custom Emission Factors'!P51","v":0},{"$f":"'Custom Emission Factors'!Q51","v":0},{"$f":"'Custom Emission Factors'!R51","v":0},{"$f":"'Custom Emission Factors'!S51","v":0},{"$f":"'Custom Emission Factors'!T51","v":0},{"$f":"'Custom Emission Factors'!U51","v":0},{"$f":"'Custom Emission Factors'!V51","v":0},{"$f":"'Custom Emission Factors'!W51","v":0},{"$f":"'Custom Emission Factors'!X51","v":0},{"$f":"'Custom Emission Factors'!Y51","v":0},{"$f":"'Custom Emission Factors'!Z51","v":0},{"$f":"'Custom Emission Factors'!AA51","v":0},{"$f":"'Custom Emission Factors'!AB51","v":0},{"$f":"'Custom Emission Factors'!AC51","v":0},{"$f":"'Custom Emission Factors'!AD51","v":0},{"$f":"'Custom Emission Factors'!AE51","v":0},{"$f":"'Custom Emission Factors'!AF51","v":0},{"$f":"'Custom Emission Factors'!AG51","v":0},{"$f":"'Custom Emission Factors'!AH51","v":0},{"$f":"'Custom Emission Factors'!AI51","v":0},"WRI (2014)"]
[null,"custom",{"$f":"'Custom Emission Factors'!B52","v":"custom mobile EF 7"},{"$f":"'Custom Emission Factors'!C52","v":0},{"$f":"'Custom Emission Factors'!D52","v":0},{"$f":"'Custom Emission Factors'!E52","v":0},{"$f":"'Custom Emission Factors'!F52","v":0},{"$f":"'Custom Emission Factors'!G52","v":0},{"$f":"'Custom Emission Factors'!H52","v":0},{"$f":"'Custom Emission Factors'!I52","v":0},{"$f":"'Custom Emission Factors'!J52","v":0},{"$f":"'Custom Emission Factors'!K52","v":0},{"$f":"'Custom Emission Factors'!L52","v":0},{"$f":"'Custom Emission Factors'!M52","v":0},{"$f":"'Custom Emission Factors'!N52","v":0},{"$f":"'Custom Emission Factors'!O52","v":0},{"$f":"'Custom Emission Factors'!P52","v":0},{"$f":"'Custom Emission Factors'!Q52","v":0},{"$f":"'Custom Emission Factors'!R52","v":0},{"$f":"'Custom Emission Factors'!S52","v":0},{"$f":"'Custom Emission Factors'!T52","v":0},{"$f":"'Custom Emission Factors'!U52","v":0},{"$f":"'Custom Emission Factors'!V52","v":0},{"$f":"'Custom Emission Factors'!W52","v":0},{"$f":"'Custom Emission Factors'!X52","v":0},{"$f":"'Custom Emission Factors'!Y52","v":0},{"$f":"'Custom Emission Factors'!Z52","v":0},{"$f":"'Custom Emission Factors'!AA52","v":0},{"$f":"'Custom Emission Factors'!AB52","v":0},{"$f":"'Custom Emission Factors'!AC52","v":0},{"$f":"'Custom Emission Factors'!AD52","v":0},{"$f":"'Custom Emission Factors'!AE52","v":0},{"$f":"'Custom Emission Factors'!AF52","v":0},{"$f":"'Custom Emission Factors'!AG52","v":0},{"$f":"'Custom Emission Factors'!AH52","v":0},{"$f":"'Custom Emission Factors'!AI52","v":0},"WRI (2014)"]
[null,"custom",{"$f":"'Custom Emission Factors'!B53","v":"custom mobile EF 8"},{"$f":"'Custom Emission Factors'!C53","v":0},{"$f":"'Custom Emission Factors'!D53","v":0},{"$f":"'Custom Emission Factors'!E53","v":0},{"$f":"'Custom Emission Factors'!F53","v":0},{"$f":"'Custom Emission Factors'!G53","v":0},{"$f":"'Custom Emission Factors'!H53","v":0},{"$f":"'Custom Emission Factors'!I53","v":0},{"$f":"'Custom Emission Factors'!J53","v":0},{"$f":"'Custom Emission Factors'!K53","v":0},{"$f":"'Custom Emission Factors'!L53","v":0},{"$f":"'Custom Emission Factors'!M53","v":0},{"$f":"'Custom Emission Factors'!N53","v":0},{"$f":"'Custom Emission Factors'!O53","v":0},{"$f":"'Custom Emission Factors'!P53","v":0},{"$f":"'Custom Emission Factors'!Q53","v":0},{"$f":"'Custom Emission Factors'!R53","v":0},{"$f":"'Custom Emission Factors'!S53","v":0},{"$f":"'Custom Emission Factors'!T53","v":0},{"$f":"'Custom Emission Factors'!U53","v":0},{"$f":"'Custom Emission Factors'!V53","v":0},{"$f":"'Custom Emission Factors'!W53","v":0},{"$f":"'Custom Emission Factors'!X53","v":0},{"$f":"'Custom Emission Factors'!Y53","v":0},{"$f":"'Custom Emission Factors'!Z53","v":0},{"$f":"'Custom Emission Factors'!AA53","v":0},{"$f":"'Custom Emission Factors'!AB53","v":0},{"$f":"'Custom Emission Factors'!AC53","v":0},{"$f":"'Custom Emission Factors'!AD53","v":0},{"$f":"'Custom Emission Factors'!AE53","v":0},{"$f":"'Custom Emission Factors'!AF53","v":0},{"$f":"'Custom Emission Factors'!AG53","v":0},{"$f":"'Custom Emission Factors'!AH53","v":0},{"$f":"'Custom Emission Factors'!AI53","v":0},"WRI (2014)"]
[null,"custom",{"$f":"'Custom Emission Factors'!B54","v":"custom mobile EF 9"},{"$f":"'Custom Emission Factors'!C54","v":0},{"$f":"'Custom Emission Factors'!D54","v":0},{"$f":"'Custom Emission Factors'!E54","v":0},{"$f":"'Custom Emission Factors'!F54","v":0},{"$f":"'Custom Emission Factors'!G54","v":0},{"$f":"'Custom Emission Factors'!H54","v":0},{"$f":"'Custom Emission Factors'!I54","v":0},{"$f":"'Custom Emission Factors'!J54","v":0},{"$f":"'Custom Emission Factors'!K54","v":0},{"$f":"'Custom Emission Factors'!L54","v":0},{"$f":"'Custom Emission Factors'!M54","v":0},{"$f":"'Custom Emission Factors'!N54","v":0},{"$f":"'Custom Emission Factors'!O54","v":0},{"$f":"'Custom Emission Factors'!P54","v":0},{"$f":"'Custom Emission Factors'!Q54","v":0},{"$f":"'Custom Emission Factors'!R54","v":0},{"$f":"'Custom Emission Factors'!S54","v":0},{"$f":"'Custom Emission Factors'!T54","v":0},{"$f":"'Custom Emission Factors'!U54","v":0},{"$f":"'Custom Emission Factors'!V54","v":0},{"$f":"'Custom Emission Factors'!W54","v":0},{"$f":"'Custom Emission Factors'!X54","v":0},{"$f":"'Custom Emission Factors'!Y54","v":0},{"$f":"'Custom Emission Factors'!Z54","v":0},{"$f":"'Custom Emission Factors'!AA54","v":0},{"$f":"'Custom Emission Factors'!AB54","v":0},{"$f":"'Custom Emission Factors'!AC54","v":0},{"$f":"'Custom Emission Factors'!AD54","v":0},{"$f":"'Custom Emission Factors'!AE54","v":0},{"$f":"'Custom Emission Factors'!AF54","v":0},{"$f":"'Custom Emission Factors'!AG54","v":0},{"$f":"'Custom Emission Factors'!AH54","v":0},{"$f":"'Custom Emission Factors'!AI54","v":0},"WRI (2014)"]
[null,"custom",{"$f":"'Custom Emission Factors'!B55","v":"custom mobile EF 10"},{"$f":"'Custom Emission Factors'!C55","v":0},{"$f":"'Custom Emission Factors'!D55","v":0},{"$f":"'Custom Emission Factors'!E55","v":0},{"$f":"'Custom Emission Factors'!F55","v":0},{"$f":"'Custom Emission Factors'!G55","v":0},{"$f":"'Custom Emission Factors'!H55","v":0},{"$f":"'Custom Emission Factors'!I55","v":0},{"$f":"'Custom Emission Factors'!J55","v":0},{"$f":"'Custom Emission Factors'!K55","v":0},{"$f":"'Custom Emission Factors'!L55","v":0},{"$f":"'Custom Emission Factors'!M55","v":0},{"$f":"'Custom Emission Factors'!N55","v":0},{"$f":"'Custom Emission Factors'!O55","v":0},{"$f":"'Custom Emission Factors'!P55","v":0},{"$f":"'Custom Emission Factors'!Q55","v":0},{"$f":"'Custom Emission Factors'!R55","v":0},{"$f":"'Custom Emission Factors'!S55","v":0},{"$f":"'Custom Emission Factors'!T55","v":0},{"$f":"'Custom Emission Factors'!U55","v":0},{"$f":"'Custom Emission Factors'!V55","v":0},{"$f":"'Custom Emission Factors'!W55","v":0},{"$f":"'Custom Emission Factors'!X55","v":0},{"$f":"'Custom Emission Factors'!Y55","v":0},{"$f":"'Custom Emission Factors'!Z55","v":0},{"$f":"'Custom Emission Factors'!AA55","v":0},{"$f":"'Custom Emission Factors'!AB55","v":0},{"$f":"'Custom Emission Factors'!AC55","v":0},{"$f":"'Custom Emission Factors'!AD55","v":0},{"$f":"'Custom Emission Factors'!AE55","v":0},{"$f":"'Custom Emission Factors'!AF55","v":0},{"$f":"'Custom Emission Factors'!AG55","v":0},{"$f":"'Custom Emission Factors'!AH55","v":0},{"$f":"'Custom Emission Factors'!AI55","v":0},"WRI (2014)"]
[null,"custom",{"$f":"'Custom Emission Factors'!B56","v":"custom mobile EF 11"},{"$f":"'Custom Emission Factors'!C56","v":0},{"$f":"'Custom Emission Factors'!D56","v":0},{"$f":"'Custom Emission Factors'!E56","v":0},{"$f":"'Custom Emission Factors'!F56","v":0},{"$f":"'Custom Emission Factors'!G56","v":0},{"$f":"'Custom Emission Factors'!H56","v":0},{"$f":"'Custom Emission Factors'!I56","v":0},{"$f":"'Custom Emission Factors'!J56","v":0},{"$f":"'Custom Emission Factors'!K56","v":0},{"$f":"'Custom Emission Factors'!L56","v":0},{"$f":"'Custom Emission Factors'!M56","v":0},{"$f":"'Custom Emission Factors'!N56","v":0},{"$f":"'Custom Emission Factors'!O56","v":0},{"$f":"'Custom Emission Factors'!P56","v":0},{"$f":"'Custom Emission Factors'!Q56","v":0},{"$f":"'Custom Emission Factors'!R56","v":0},{"$f":"'Custom Emission Factors'!S56","v":0},{"$f":"'Custom Emission Factors'!T56","v":0},{"$f":"'Custom Emission Factors'!U56","v":0},{"$f":"'Custom Emission Factors'!V56","v":0},{"$f":"'Custom Emission Factors'!W56","v":0},{"$f":"'Custom Emission Factors'!X56","v":0},{"$f":"'Custom Emission Factors'!Y56","v":0},{"$f":"'Custom Emission Factors'!Z56","v":0},{"$f":"'Custom Emission Factors'!AA56","v":0},{"$f":"'Custom Emission Factors'!AB56","v":0},{"$f":"'Custom Emission Factors'!AC56","v":0},{"$f":"'Custom Emission Factors'!AD56","v":0},{"$f":"'Custom Emission Factors'!AE56","v":0},{"$f":"'Custom Emission Factors'!AF56","v":0},{"$f":"'Custom Emission Factors'!AG56","v":0},{"$f":"'Custom Emission Factors'!AH56","v":0},{"$f":"'Custom Emission Factors'!AI56","v":0},"WRI (2014)"]
[null,"custom",{"$f":"'Custom Emission Factors'!B57","v":"custom mobile EF 12"},{"$f":"'Custom Emission Factors'!C57","v":0},{"$f":"'Custom Emission Factors'!D57","v":0},{"$f":"'Custom Emission Factors'!E57","v":0},{"$f":"'Custom Emission Factors'!F57","v":0},{"$f":"'Custom Emission Factors'!G57","v":0},{"$f":"'Custom Emission Factors'!H57","v":0},{"$f":"'Custom Emission Factors'!I57","v":0},{"$f":"'Custom Emission Factors'!J57","v":0},{"$f":"'Custom Emission Factors'!K57","v":0},{"$f":"'Custom Emission Factors'!L57","v":0},{"$f":"'Custom Emission Factors'!M57","v":0},{"$f":"'Custom Emission Factors'!N57","v":0},{"$f":"'Custom Emission Factors'!O57","v":0},{"$f":"'Custom Emission Factors'!P57","v":0},{"$f":"'Custom Emission Factors'!Q57","v":0},{"$f":"'Custom Emission Factors'!R57","v":0},{"$f":"'Custom Emission Factors'!S57","v":0},{"$f":"'Custom Emission Factors'!T57","v":0},{"$f":"'Custom Emission Factors'!U57","v":0},{"$f":"'Custom Emission Factors'!V57","v":0},{"$f":"'Custom Emission Factors'!W57","v":0},{"$f":"'Custom Emission Factors'!X57","v":0},{"$f":"'Custom Emission Factors'!Y57","v":0},{"$f":"'Custom Emission Factors'!Z57","v":0},{"$f":"'Custom Emission Factors'!AA57","v":0},{"$f":"'Custom Emission Factors'!AB57","v":0},{"$f":"'Custom Emission Factors'!AC57","v":0},{"$f":"'Custom Emission Factors'!AD57","v":0},{"$f":"'Custom Emission Factors'!AE57","v":0},{"$f":"'Custom Emission Factors'!AF57","v":0},{"$f":"'Custom Emission Factors'!AG57","v":0},{"$f":"'Custom Emission Factors'!AH57","v":0},{"$f":"'Custom Emission Factors'!AI57","v":0},"WRI (2014)"]
[null,"custom",{"$f":"'Custom Emission Factors'!B58","v":"custom mobile EF 13"},{"$f":"'Custom Emission Factors'!C58","v":0},{"$f":"'Custom Emission Factors'!D58","v":0},{"$f":"'Custom Emission Factors'!E58","v":0},{"$f":"'Custom Emission Factors'!F58","v":0},{"$f":"'Custom Emission Factors'!G58","v":0},{"$f":"'Custom Emission Factors'!H58","v":0},{"$f":"'Custom Emission Factors'!I58","v":0},{"$f":"'Custom Emission Factors'!J58","v":0},{"$f":"'Custom Emission Factors'!K58","v":0},{"$f":"'Custom Emission Factors'!L58","v":0},{"$f":"'Custom Emission Factors'!M58","v":0},{"$f":"'Custom Emission Factors'!N58","v":0},{"$f":"'Custom Emission Factors'!O58","v":0},{"$f":"'Custom Emission Factors'!P58","v":0},{"$f":"'Custom Emission Factors'!Q58","v":0},{"$f":"'Custom Emission Factors'!R58","v":0},{"$f":"'Custom Emission Factors'!S58","v":0},{"$f":"'Custom Emission Factors'!T58","v":0},{"$f":"'Custom Emission Factors'!U58","v":0},{"$f":"'Custom Emission Factors'!V58","v":0},{"$f":"'Custom Emission Factors'!W58","v":0},{"$f":"'Custom Emission Factors'!X58","v":0},{"$f":"'Custom Emission Factors'!Y58","v":0},{"$f":"'Custom Emission Factors'!Z58","v":0},{"$f":"'Custom Emission Factors'!AA58","v":0},{"$f":"'Custom Emission Factors'!AB58","v":0},{"$f":"'Custom Emission Factors'!AC58","v":0},{"$f":"'Custom Emission Factors'!AD58","v":0},{"$f":"'Custom Emission Factors'!AE58","v":0},{"$f":"'Custom Emission Factors'!AF58","v":0},{"$f":"'Custom Emission Factors'!AG58","v":0},{"$f":"'Custom Emission Factors'!AH58","v":0},{"$f":"'Custom Emission Factors'!AI58","v":0},"WRI (2014)"]
[null,"custom",{"$f":"'Custom Emission Factors'!B59","v":"custom mobile EF 14"},{"$f":"'Custom Emission Factors'!C59","v":0},{"$f":"'Custom Emission Factors'!D59","v":0},{"$f":"'Custom Emission Factors'!E59","v":0},{"$f":"'Custom Emission Factors'!F59","v":0},{"$f":"'Custom Emission Factors'!G59","v":0},{"$f":"'Custom Emission Factors'!H59","v":0},{"$f":"'Custom Emission Factors'!I59","v":0},{"$f":"'Custom Emission Factors'!J59","v":0},{"$f":"'Custom Emission Factors'!K59","v":0},{"$f":"'Custom Emission Factors'!L59","v":0},{"$f":"'Custom Emission Factors'!M59","v":0},{"$f":"'Custom Emission Factors'!N59","v":0},{"$f":"'Custom Emission Factors'!O59","v":0},{"$f":"'Custom Emission Factors'!P59","v":0},{"$f":"'Custom Emission Factors'!Q59","v":0},{"$f":"'Custom Emission Factors'!R59","v":0},{"$f":"'Custom Emission Factors'!S59","v":0},{"$f":"'Custom Emission Factors'!T59","v":0},{"$f":"'Custom Emission Factors'!U59","v":0},{"$f":"'Custom Emission Factors'!V59","v":0},{"$f":"'Custom Emission Factors'!W59","v":0},{"$f":"'Custom Emission Factors'!X59","v":0},{"$f":"'Custom Emission Factors'!Y59","v":0},{"$f":"'Custom Emission Factors'!Z59","v":0},{"$f":"'Custom Emission Factors'!AA59","v":0},{"$f":"'Custom Emission Factors'!AB59","v":0},{"$f":"'Custom Emission Factors'!AC59","v":0},{"$f":"'Custom Emission Factors'!AD59","v":0},{"$f":"'Custom Emission Factors'!AE59","v":0},{"$f":"'Custom Emission Factors'!AF59","v":0},{"$f":"'Custom Emission Factors'!AG59","v":0},{"$f":"'Custom Emission Factors'!AH59","v":0},{"$f":"'Custom Emission Factors'!AI59","v":0},"WRI (2014)"]
[null,"custom",{"$f":"'Custom Emission Factors'!B60","v":"custom mobile EF 15"},{"$f":"'Custom Emission Factors'!C60","v":0},{"$f":"'Custom Emission Factors'!D60","v":0},{"$f":"'Custom Emission Factors'!E60","v":0},{"$f":"'Custom Emission Factors'!F60","v":0},{"$f":"'Custom Emission Factors'!G60","v":0},{"$f":"'Custom Emission Factors'!H60","v":0},{"$f":"'Custom Emission Factors'!I60","v":0},{"$f":"'Custom Emission Factors'!J60","v":0},{"$f":"'Custom Emission Factors'!K60","v":0},{"$f":"'Custom Emission Factors'!L60","v":0},{"$f":"'Custom Emission Factors'!M60","v":0},{"$f":"'Custom Emission Factors'!N60","v":0},{"$f":"'Custom Emission Factors'!O60","v":0},{"$f":"'Custom Emission Factors'!P60","v":0},{"$f":"'Custom Emission Factors'!Q60","v":0},{"$f":"'Custom Emission Factors'!R60","v":0},{"$f":"'Custom Emission Factors'!S60","v":0},{"$f":"'Custom Emission Factors'!T60","v":0},{"$f":"'Custom Emission Factors'!U60","v":0},{"$f":"'Custom Emission Factors'!V60","v":0},{"$f":"'Custom Emission Factors'!W60","v":0},{"$f":"'Custom Emission Factors'!X60","v":0},{"$f":"'Custom Emission Factors'!Y60","v":0},{"$f":"'Custom Emission Factors'!Z60","v":0},{"$f":"'Custom Emission Factors'!AA60","v":0},{"$f":"'Custom Emission Factors'!AB60","v":0},{"$f":"'Custom Emission Factors'!AC60","v":0},{"$f":"'Custom Emission Factors'!AD60","v":0},{"$f":"'Custom Emission Factors'!AE60","v":0},{"$f":"'Custom Emission Factors'!AF60","v":0},{"$f":"'Custom Emission Factors'!AG60","v":0},{"$f":"'Custom Emission Factors'!AH60","v":0},{"$f":"'Custom Emission Factors'!AI60","v":0},"WRI (2014)"]
[null,"custom",{"$f":"'Custom Emission Factors'!B61","v":"custom mobile EF 16"},{"$f":"'Custom Emission Factors'!C61","v":0},{"$f":"'Custom Emission Factors'!D61","v":0},{"$f":"'Custom Emission Factors'!E61","v":0},{"$f":"'Custom Emission Factors'!F61","v":0},{"$f":"'Custom Emission Factors'!G61","v":0},{"$f":"'Custom Emission Factors'!H61","v":0},{"$f":"'Custom Emission Factors'!I61","v":0},{"$f":"'Custom Emission Factors'!J61","v":0},{"$f":"'Custom Emission Factors'!K61","v":0},{"$f":"'Custom Emission Factors'!L61","v":0},{"$f":"'Custom Emission Factors'!M61","v":0},{"$f":"'Custom Emission Factors'!N61","v":0},{"$f":"'Custom Emission Factors'!O61","v":0},{"$f":"'Custom Emission Factors'!P61","v":0},{"$f":"'Custom Emission Factors'!Q61","v":0},{"$f":"'Custom Emission Factors'!R61","v":0},{"$f":"'Custom Emission Factors'!S61","v":0},{"$f":"'Custom Emission Factors'!T61","v":0},{"$f":"'Custom Emission Factors'!U61","v":0},{"$f":"'Custom Emission Factors'!V61","v":0},{"$f":"'Custom Emission Factors'!W61","v":0},{"$f":"'Custom Emission Factors'!X61","v":0},{"$f":"'Custom Emission Factors'!Y61","v":0},{"$f":"'Custom Emission Factors'!Z61","v":0},{"$f":"'Custom Emission Factors'!AA61","v":0},{"$f":"'Custom Emission Factors'!AB61","v":0},{"$f":"'Custom Emission Factors'!AC61","v":0},{"$f":"'Custom Emission Factors'!AD61","v":0},{"$f":"'Custom Emission Factors'!AE61","v":0},{"$f":"'Custom Emission Factors'!AF61","v":0},{"$f":"'Custom Emission Factors'!AG61","v":0},{"$f":"'Custom Emission Factors'!AH61","v":0},{"$f":"'Custom Emission Factors'!AI61","v":0},"WRI (2014)"]
[null,"custom",{"$f":"'Custom Emission Factors'!B62","v":"custom mobile EF 17"},{"$f":"'Custom Emission Factors'!C62","v":0},{"$f":"'Custom Emission Factors'!D62","v":0},{"$f":"'Custom Emission Factors'!E62","v":0},{"$f":"'Custom Emission Factors'!F62","v":0},{"$f":"'Custom Emission Factors'!G62","v":0},{"$f":"'Custom Emission Factors'!H62","v":0},{"$f":"'Custom Emission Factors'!I62","v":0},{"$f":"'Custom Emission Factors'!J62","v":0},{"$f":"'Custom Emission Factors'!K62","v":0},{"$f":"'Custom Emission Factors'!L62","v":0},{"$f":"'Custom Emission Factors'!M62","v":0},{"$f":"'Custom Emission Factors'!N62","v":0},{"$f":"'Custom Emission Factors'!O62","v":0},{"$f":"'Custom Emission Factors'!P62","v":0},{"$f":"'Custom Emission Factors'!Q62","v":0},{"$f":"'Custom Emission Factors'!R62","v":0},{"$f":"'Custom Emission Factors'!S62","v":0},{"$f":"'Custom Emission Factors'!T62","v":0},{"$f":"'Custom Emission Factors'!U62","v":0},{"$f":"'Custom Emission Factors'!V62","v":0},{"$f":"'Custom Emission Factors'!W62","v":0},{"$f":"'Custom Emission Factors'!X62","v":0},{"$f":"'Custom Emission Factors'!Y62","v":0},{"$f":"'Custom Emission Factors'!Z62","v":0},{"$f":"'Custom Emission Factors'!AA62","v":0},{"$f":"'Custom Emission Factors'!AB62","v":0},{"$f":"'Custom Emission Factors'!AC62","v":0},{"$f":"'Custom Emission Factors'!AD62","v":0},{"$f":"'Custom Emission Factors'!AE62","v":0},{"$f":"'Custom Emission Factors'!AF62","v":0},{"$f":"'Custom Emission Factors'!AG62","v":0},{"$f":"'Custom Emission Factors'!AH62","v":0},{"$f":"'Custom Emission Factors'!AI62","v":0},"WRI (2014)"]
[null,"custom",{"$f":"'Custom Emission Factors'!B63","v":"custom mobile EF 18"},{"$f":"'Custom Emission Factors'!C63","v":0},{"$f":"'Custom Emission Factors'!D63","v":0},{"$f":"'Custom Emission Factors'!E63","v":0},{"$f":"'Custom Emission Factors'!F63","v":0},{"$f":"'Custom Emission Factors'!G63","v":0},{"$f":"'Custom Emission Factors'!H63","v":0},{"$f":"'Custom Emission Factors'!I63","v":0},{"$f":"'Custom Emission Factors'!J63","v":0},{"$f":"'Custom Emission Factors'!K63","v":0},{"$f":"'Custom Emission Factors'!L63","v":0},{"$f":"'Custom Emission Factors'!M63","v":0},{"$f":"'Custom Emission Factors'!N63","v":0},{"$f":"'Custom Emission Factors'!O63","v":0},{"$f":"'Custom Emission Factors'!P63","v":0},{"$f":"'Custom Emission Factors'!Q63","v":0},{"$f":"'Custom Emission Factors'!R63","v":0},{"$f":"'Custom Emission Factors'!S63","v":0},{"$f":"'Custom Emission Factors'!T63","v":0},{"$f":"'Custom Emission Factors'!U63","v":0},{"$f":"'Custom Emission Factors'!V63","v":0},{"$f":"'Custom Emission Factors'!W63","v":0},{"$f":"'Custom Emission Factors'!X63","v":0},{"$f":"'Custom Emission Factors'!Y63","v":0},{"$f":"'Custom Emission Factors'!Z63","v":0},{"$f":"'Custom Emission Factors'!AA63","v":0},{"$f":"'Custom Emission Factors'!AB63","v":0},{"$f":"'Custom Emission Factors'!AC63","v":0},{"$f":"'Custom Emission Factors'!AD63","v":0},{"$f":"'Custom Emission Factors'!AE63","v":0},{"$f":"'Custom Emission Factors'!AF63","v":0},{"$f":"'Custom Emission Factors'!AG63","v":0},{"$f":"'Custom Emission Factors'!AH63","v":0},{"$f":"'Custom Emission Factors'!AI63","v":0},"WRI (2014)"]
[null,"custom",{"$f":"'Custom Emission Factors'!B64","v":"custom mobile EF 19"},{"$f":"'Custom Emission Factors'!C64","v":0},{"$f":"'Custom Emission Factors'!D64","v":0},{"$f":"'Custom Emission Factors'!E64","v":0},{"$f":"'Custom Emission Factors'!F64","v":0},{"$f":"'Custom Emission Factors'!G64","v":0},{"$f":"'Custom Emission Factors'!H64","v":0},{"$f":"'Custom Emission Factors'!I64","v":0},{"$f":"'Custom Emission Factors'!J64","v":0},{"$f":"'Custom Emission Factors'!K64","v":0},{"$f":"'Custom Emission Factors'!L64","v":0},{"$f":"'Custom Emission Factors'!M64","v":0},{"$f":"'Custom Emission Factors'!N64","v":0},{"$f":"'Custom Emission Factors'!O64","v":0},{"$f":"'Custom Emission Factors'!P64","v":0},{"$f":"'Custom Emission Factors'!Q64","v":0},{"$f":"'Custom Emission Factors'!R64","v":0},{"$f":"'Custom Emission Factors'!S64","v":0},{"$f":"'Custom Emission Factors'!T64","v":0},{"$f":"'Custom Emission Factors'!U64","v":0},{"$f":"'Custom Emission Factors'!V64","v":0},{"$f":"'Custom Emission Factors'!W64","v":0},{"$f":"'Custom Emission Factors'!X64","v":0},{"$f":"'Custom Emission Factors'!Y64","v":0},{"$f":"'Custom Emission Factors'!Z64","v":0},{"$f":"'Custom Emission Factors'!AA64","v":0},{"$f":"'Custom Emission Factors'!AB64","v":0},{"$f":"'Custom Emission Factors'!AC64","v":0},{"$f":"'Custom Emission Factors'!AD64","v":0},{"$f":"'Custom Emission Factors'!AE64","v":0},{"$f":"'Custom Emission Factors'!AF64","v":0},{"$f":"'Custom Emission Factors'!AG64","v":0},{"$f":"'Custom Emission Factors'!AH64","v":0},{"$f":"'Custom Emission Factors'!AI64","v":0},"WRI (2014)"]
[null,"custom",{"$f":"'Custom Emission Factors'!B65","v":"custom mobile EF 20"},{"$f":"'Custom Emission Factors'!C65","v":0},{"$f":"'Custom Emission Factors'!D65","v":0},{"$f":"'Custom Emission Factors'!E65","v":0},{"$f":"'Custom Emission Factors'!F65","v":0},{"$f":"'Custom Emission Factors'!G65","v":0},{"$f":"'Custom Emission Factors'!H65","v":0},{"$f":"'Custom Emission Factors'!I65","v":0},{"$f":"'Custom Emission Factors'!J65","v":0},{"$f":"'Custom Emission Factors'!K65","v":0},{"$f":"'Custom Emission Factors'!L65","v":0},{"$f":"'Custom Emission Factors'!M65","v":0},{"$f":"'Custom Emission Factors'!N65","v":0},{"$f":"'Custom Emission Factors'!O65","v":0},{"$f":"'Custom Emission Factors'!P65","v":0},{"$f":"'Custom Emission Factors'!Q65","v":0},{"$f":"'Custom Emission Factors'!R65","v":0},{"$f":"'Custom Emission Factors'!S65","v":0},{"$f":"'Custom Emission Factors'!T65","v":0},{"$f":"'Custom Emission Factors'!U65","v":0},{"$f":"'Custom Emission Factors'!V65","v":0},{"$f":"'Custom Emission Factors'!W65","v":0},{"$f":"'Custom Emission Factors'!X65","v":0},{"$f":"'Custom Emission Factors'!Y65","v":0},{"$f":"'Custom Emission Factors'!Z65","v":0},{"$f":"'Custom Emission Factors'!AA65","v":0},{"$f":"'Custom Emission Factors'!AB65","v":0},{"$f":"'Custom Emission Factors'!AC65","v":0},{"$f":"'Custom Emission Factors'!AD65","v":0},{"$f":"'Custom Emission Factors'!AE65","v":0},{"$f":"'Custom Emission Factors'!AF65","v":0},{"$f":"'Custom Emission Factors'!AG65","v":0},{"$f":"'Custom Emission Factors'!AH65","v":0},{"$f":"'Custom Emission Factors'!AI65","v":0},"WRI (2014)"]
[null,"freight","Air - Domestic (Other)",null,null,null,"",null,null,null,null,1.9607300000000001,null,null,null,null,null,null,null,null,null,null,null,null,null,null,null,null,null,null,null,null,null,null,null,null,"WRI (2014)"]
[null,"freight","Air - Short Haul (Other)",null,null,null,"",null,null,null,null,1.4738899999999999,null,null,null,null,null,null,null,null,null,null,null,null,null,null,null,null,null,null,null,null,null,null,null,null,"WRI (2014)"]
[null,"freight","Air - Long Haul (Other)",null,null,null,"",null,null,null,null,0.61324000000000001,null,null,null,null,null,null,null,null,null,null,null,null,null,null,null,null,null,null,null,null,null,null,null,null,"WRI (2014)"]
[null,"freight","Rail (Other)",null,null,null,2.52E-2,null,null,null,null,"",null,null,null,null,null,null,null,null,null,null,null,null,null,null,null,null,null,null,null,null,null,null,null,null,"WRI (2014)"]
[null,"freight","Road Vehicle - HGV - Rigid - Engine Size 3.5 - 7.5 tonnes (Other)",null,null,null,0.29699999999999999,null,null,null,null,"",null,null,null,null,null,null,null,null,null,null,null,null,null,null,null,null,null,null,null,null,null,null,null,null,"WRI (2014)"]
[null,"freight","Road Vehicle - HGV - Rigid - Engine Size 7.5 - 17 tonnes (Other)",null,null,null,0.29699999999999999,null,null,null,null,"",null,null,null,null,null,null,null,null,null,null,null,null,null,null,null,null,null,null,null,null,null,null,null,null,"WRI (2014)"]
[null,"freight","Road Vehicle - HGV - Rigid - Engine Size >17 tonnes (Other)",null,null,null,0.29699999999999999,null,null,null,null,"",null,null,null,null,null,null,null,null,null,null,null,null,null,null,null,null,null,null,null,null,null,null,null,null,"WRI (2014)"]
[null,"freight","Road Vehicle - HGV - Rigid - Engine Size Unknown (Other)",null,null,null,0.29699999999999999,null,null,null,null,"",null,null,null,null,null,null,null,null,null,null,null,null,null,null,null,null,null,null,null,null,null,null,null,null,"WRI (2014)"]
[null,"freight","Road Vehicle - HGV - Articulated - Engine Size 3.5 - 33 tonnes (Other)",null,null,null,0.29699999999999999,null,null,null,null,"",null,null,null,null,null,null,null,null,null,null,null,null,null,null,null,null,null,null,null,null,null,null,null,null,"WRI (2014)"]
[null,"freight","Road Vehicle - HGV - Articulated - Engine Size >33 tonnes (Other)",null,null,null,0.29699999999999999,null,null,null,null,"",null,null,null,null,null,null,null,null,null,null,null,null,null,null,null,null,null,null,null,null,null,null,null,null,"WRI (2014)"]
[null,"freight","Road Vehicle - HGV - Articulated - Engine Size Unknown (Other)",null,null,null,0.29699999999999999,null,null,null,null,"",null,null,null,null,null,null,null,null,null,null,null,null,null,null,null,null,null,null,null,null,null,null,null,null,"WRI (2014)"]
[null,"freight","Road Vehicle - HGV - Type Unknown (Other)",null,null,null,0.29699999999999999,null,null,null,null,"",null,null,null,null,null,null,null,null,null,null,null,null,null,null,null,null,null,null,null,null,null,null,null,null,"WRI (2014)"]
[null,"freight","Road Vehicle - Light Goods Vehicle - Petro - Engine Size ≤1.25 tonnes (Other)",null,null,null,0.29699999999999999,null,null,null,null,"",null,null,null,null,null,null,null,null,null,null,null,null,null,null,null,null,null,null,null,null,null,null,null,null,"WRI (2014)"]
[null,"freight","Road Vehicle - Light Goods Vehicle - Diesel - Engine Size ≤3.5 tonnes (Other)",null,null,null,0.29699999999999999,null,null,null,null,"",null,null,null,null,null,null,null,null,null,null,null,null,null,null,null,null,null,null,null,null,null,null,null,null,"WRI (2014)"]
[null,"freight","Road Vehicle - Light Goods Vehicle - LPG or CNG - Engine Size ≤3.5 tonnes (Other)",null,null,null,0.29699999999999999,null,null,null,null,"",null,null,null,null,null,null,null,null,null,null,null,null,null,null,null,null,null,null,null,null,null,null,null,null,"WRI (2014)"]
[null,"freight","Road Vehicle - Light Goods Vehicle - Fuel Unknown (Other)",null,null,null,0.29699999999999999,null,null,null,null,"",null,null,null,null,null,null,null,null,null,null,null,null,null,null,null,null,null,null,null,null,null,null,null,null,"WRI (2014)"]
[null,"freight","Watercraft - Large RoPax Ferry (Other)",null,null,null,"",null,null,null,null,4.8000000000000001E-2,null,null,null,null,null,null,null,null,null,null,null,null,null,null,null,null,null,null,null,null,null,null,null,null,"WRI (2014)"]
[null,"freight","Watercraft - Shipping - Small Tanker (844 tonnes deadweight) (Other)",null,null,null,4.8000000000000001E-2,null,null,null,null,"",null,null,null,null,null,null,null,null,null,null,null,null,null,null,null,null,null,null,null,null,null,null,null,null,"WRI (2014)"]
[null,"freight","Watercraft - Shipping - Large Tanker (18371 tonnes deadweight) (Other)",null,null,null,4.8000000000000001E-2,null,null,null,null,"",null,null,null,null,null,null,null,null,null,null,null,null,null,null,null,null,null,null,null,null,null,null,null,null,"WRI (2014)"]
[null,"freight","Watercraft - Shipping - Very Large Tanker (100000 tonnes deadweight) (Other)",null,null,null,4.8000000000000001E-2,null,null,null,null,"",null,null,null,null,null,null,null,null,null,null,null,null,null,null,null,null,null,null,null,null,null,null,null,null,"WRI (2014)"]
[null,"freight","Watercraft - Shipping - Small Bulk Carrier (1720 tonnes deadweight) (Other)",null,null,null,4.8000000000000001E-2,null,null,null,null,"",null,null,null,null,null,null,null,null,null,null,null,null,null,null,null,null,null,null,null,null,null,null,null,null,"WRI (2014)"]
[null,"freight","Watercraft - Shipping - Large Bulk Carrier (14201 tonnes deadweight) (Other)",null,null,null,4.8000000000000001E-2,null,null,null,null,"",null,null,null,null,null,null,null,null,null,null,null,null,null,null,null,null,null,null,null,null,null,null,null,null,"WRI (2014)"]
[null,"freight","Watercraft - Shipping - Very Large Bulk Carrier (70000 tonnes deadweight) (Other)",null,null,null,4.8000000000000001E-2,null,null,null,null,"",null,null,null,null,null,null,null,null,null,null,null,null,null,null,null,null,null,null,null,null,null,null,null,null,"WRI (2014)"]
[null,"freight","Watercraft - Shipping - Small Container Vessel (2500 tonnes deadweight) (UK)",null,null,null,4.8000000000000001E-2,null,null,null,null,"",null,null,null,null,null,null,null,null,null,null,null,null,null,null,null,null,null,null,null,null,null,null,null,null,"WRI (2014)"]
[null,"freight","Watercraft - Shipping - Large Container Vessel (20000 tonnes deadweight) (UK)",null,null,null,4.8000000000000001E-2,null,null,null,null,"",null,null,null,null,null,null,null,null,null,null,null,null,null,null,null,null,null,null,null,null,null,null,null,null,"WRI (2014)"]
[null,"freight","Air - Domestic (UK)",null,null,null,"",null,null,null,null,1.9607300000000001,null,null,null,null,null,null,null,null,null,null,null,null,null,null,null,null,null,null,null,null,null,null,null,null,"WRI (2014)"]
[null,"freight","Air - Short Haul (UK)",null,null,null,"",null,null,null,null,1.4738899999999999,null,null,null,null,null,null,null,null,null,null,null,null,null,null,null,null,null,null,null,null,null,null,null,null,"WRI (2014)"]
[null,"freight","Air - Long Haul (UK)",null,null,null,"",null,null,null,null,0.61324000000000001,null,null,null,null,null,null,null,null,null,null,null,null,null,null,null,null,null,null,null,null,null,null,null,null,"WRI (2014)"]
[null,"freight","Rail (UK)",null,null,null,"",null,null,null,null,2.8500000000000001E-2,null,null,null,null,null,null,null,null,null,null,null,null,null,null,null,null,null,null,null,null,null,null,null,null,"WRI (2014)"]
[null,"freight","Road Vehicle - HGV - Rigid - Engine Size 3.5 - 7.5 tonnes (UK)",null,null,null,"",null,null,null,null,0.65946000000000005,null,null,null,null,null,null,null,null,null,null,null,null,null,null,null,null,null,null,null,null,null,null,null,null,"WRI (2014)"]
[null,"freight","Road Vehicle - HGV - Rigid - Engine Size 7.5 - 17 tonnes (UK)",null,null,null,"",null,null,null,null,0.41243000000000002,null,null,null,null,null,null,null,null,null,null,null,null,null,null,null,null,null,null,null,null,null,null,null,null,"WRI (2014)"]
[null,"freight","Road Vehicle - HGV - Rigid - Engine Size >17 tonnes (UK)",null,null,null,"",null,null,null,null,0.20027,null,null,null,null,null,null,null,null,null,null,null,null,null,null,null,null,null,null,null,null,null,null,null,null,"WRI (2014)"]
[null,"freight","Road Vehicle - HGV - Rigid - Engine Size Unknown (UK)",null,null,null,"",null,null,null,null,0.25114999999999998,null,null,null,null,null,null,null,null,null,null,null,null,null,null,null,null,null,null,null,null,null,null,null,null,"WRI (2014)"]
[null,"freight","Road Vehicle - HGV - Articulated - Engine Size 3.5 - 33 tonnes (UK)",null,null,null,"",null,null,null,null,0.15262000000000001,null,null,null,null,null,null,null,null,null,null,null,null,null,null,null,null,null,null,null,null,null,null,null,null,"WRI (2014)"]
[null,"freight","Road Vehicle - HGV - Articulated - Engine Size >33 tonnes (UK)",null,null,null,"",null,null,null,null,8.6779999999999996E-2,null,null,null,null,null,null,null,null,null,null,null,null,null,null,null,null,null,null,null,null,null,null,null,null,"WRI (2014)"]
[null,"freight","Road Vehicle - HGV - Articulated - Engine Size Unknown (UK)",null,null,null,"",null,null,null,null,8.8690000000000005E-2,null,null,null,null,null,null,null,null,null,null,null,null,null,null,null,null,null,null,null,null,null,null,null,null,"WRI (2014)"]
[null,"freight","Road Vehicle - HGV - Type Unknown (UK)",null,null,null,"",null,null,null,null,0.12427000000000001,null,null,null,null,null,null,null,null,null,null,null,null,null,null,null,null,null,null,null,null,null,null,null,null,"WRI (2014)"]
[null,"freight","Road Vehicle - Light Goods Vehicle - Petrol - Engine Size < 1.305 tonnes (UK)",null,null,null,"",null,null,null,null,1.173514123485599,null,null,null,null,null,null,null,null,null,null,null,null,null,null,null,null,null,null,null,null,null,null,null,null,"WRI (2014)"]
[null,"freight","Road Vehicle - Light Goods Vehicle - Petrol - Engine Size 1.305 - 1.74 tonnes (UK)",null,null,null,"",null,null,null,null,0.82063338590271184,null,null,null,null,null,null,null,null,null,null,null,null,null,null,null,null,null,null,null,null,null,null,null,null,"WRI (2014)"]
[null,"freight","Road Vehicle - Light Goods Vehicle - Petrol - Engine Size 1.74 - 3.5 tonnes (UK)",null,null,null,"",null,null,null,null,0.49600663249155191,null,null,null,null,null,null,null,null,null,null,null,null,null,null,null,null,null,null,null,null,null,null,null,null,"WRI (2014)"]
[null,"freight","Road Vehicle - Light Goods Vehicle - Diesel - Engine Size < 1.305 tonnes (UK)",null,null,null,"",null,null,null,null,0.94952000000000003,null,null,null,null,null,null,null,null,null,null,null,null,null,null,null,null,null,null,null,null,null,null,null,null,"WRI (2014)"]
[null,"freight","Road Vehicle - Light Goods Vehicle - Diesel - Engine Size 1.305 - 1.74 tonnes (UK)",null,null,null,"",null,null,null,null,0.87385999999999997,null,null,null,null,null,null,null,null,null,null,null,null,null,null,null,null,null,null,null,null,null,null,null,null,"WRI (2014)"]
[null,"freight","Road Vehicle - Light Goods Vehicle - Diesel - Engine Size 1.74 - 3.5 tonnes (UK)",null,null,null,"",null,null,null,null,0.52197000000000005,null,null,null,null,null,null,null,null,null,null,null,null,null,null,null,null,null,null,null,null,null,null,null,null,"WRI (2014)"]
[null,"freight","Road Vehicle - Light Goods Vehicle - LPG or CNG - Engine Size ≤3.5 tonnes (UK)",null,null,null,"",null,null,null,null,0.61741999999999997,null,null,null,null,null,null,null,null,null,null,null,null,null,null,null,null,null,null,null,null,null,null,null,null,"WRI (2014)"]
[null,"freight","Road Vehicle - Light Goods Vehicle - Fuel and Engine Size Unknown (UK)",null,null,null,"",null,null,null,null,0.58650999999999998,null,null,null,null,null,null,null,null,null,null,null,null,null,null,null,null,null,null,null,null,null,null,null,null,"WRI (2014)"]
[null,"freight","Watercraft - Large RoPax Ferry (UK)",null,null,null,"",null,null,null,null,4.9500000000000002E-2,null,null,null,null,null,null,null,null,null,null,null,null,null,null,null,null,null,null,null,null,null,null,null,null,"WRI (2014)"]
[null,"freight","Watercraft - Shipping - Small Tanker (844 tonnes deadweight) (UK)",null,null,null,"",null,null,null,null,3.3300000000000003E-2,null,null,null,null,null,null,null,null,null,null,null,null,null,null,null,null,null,null,null,null,null,null,null,null,"WRI (2014)"]
[null,"freight","Watercraft - Shipping - Large Tanker (18371 tonnes deadweight) (UK)",null,null,null,"",null,null,null,null,9.1000000000000004E-3,null,null,null,null,null,null,null,null,null,null,null,null,null,null,null,null,null,null,null,null,null,null,null,null,"WRI (2014)"]
[null,"freight","Watercraft - Shipping - Very Large Tanker (100000 tonnes deadweight) (UK)",null,null,null,"",null,null,null,null,5.8999999999999999E-3,null,null,null,null,null,null,null,null,null,null,null,null,null,null,null,null,null,null,null,null,null,null,null,null,"WRI (2014)"]
[null,"freight","Watercraft - Shipping - Small Bulk Carrier (1720 tonnes deadweight) (UK)",null,null,null,"",null,null,null,null,2.92E-2,null,null,null,null,null,null,null,null,null,null,null,null,null,null,null,null,null,null,null,null,null,null,null,null,"WRI (2014)"]
[null,"freight","Watercraft - Shipping - Large Bulk Carrier (14201 tonnes deadweight) (UK)",null,null,null,"",null,null,null,null,7.9000000000000008E-3,null,null,null,null,null,null,null,null,null,null,null,null,null,null,null,null,null,null,null,null,null,null,null,null,"WRI (2014)"]
[null,"freight","Watercraft - Shipping - Very Large Bulk Carrier (70000 tonnes deadweight) (UK)",null,null,null,"",null,null,null,null,4.1000000000000003E-3,null,null,null,null,null,null,null,null,null,null,null,null,null,null,null,null,null,null,null,null,null,null,null,null,"WRI (2014)"]
[null,"freight","Watercraft - Shipping - Small Container Vessel (2500 tonnes deadweight) (US)",null,null,null,"",null,null,null,null,0.02,null,null,null,null,null,null,null,null,null,null,null,null,null,null,null,null,null,null,null,null,null,null,null,null,"WRI (2014)"]
[null,"freight","Watercraft - Shipping - Large Container Vessel (20000 tonnes deadweight) (US)",null,null,null,"",null,null,null,null,1.2500000000000001E-2,null,null,null,null,null,null,null,null,null,null,null,null,null,null,null,null,null,null,null,null,null,null,null,null,"WRI (2014)"]
[null,"freight","Air - Domestic (US)",null,null,null,1.5269999999999999,null,null,null,null,"",null,null,null,null,null,null,null,null,null,null,null,null,null,null,null,null,null,null,null,null,null,null,null,null,"WRI (2014)"]
[null,"freight","Air - Short Haul (US)",null,null,null,1.5269999999999999,null,null,null,null,"",null,null,null,null,null,null,null,null,null,null,null,null,null,null,null,null,null,null,null,null,null,null,null,null,"WRI (2014)"]
[null,"freight","Air - Long Haul (US)",null,null,null,1.5269999999999999,null,null,null,null,"",null,null,null,null,null,null,null,null,null,null,null,null,null,null,null,null,null,null,null,null,null,null,null,null,"WRI (2014)"]
[null,"freight","Rail (US)",null,null,null,2.52E-2,null,null,null,null,"",null,null,null,null,null,null,null,null,null,null,null,null,null,null,null,null,null,null,null,null,null,null,null,null,"WRI (2014)"]
[null,"freight","Road Vehicle - HGV - Rigid - Engine Size 3.5 - 7.5 tonnes (US)",null,null,null,0.29699999999999999,null,null,null,null,"",null,null,null,null,null,null,null,null,null,null,null,null,null,null,null,null,null,null,null,null,null,null,null,null,"WRI (2014)"]
[null,"freight","Road Vehicle - HGV - Rigid - Engine Size 7.5 - 17 tonnes (US)",null,null,null,0.29699999999999999,null,null,null,null,"",null,null,null,null,null,null,null,null,null,null,null,null,null,null,null,null,null,null,null,null,null,null,null,null,"WRI (2014)"]
[null,"freight","Road Vehicle - HGV - Rigid - Engine Size >17 tonnes (US)",null,null,null,0.29699999999999999,null,null,null,null,"",null,null,null,null,null,null,null,null,null,null,null,null,null,null,null,null,null,null,null,null,null,null,null,null,"WRI (2014)"]
[null,"freight","Road Vehicle - HGV - Rigid - Engine Size Unknown (US)",null,null,null,0.29699999999999999,null,null,null,null,"",null,null,null,null,null,null,null,null,null,null,null,null,null,null,null,null,null,null,null,null,null,null,null,null,"WRI (2014)"]
[null,"freight","Road Vehicle - HGV - Articulated - Engine Size 3.5 - 33 tonnes (US)",null,null,null,0.29699999999999999,null,null,null,null,"",null,null,null,null,null,null,null,null,null,null,null,null,null,null,null,null,null,null,null,null,null,null,null,null,"WRI (2014)"]
[null,"freight","Road Vehicle - HGV - Articulated - Engine Size >33 tonnes (US)",null,null,null,0.29699999999999999,null,null,null,null,"",null,null,null,null,null,null,null,null,null,null,null,null,null,null,null,null,null,null,null,null,null,null,null,null,"WRI (2014)"]
[null,"freight","Road Vehicle - HGV - Articulated - Engine Size Unknown (US)",null,null,null,0.29699999999999999,null,null,null,null,"",null,null,null,null,null,null,null,null,null,null,null,null,null,null,null,null,null,null,null,null,null,null,null,null,"WRI (2014)"]
[null,"freight","Road Vehicle - HGV - Type Unknown (US)",null,null,null,0.29699999999999999,null,null,null,null,"",null,null,null,null,null,null,null,null,null,null,null,null,null,null,null,null,null,null,null,null,null,null,null,null,"WRI (2014)"]
[null,"freight","Road Vehicle - Light Goods Vehicle - Petro - Engine Size ≤1.25 tonnes (US)",null,null,null,0.29699999999999999,null,null,null,null,"",null,null,null,null,null,null,null,null,null,null,null,null,null,null,null,null,null,null,null,null,null,null,null,null,"WRI (2014)"]
[null,"freight","Road Vehicle - Light Goods Vehicle - Diesel - Engine Size ≤3.5 tonnes (US)",null,null,null,0.29699999999999999,null,null,null,null,"",null,null,null,null,null,null,null,null,null,null,null,null,null,null,null,null,null,null,null,null,null,null,null,null,"WRI (2014)"]
[null,"freight","Road Vehicle - Light Goods Vehicle - LPG or CNG - Engine Size ≤3.5 tonnes (US)",null,null,null,0.29699999999999999,null,null,null,null,"",null,null,null,null,null,null,null,null,null,null,null,null,null,null,null,null,null,null,null,null,null,null,null,null,"WRI (2014)"]
[null,"freight","Road Vehicle - Light Goods Vehicle - Fuel Unknown (US)",null,null,null,0.29699999999999999,null,null,null,null,"",null,null,null,null,null,null,null,null,null,null,null,null,null,null,null,null,null,null,null,null,null,null,null,null,"WRI (2014)"]
[null,"freight","Watercraft - Large RoPax Ferry (US)",null,null,null,4.8000000000000001E-2,null,null,null,null,"",null,null,null,null,null,null,null,null,null,null,null,null,null,null,null,null,null,null,null,null,null,null,null,null,"WRI (2014)"]
[null,"freight","Watercraft - Shipping - Small Tanker (844 tonnes deadweight) (US)",null,null,null,4.8000000000000001E-2,null,null,null,null,"",null,null,null,null,null,null,null,null,null,null,null,null,null,null,null,null,null,null,null,null,null,null,null,null,"WRI (2014)"]
[null,"freight","Watercraft - Shipping - Large Tanker (18371 tonnes deadweight) (US)",null,null,null,4.8000000000000001E-2,null,null,null,null,"",null,null,null,null,null,null,null,null,null,null,null,null,null,null,null,null,null,null,null,null,null,null,null,null,"WRI (2014)"]
[null,"freight","Watercraft - Shipping - Very Large Tanker (100000 tonnes deadweight) (US)",null,null,null,4.8000000000000001E-2,null,null,null,null,"",null,null,null,null,null,null,null,null,null,null,null,null,null,null,null,null,null,null,null,null,null,null,null,null,"WRI (2014)"]
[null,"freight","Watercraft - Shipping - Small Bulk Carrier (1720 tonnes deadweight) (US)",null,null,null,4.8000000000000001E-2,null,null,null,null,"",null,null,null,null,null,null,null,null,null,null,null,null,null,null,null,null,null,null,null,null,null,null,null,null,"WRI (2014)"]
[null,"freight","Watercraft - Shipping - Large Bulk Carrier (14201 tonnes deadweight) (US)",null,null,null,4.8000000000000001E-2,null,null,null,null,"",null,null,null,null,null,null,null,null,null,null,null,null,null,null,null,null,null,null,null,null,null,null,null,null,"WRI (2014)"]
[null,"freight","Watercraft - Shipping - Very Large Bulk Carrier (70000 tonnes deadweight) (US)",null,null,null,4.8000000000000001E-2,null,null,null,null,"",null,null,null,null,null,null,null,null,null,null,null,null,null,null,null,null,null,null,null,null,null,null,null,null,"WRI (2014)"]
[null,"freight","Watercraft - Shipping - Small Container Vessel (2500 tonnes deadweight) ()",null,null,null,4.8000000000000001E-2,null,null,null,null,"",null,null,null,null,null,null,null,null,null,null,null,null,null,null,null,null,null,null,null,null,null,null,null,null,"WRI (2014)"]
[null,"freight","Watercraft - Shipping - Large Container Vessel (20000 tonnes deadweight) ()",null,null,null,4.8000000000000001E-2,null,null,null,null,"",null,null,null,null,null,null,null,null,null,null,null,null,null,null,null,null,null,null,null,null,null,null,null,null,"WRI (2014)"]
[null,"freight","Aircraft (UK)",null,null,null,null,null,null,null,null,null,null,null,null,null,null,4.1700000000000004E-5,null,null,null,null,null,null,null,null,null,null,4.7899999999999999E-5,null,null,null,null,null,null,null,"WRI (2014)"]
[null,"freight","Rail (UK)",null,null,null,null,null,null,null,null,null,null,null,null,null,null,1.9999999999999999E-6,null,null,null,null,null,null,null,null,null,null,5.9999999999999997E-7,null,null,null,null,null,null,null,"WRI (2014)"]
[null,"freight","HGV and Light Goods Vehicle (UK)",null,null,null,null,null,null,null,null,null,null,null,null,null,null,3.4999999999999999E-6,null,null,null,null,null,null,null,null,null,null,2.7E-6,null,null,null,null,null,null,null,"WRI (2014)"]
[null,"freight","Waterborne Craft (UK)",null,null,null,null,null,null,null,null,null,null,null,null,null,null,4.1000000000000006E-6,null,null,null,null,null,null,null,null,null,null,1.3999999999999999E-6,null,null,null,null,null,null,null,"WRI (2014)"]
[null,"freight","Aircraft (US)",null,null,null,null,null,null,null,null,null,null,null,null,null,null,4.1700000000000004E-5,null,null,null,null,null,null,null,null,null,null,4.7899999999999999E-5,null,null,null,null,null,null,null,"WRI (2014)"]
[null,"freight","Rail (US)",null,null,null,null,null,null,null,null,null,null,null,null,null,null,1.9999999999999999E-6,null,null,null,null,null,null,null,null,null,null,5.9999999999999997E-7,null,null,null,null,null,null,null,"WRI (2014)"]
[null,"freight","HGV and Light Goods Vehicle (US)",null,null,null,null,null,null,null,null,null,null,null,null,null,null,3.4999999999999999E-6,null,null,null,null,null,null,null,null,null,null,2.7E-6,null,null,null,null,null,null,null,"WRI (2014)"]
[null,"freight","Waterborne Craft (US)",null,null,null,null,null,null,null,null,null,null,null,null,null,null,4.1000000000000006E-6,null,null,null,null,null,null,null,null,null,null,1.3999999999999999E-6,null,null,null,null,null,null,null,"WRI (2014)"]
[null,"freight","Aircraft (Other)",null,null,null,null,null,null,null,null,null,null,null,null,null,null,4.1700000000000004E-5,null,null,null,null,null,null,null,null,null,null,4.7899999999999999E-5,null,null,null,null,null,null,null,"WRI (2014)"]
[null,"freight","Rail (Other)",null,null,null,null,null,null,null,null,null,null,null,null,null,null,1.9999999999999999E-6,null,null,null,null,null,null,null,null,null,null,5.9999999999999997E-7,null,null,null,null,null,null,null,"WRI (2014)"]
[null,"freight","HGV and Light Goods Vehicle (Other)",null,null,null,null,null,null,null,null,null,null,null,null,null,null,3.4999999999999999E-6,null,null,null,null,null,null,null,null,null,null,2.7E-6,null,null,null,null,null,null,null,"WRI (2014)"]
[null,"freight","Waterborne Craft (Other)",null,null,null,null,null,null,null,null,null,null,null,null,null,null,4.1000000000000006E-6,null,null,null,null,null,null,null,null,null,null,1.3999999999999999E-6,null,null,null,null,null,null,null,"WRI (2014)"]
[null,"rail","Train - Diesel Fuel (UK)",null,null,null,null,null,null,null,null,null,null,null,8.0000000000000004E-4,null,null,null,null,{"$f":"O123/USGallonsTOlitres","v":2.1133774148639117E-4},null,null,null,null,null,2.6000000000000003E-4,null,null,null,null,{"$f":"Z123/USGallonsTOlitres","v":6.8684765983077133E-5},null,null,null,null,null,"WRI (2014)"]
[null,"rail","Train - Diesel Fuel (US)",null,null,null,null,null,null,null,null,null,null,null,8.0000000000000004E-4,null,null,null,null,2.1133774148639117E-4,null,null,null,null,null,2.6000000000000003E-4,null,null,null,null,6.8684765983077133E-5,null,null,null,null,null,"WRI (2014)"]
[null,"road","Bus - CNG (US)",null,null,null,null,null,null,null,null,null,null,null,4.7184000000000002E-3,null,null,null,null,1.2464699992867352E-3,null,null,null,null,null,4.1999999999999996E-4,null,null,null,null,1.1095231428035535E-4,null,null,null,null,null,"WRI (2014)"]
[null,"road","Bus - Ethanol (US)",null,null,null,null,null,null,null,null,null,null,null,9.850000000000002E-4,null,null,null,null,2.6020959420511915E-4,null,null,null,null,null,8.7500000000000002E-4,null,null,null,null,2.3115065475074034E-4,null,null,null,null,null,"WRI (2014)"]
[null,"road","Bus - Diesel (US)",null,null,null,null,null,null,null,null,null,null,null,1.8870000000000001E-5,null,null,null,null,4.984928977310252E-6,null,null,null,null,null,1.7759999999999999E-5,null,null,null,null,4.6916978609978834E-6,null,null,null,null,null,"WRI (2014)"]
[null,"road","Bus - Gasoline (US)",null,null,null,null,null,null,null,null,null,null,null,1.05E-4,null,null,null,null,2.7738078570088841E-5,null,null,null,null,null,8.5000000000000006E-5,null,null,null,null,2.2454635032929062E-5,null,null,null,null,null,"WRI (2014)"]
[null,"road","Passenger Car - Gasoline - Year 1984-1993 (US)",null,null,null,null,null,null,null,null,null,null,null,1.5840000000000001E-3,null,null,null,null,4.1844872814305451E-4,null,null,null,null,null,1.4557499999999998E-3,null,null,null,null,3.8456864646101738E-4,null,null,null,null,null,"WRI (2014)"]
[null,"road","Passenger Car - Gasoline - Year 1994 (US)",null,null,null,null,null,null,null,null,null,null,null,1.1947500000000001E-3,null,null,null,null,3.1561970830108234E-4,null,null,null,null,null,1.2600000000000001E-3,null,null,null,null,3.328569428410661E-4,null,null,null,null,null,"WRI (2014)"]
[null,"road","Passenger Car - Gasoline - Year 1995 (US)",null,null,null,null,null,null,null,null,null,null,null,8.0550000000000001E-4,null,null,null,null,2.1279068845911012E-4,null,null,null,null,null,1.0642500000000001E-3,null,null,null,null,2.8114523922111477E-4,null,null,null,null,null,"WRI (2014)"]
[null,"road","Passenger Car - Gasoline - Year 1996 (US)",null,null,null,null,null,null,null,null,null,null,null,6.1200000000000002E-4,null,null,null,null,1.6167337223708925E-4,null,null,null,null,null,9.5850000000000004E-4,null,null,null,null,2.5320903151838242E-4,null,null,null,null,null,"WRI (2014)"]
[null,"road","Passenger Car - Gasoline - Year 1997 (US)",null,null,null,null,null,null,null,null,null,null,null,6.0300000000000002E-4,null,null,null,null,1.5929582264536735E-4,null,null,null,null,null,9.4950000000000004E-4,null,null,null,null,2.508314819266605E-4,null,null,null,null,null,"WRI (2014)"]
[null,"road","Passenger Car - Gasoline - Year 1998 (US)",null,null,null,null,null,null,null,null,null,null,null,5.6024999999999988E-4,null,null,null,null,1.4800246208468827E-4,null,null,null,null,null,8.8424999999999994E-4,null,null,null,null,2.3359424738667671E-4,null,null,null,null,null,"WRI (2014)"]
[null,"road","Passenger Car - Gasoline - Year 1999 (US)",null,null,null,null,null,null,null,null,null,null,null,4.8600000000000005E-4,null,null,null,null,1.2838767795298264E-4,null,null,null,null,null,7.5825000000000003E-4,null,null,null,null,2.0030855310257013E-4,null,null,null,null,null,"WRI (2014)"]
[null,"road","Passenger Car - Gasoline - Year 2000 (US)",null,null,null,null,null,null,null,null,null,null,null,4.0050000000000003E-4,null,null,null,null,1.0580095683162459E-4,null,null,null,null,null,6.142500000000001E-4,null,null,null,null,1.6226775963501975E-4,null,null,null,null,null,"WRI (2014)"]
[null,"road","Passenger Car - Gasoline - Year 2001 (US)",null,null,null,null,null,null,null,null,null,null,null,2.475E-4,null,null,null,null,6.538261377235227E-5,null,null,null,null,null,3.5550000000000002E-4,null,null,null,null,9.3913208873015082E-5,null,null,null,null,null,"WRI (2014)"]
[null,"road","Passenger Car - Gasoline - Year 2002 (US)",null,null,null,null,null,null,null,null,null,null,null,2.4075E-4,null,null,null,null,6.3599451578560839E-5,null,null,null,null,null,3.4424999999999999E-4,null,null,null,null,9.0941271883362689E-5,null,null,null,null,null,"WRI (2014)"]
[null,"road","Passenger Car - Gasoline - Year 2003 (US)",null,null,null,null,null,null,null,null,null,null,null,2.565E-4,null,null,null,null,6.7760163364074169E-5,null,null,null,null,null,3.0375000000000004E-4,null,null,null,null,8.0242298720614158E-5,null,null,null,null,null,"WRI (2014)"]
[null,"road","Passenger Car - Gasoline - Year 2004 (US)",null,null,null,null,null,null,null,null,null,null,null,3.2625000000000004E-4,null,null,null,null,8.6186172699918905E-5,null,null,null,null,null,1.8675000000000001E-4,null,null,null,null,4.933415402822944E-5,null,null,null,null,null,"WRI (2014)"]
[null,"road","Passenger Car - Gasoline - Year 2005-present (US)",null,null,null,null,null,null,null,null,null,null,null,3.3074999999999999E-4,null,null,null,null,8.737494749577984E-5,null,null,null,null,null,1.7775000000000001E-4,null,null,null,null,4.6956604436507541E-5,null,null,null,null,null,"WRI (2014)"]
[null,"road","Passenger Car - Diesel - Year 1960-1982 (US)",null,null,null,null,null,null,null,null,null,null,null,1.3499999999999998E-5,null,null,null,null,3.5663243875828503E-6,null,null,null,null,null,2.6999999999999996E-5,null,null,null,null,7.1326487751657005E-6,null,null,null,null,null,"WRI (2014)"]
[null,"road","Passenger Car - Diesel - Year 1983-present (US)",null,null,null,null,null,null,null,null,null,null,null,1.1249999999999999E-5,null,null,null,null,2.9719369896523756E-6,null,null,null,null,null,2.2499999999999998E-5,null,null,null,null,5.9438739793047511E-6,null,null,null,null,null,"WRI (2014)"]
[null,"road","Passenger Car - Fuel Unknown (US)",null,null,null,null,null,null,null,null,null,null,null,6.9749999999999999E-4,null,null,null,null,1.842600933584473E-4,null,null,null,null,null,7.1999999999999994E-4,null,null,null,null,1.9020396733775204E-4,null,null,null,null,null,"WRI (2014)"]
[null,"road","Light Goods Vehicle - CNG (US)",null,null,null,null,null,null,null,null,null,null,null,1.1939399999999999E-2,null,null,null,null,3.1540572883782731E-3,null,null,null,null,null,8.1000000000000006E-4,null,null,null,null,2.1397946325497108E-4,null,null,null,null,null,"WRI (2014)"]
[null,"road","Light Goods Vehicle - LPG (US)",null,null,null,null,null,null,null,null,null,null,null,5.9939999999999993E-4,null,null,null,null,1.5834480280867857E-4,null,null,null,null,null,1.0853999999999998E-3,null,null,null,null,2.8673248076166116E-4,null,null,null,null,null,"WRI (2014)"]
[null,"road","Light Goods Vehicle - Ethanol (US)",null,null,null,null,null,null,null,null,null,null,null,8.9099999999999997E-4,null,null,null,null,2.3537740958046814E-4,null,null,null,null,null,1.0853999999999998E-3,null,null,null,null,2.8673248076166116E-4,null,null,null,null,null,"WRI (2014)"]
[null,"road","Light Goods Vehicle - Gasoline - Year 1987-1993 (US)",null,null,null,null,null,null,null,null,null,null,null,1.3170599999999999E-3,null,null,null,null,3.4793060725258289E-4,null,null,null,null,null,1.6766999999999999E-3,null,null,null,null,4.4293748893779007E-4,null,null,null,null,null,"WRI (2014)"]
[null,"road","Light Goods Vehicle - Gasoline - Year 1994 (US)",null,null,null,null,null,null,null,null,null,null,null,1.0465200000000002E-3,null,null,null,null,2.7646146652542266E-4,null,null,null,null,null,1.5908399999999998E-3,null,null,null,null,4.2025566583276308E-4,null,null,null,null,null,"WRI (2014)"]
[null,"road","Light Goods Vehicle - Gasoline - Year 1995 (US)",null,null,null,null,null,null,null,null,null,null,null,8.3754000000000012E-4,null,null,null,null,2.212547650056401E-4,null,null,null,null,null,1.4709600000000001E-3,null,null,null,null,3.8858670527102746E-4,null,null,null,null,null,"WRI (2014)"]
[null,"road","Light Goods Vehicle - Gasoline - Year 1996 (US)",null,null,null,null,null,null,null,null,null,null,null,7.3223999999999989E-4,null,null,null,null,1.9343743478249381E-4,null,null,null,null,null,1.41102E-3,null,null,null,null,3.727522249901596E-4,null,null,null,null,null,"WRI (2014)"]
[null,"road","Light Goods Vehicle - Gasoline - Year 1997 (US)",null,null,null,null,null,null,null,null,null,null,null,7.3223999999999989E-4,null,null,null,null,1.9343743478249381E-4,null,null,null,null,null,1.41102E-3,null,null,null,null,3.727522249901596E-4,null,null,null,null,null,"WRI (2014)"]
[null,"road","Light Goods Vehicle - Gasoline - Year 1998 (US)",null,null,null,null,null,null,null,null,null,null,null,6.3341999999999999E-4,null,null,null,null,1.6733194026538736E-4,null,null,null,null,null,1.17936E-3,null,null,null,null,3.1155409849923787E-4,null,null,null,null,null,"WRI (2014)"]
[null,"road","Light Goods Vehicle - Gasoline - Year 1999 (US)",null,null,null,null,null,null,null,null,null,null,null,5.2001999999999994E-4,null,null,null,null,1.373748154096914E-4,null,null,null,null,null,9.1367999999999994E-4,null,null,null,null,2.4136883455160734E-4,null,null,null,null,null,"WRI (2014)"]
[null,"road","Light Goods Vehicle - Gasoline - Year 2000 (US)",null,null,null,null,null,null,null,null,null,null,null,5.605199999999999E-4,null,null,null,null,{"$f":"O155/USGallonsTOlitres","v":1.4807378857243994E-4},null,null,null,null,null,1.0060199999999998E-3,null,null,null,null,{"$f":"Z155/USGallonsTOlitres","v":2.6576249336267402E-4},null,null,null,null,null,"WRI (2014)"]
[null,"road","Light Goods Vehicle - Gasoline - Year 2001 (US)",null,null,null,null,null,null,null,null,null,null,null,2.4462000000000003E-4,null,null,null,null,6.462179790300127E-5,null,null,null,null,null,2.6568000000000002E-4,null,null,null,null,7.0185263947630509E-5,null,null,null,null,null,"WRI (2014)"]
[null,"road","Light Goods Vehicle - Gasoline - Year 2002 (US)",null,null,null,null,null,null,null,null,null,null,null,2.8835999999999998E-4,null,null,null,null,7.6176688918769685E-5,null,null,null,null,null,3.6936E-4,null,null,null,null,9.7574635244266801E-5,null,null,null,null,null,"WRI (2014)"]
[null,"road","Light Goods Vehicle - Gasoline - Year 2003 (US)",null,null,null,null,null,null,null,null,null,null,null,2.5109999999999998E-4,null,null,null,null,6.6333633609041024E-5,null,null,null,null,null,1.8468E-4,null,null,null,null,4.87873176221334E-5,null,null,null,null,null,"WRI (2014)"]
[null,"road","Light Goods Vehicle - Gasoline - Year 2004 (US)",null,null,null,null,null,null,null,null,null,null,null,2.4624E-4,null,null,null,null,6.5049756829511205E-5,null,null,null,null,null,2.1384E-4,null,null,null,null,5.6490578299312357E-5,null,null,null,null,null,"WRI (2014)"]
[null,"road","Light Goods Vehicle - Gasoline - Year 2005-present (US)",null,null,null,null,null,null,null,null,null,null,null,2.5433999999999998E-4,null,null,null,null,6.7189551462060908E-5,null,null,null,null,null,1.6361999999999998E-4,null,null,null,null,4.3223851577504147E-5,null,null,null,null,null,"WRI (2014)"]
[null,"road","Light Goods Vehicle - Diesel - Year 1960-1982 (US)",null,null,null,null,null,null,null,null,null,null,null,1.7819999999999999E-5,null,null,null,null,4.7075481916093625E-6,null,null,null,null,null,2.7539999999999997E-5,null,null,null,null,7.2753017506690148E-6,null,null,null,null,null,"WRI (2014)"]
[null,"road","Light Goods Vehicle - Diesel - Year 1983-1995 (US)",null,null,null,null,null,null,null,null,null,null,null,1.4579999999999999E-5,null,null,null,null,3.8516303385894784E-6,null,null,null,null,null,2.268E-5,null,null,null,null,5.9914249711391895E-6,null,null,null,null,null,"WRI (2014)"]
[null,"road","Light Goods Vehicle - Diesel - Year 1996-present (US)",null,null,null,null,null,null,null,null,null,null,null,1.6200000000000001E-5,null,null,null,null,4.2795892650994213E-6,null,null,null,null,null,2.4299999999999998E-5,null,null,null,null,6.4193838976491307E-6,null,null,null,null,null,"WRI (2014)"]
[null,"road","Light Goods Vehicle - Fuel Unknown (US)",null,null,null,null,null,null,null,null,null,null,null,5.8319999999999997E-4,null,null,null,null,1.5406521354357914E-4,null,null,null,null,null,7.6139999999999997E-4,null,null,null,null,2.0114069545967278E-4,null,null,null,null,null,"WRI (2014)"]
[null,"road","Heavy Duty Vehicle - Rigid - Gasoline - Year 1985-1986 (US)",null,null,null,null,null,null,null,null,null,null,null,3.5992000000000003E-3,null,null,null,null,9.5080849894727394E-4,null,null,null,null,null,4.5320000000000001E-4,null,null,null,null,1.197228305520406E-4,null,null,null,null,null,"WRI (2014)"]
[null,"road","Heavy Duty Vehicle - Rigid - Gasoline - Year 1987 (US)",null,null,null,null,null,null,null,null,null,null,null,3.2339999999999999E-3,null,null,null,null,8.5433281995873629E-4,null,null,null,null,null,7.471200000000001E-4,null,null,null,null,1.9736831677414073E-4,null,null,null,null,null,"WRI (2014)"]
[null,"road","Heavy Duty Vehicle - Rigid - Gasoline - Year 1988-1989 (US)",null,null,null,null,null,null,null,null,null,null,null,3.07296E-3,null,null,null,null,8.1179053259752571E-4,null,null,null,null,null,8.2103999999999999E-4,null,null,null,null,2.1689592408748325E-4,null,null,null,null,null,"WRI (2014)"]
[null,"road","Heavy Duty Vehicle - Rigid - Gasoline - Year 1990-1995 (US)",null,null,null,null,null,null,null,null,null,null,null,2.8564800000000002E-3,null,null,null,null,7.5460253975130837E-4,null,null,null,null,null,1.0049600000000001E-3,null,null,null,null,2.6548247085520459E-4,null,null,null,null,null,"WRI (2014)"]
[null,"road","Heavy Duty Vehicle - Rigid - Gasoline - Year 1996 (US)",null,null,null,null,null,null,null,null,null,null,null,1.1246400000000001E-3,null,null,null,null,2.9709859698156871E-4,null,null,null,null,null,1.4784000000000002E-3,null,null,null,null,3.9055214626685091E-4,null,null,null,null,null,"WRI (2014)"]
[null,"road","Heavy Duty Vehicle - Rigid - Gasoline - Year 1997 (US)",null,null,null,null,null,null,null,null,null,null,null,8.1312000000000008E-4,null,null,null,null,2.1480368044676801E-4,null,null,null,null,null,1.5188800000000002E-3,null,null,null,null,4.0124583598606233E-4,null,null,null,null,null,"WRI (2014)"]
[null,"road","Heavy Duty Vehicle - Rigid - Gasoline - Year 1998 (US)",null,null,null,null,null,null,null,null,null,null,null,5.6408000000000012E-4,null,null,null,null,1.4901424152205444E-4,null,null,null,null,null,1.4898400000000003E-3,null,null,null,null,3.9357427597010636E-4,null,null,null,null,null,"WRI (2014)"]
[null,"road","Heavy Duty Vehicle - Rigid - Gasoline - Year 1999 (US)",null,null,null,null,null,null,null,null,null,null,null,5.0863999999999998E-4,null,null,null,null,1.3436853603704748E-4,null,null,null,null,null,1.2627999999999999E-3,null,null,null,null,3.3359662493626845E-4,null,null,null,null,null,"WRI (2014)"]
[null,"road","Heavy Duty Vehicle - Rigid - Gasoline - Year 2000 (US)",null,null,null,null,null,null,null,null,null,null,null,4.3384000000000001E-4,null,null,null,null,1.1460845720806993E-4,null,null,null,null,null,9.6096000000000018E-4,null,null,null,null,2.5385889507345311E-4,null,null,null,null,null,"WRI (2014)"]
[null,"road","Heavy Duty Vehicle - Rigid - Gasoline - Year 2001 (US)",null,null,null,null,null,null,null,null,null,null,null,4.6464000000000005E-4,null,null,null,null,1.22744960255296E-4,null,null,null,null,null,1.0868E-3,null,null,null,null,2.8710232180926236E-4,null,null,null,null,null,"WRI (2014)"]
[null,"road","Heavy Duty Vehicle - Rigid - Gasoline - Year 2002 (US)",null,null,null,null,null,null,null,null,null,null,null,4.8048000000000009E-4,null,null,null,null,1.2692944753672655E-4,null,null,null,null,null,1.1501600000000003E-3,null,null,null,null,3.0384027093498467E-4,null,null,null,null,null,"WRI (2014)"]
[null,"road","Heavy Duty Vehicle - Rigid - Gasoline - Year 2003 (US)",null,null,null,null,null,null,null,null,null,null,null,4.6904E-4,null,null,null,null,1.2390731783347114E-4,null,null,null,null,null,1.0912000000000001E-3,null,null,null,null,2.8826467938743757E-4,null,null,null,null,null,"WRI (2014)"]
[null,"road","Heavy Duty Vehicle - Rigid - Gasoline - Year 2004 (US)",null,null,null,null,null,null,null,null,null,null,null,3.0007999999999999E-4,null,null,null,null,7.9272786831545322E-5,null,null,null,null,null,2.5080000000000002E-4,null,null,null,null,6.6254381955983639E-5,null,null,null,null,null,"WRI (2014)"]
[null,"road","Heavy Duty Vehicle - Rigid - Gasoline - Year 2005-present (US)",null,null,null,null,null,null,null,null,null,null,null,2.8688000000000005E-4,null,null,null,null,7.5785714097019886E-5,null,null,null,null,null,1.5576000000000001E-4,null,null,null,null,4.1147458267400363E-5,null,null,null,null,null,"WRI (2014)"]
[null,"road","Heavy Duty Vehicle - Rigid - Diesel - Year 1960-present (US)",null,null,null,null,null,null,null,null,null,null,null,4.4880000000000011E-5,null,null,null,null,1.1856047297386547E-5,null,null,null,null,null,4.2240000000000002E-5,null,null,null,null,1.1158632750481453E-5,null,null,null,null,null,"WRI (2014)"]
[null,"road","Heavy Duty Vehicle - Rigid - CNG (US)",null,null,null,null,null,null,null,null,null,null,null,1.7300800000000002E-2,null,null,null,null,4.5703899973846959E-3,null,null,null,null,null,1.5400000000000001E-3,null,null,null,null,4.0682515236130303E-4,null,null,null,null,null,"WRI (2014)"]
[null,"road","Heavy Duty Vehicle - Rigid - LNG (US)",null,null,null,null,null,null,null,null,null,null,null,1.7300800000000002E-2,null,null,null,null,4.5703899973846959E-3,null,null,null,null,null,1.5400000000000001E-3,null,null,null,null,4.0682515236130303E-4,null,null,null,null,null,"WRI (2014)"]
[null,"road","Heavy Duty Vehicle - Rigid - LPG (US)",null,null,null,null,null,null,null,null,null,null,null,5.8080000000000013E-4,null,null,null,null,1.5343120031912003E-4,null,null,null,null,null,1.5400000000000001E-3,null,null,null,null,4.0682515236130303E-4,null,null,null,null,null,"WRI (2014)"]
[null,"road","Heavy Duty Vehicle - Rigid - Ethanol (US)",null,null,null,null,null,null,null,null,null,null,null,1.7336000000000003E-3,null,null,null,null,4.5796888580100975E-4,null,null,null,null,null,1.5400000000000001E-3,null,null,null,null,4.0682515236130303E-4,null,null,null,null,null,"WRI (2014)"]
[null,"road","Heavy Duty Vehicle - Rigid - Fuel Unknown (US)",null,null,null,null,null,null,null,null,null,null,null,1.8480000000000002E-4,null,null,null,null,4.8819018283356364E-5,null,null,null,null,null,1.496E-4,null,null,null,null,3.9520157657955146E-5,null,null,null,null,null,"WRI (2014)"]
[null,"road","Heavy Duty Vehicle - Articulated - Gasoline - Year 1985-1986 (US)",null,null,null,null,null,null,null,null,null,null,null,2.4131000000000001E-3,null,null,null,null,6.3747387997601312E-4,null,null,null,null,null,3.0384999999999999E-4,null,null,null,null,8.0268715938299935E-5,null,null,null,null,null,"WRI (2014)"]
[null,"road","Heavy Duty Vehicle - Articulated - Gasoline - Year 1987 (US)",null,null,null,null,null,null,null,null,null,null,null,2.16825E-3,null,null,null,null,5.7279132247233455E-4,null,null,null,null,null,5.0091000000000003E-4,null,null,null,null,1.3232648510993526E-4,null,null,null,null,null,"WRI (2014)"]
[null,"road","Heavy Duty Vehicle - Articulated - Gasoline - Year 1988-1989 (US)",null,null,null,null,null,null,null,null,null,null,null,2.0602800000000003E-3,null,null,null,null,{"$f":"O187/USGallonsTOlitres","v":5.4426865253697756E-4},null,null,null,null,null,5.5047000000000006E-4,null,null,null,null,{"$f":"Z187/USGallonsTOlitres","v":1.4541885819501719E-4},null,null,null,null,null,"WRI (2014)"]
[null,"road","Heavy Duty Vehicle - Articulated - Gasoline - Year 1990-1995 (US)",null,null,null,null,null,null,null,null,null,null,null,1.9151400000000001E-3,null,null,null,null,5.0592670278780893E-4,null,null,null,null,null,6.7378000000000002E-4,null,null,null,null,1.7799392932337581E-4,null,null,null,null,null,"WRI (2014)"]
[null,"road","Heavy Duty Vehicle - Articulated - Gasoline - Year 1996 (US)",null,null,null,null,null,null,null,null,null,null,null,7.5401999999999999E-4,null,null,null,null,1.9919110479446083E-4,null,null,null,null,null,9.9120000000000002E-4,null,null,null,null,2.6184746170163867E-4,null,null,null,null,null,"WRI (2014)"]
[null,"road","Heavy Duty Vehicle - Articulated - Gasoline - Year 1997 (US)",null,null,null,null,null,null,null,null,null,null,null,5.4515999999999994E-4,null,null,null,null,1.4401610393590124E-4,null,null,null,null,null,1.01834E-3,null,null,null,null,2.6901709458156445E-4,null,null,null,null,null,"WRI (2014)"]
[null,"road","Heavy Duty Vehicle - Articulated - Gasoline - Year 1998 (US)",null,null,null,null,null,null,null,null,null,null,null,3.7819000000000004E-4,null,null,null,null,9.9907275565922854E-5,null,null,null,null,null,9.9887000000000023E-4,null,null,null,null,2.6387366229813948E-4,null,null,null,null,null,"WRI (2014)"]
[null,"road","Heavy Duty Vehicle - Articulated - Gasoline - Year 1999 (US)",null,null,null,null,null,null,null,null,null,null,null,3.4101999999999998E-4,null,null,null,null,9.0087995752111388E-5,null,null,null,null,null,8.4665000000000001E-4,null,null,null,null,2.2366137353681636E-4,null,null,null,null,null,"WRI (2014)"]
[null,"road","Heavy Duty Vehicle - Articulated - Gasoline - Year 2000 (US)",null,null,null,null,null,null,null,null,null,null,null,2.9087000000000004E-4,null,null,null,null,7.6839761082683259E-5,null,null,null,null,null,6.4428000000000011E-4,null,null,null,null,1.7020085010606515E-4,null,null,null,null,null,"WRI (2014)"]
[null,"road","Heavy Duty Vehicle - Articulated - Gasoline - Year 2001 (US)",null,null,null,null,null,null,null,null,null,null,null,3.1152000000000003E-4,null,null,null,null,8.2294916534800727E-5,null,null,null,null,null,7.2865000000000007E-4,null,null,null,null,1.9248905666757366E-4,null,null,null,null,null,"WRI (2014)"]
[null,"road","Heavy Duty Vehicle - Articulated - Gasoline - Year 2002 (US)",null,null,null,null,null,null,null,null,null,null,null,3.2214000000000006E-4,null,null,null,null,8.5100425053032575E-5,null,null,null,null,null,7.7113000000000008E-4,null,null,null,null,2.0371109074050105E-4,null,null,null,null,null,"WRI (2014)"]
[null,"road","Heavy Duty Vehicle - Articulated - Gasoline - Year 2003 (US)",null,null,null,null,null,null,null,null,null,null,null,3.1447000000000002E-4,null,null,null,null,8.3074224456531796E-5,null,null,null,null,null,7.316E-4,null,null,null,null,1.9326836458930473E-4,null,null,null,null,null,"WRI (2014)"]
[null,"road","Heavy Duty Vehicle - Articulated - Gasoline - Year 2004 (US)",null,null,null,null,null,null,null,null,null,null,null,2.0119000000000002E-4,null,null,null,null,5.3148800262058802E-5,null,null,null,null,null,1.6815000000000002E-4,null,null,null,null,4.4420551538670846E-5,null,null,null,null,null,"WRI (2014)"]
[null,"road","Heavy Duty Vehicle - Articulated - Gasoline - Year 2005-present (US)",null,null,null,null,null,null,null,null,null,null,null,1.9233999999999999E-4,null,null,null,null,5.0810876496865596E-5,null,null,null,null,null,1.0443000000000001E-4,null,null,null,null,2.7587500429279791E-5,null,null,null,null,null,"WRI (2014)"]
[null,"road","Heavy Duty Vehicle - Articulated - Diesel - Year 1960-present (US)",null,null,null,null,null,null,null,null,null,null,null,3.0090000000000005E-5,null,null,null,null,7.9489408016568896E-6,null,null,null,null,null,2.8319999999999997E-5,null,null,null,null,7.4813560486182458E-6,null,null,null,null,null,"WRI (2014)"]
[null,"road","Heavy Duty Vehicle - Articulated - CNG (US)",null,null,null,null,null,null,null,null,null,null,null,1.1599400000000001E-2,null,null,null,null,3.0642387482465571E-3,null,null,null,null,null,1.0325E-3,null,null,null,null,2.7275777260587358E-4,null,null,null,null,null,"WRI (2014)"]
[null,"road","Heavy Duty Vehicle - Articulated - LNG (US)",null,null,null,null,null,null,null,null,null,null,null,1.1599400000000001E-2,null,null,null,null,3.0642387482465571E-3,null,null,null,null,null,1.0325E-3,null,null,null,null,2.7275777260587358E-4,null,null,null,null,null,"WRI (2014)"]
[null,"road","Heavy Duty Vehicle - Articulated - LPG (US)",null,null,null,null,null,null,null,null,null,null,null,3.8940000000000003E-4,null,null,null,null,1.028686456685009E-4,null,null,null,null,null,1.0325E-3,null,null,null,null,2.7275777260587358E-4,null,null,null,null,null,"WRI (2014)"]
[null,"road","Heavy Duty Vehicle - Articulated - Ethanol (US)",null,null,null,null,null,null,null,null,null,null,null,1.1623E-3,null,null,null,null,3.0704732116204055E-4,null,null,null,null,null,1.0325E-3,null,null,null,null,2.7275777260587358E-4,null,null,null,null,null,"WRI (2014)"]
[null,"road","Heavy Duty Vehicle - Articulated - Fuel Unknown (US)",null,null,null,null,null,null,null,null,null,null,null,1.239E-4,null,null,null,null,3.2730932712704834E-5,null,null,null,null,null,1.0030000000000001E-4,null,null,null,null,2.6496469338856294E-5,null,null,null,null,null,"WRI (2014)"]
[null,"road","Motorbike - Non-Catalyst Control (US)",null,null,null,null,null,null,null,null,null,null,null,3.3599999999999997E-3,null,null,null,null,8.8761851424284282E-4,null,null,null,null,null,3.4499999999999998E-4,null,null,null,null,9.1139401016006178E-5,null,null,null,null,null,"WRI (2014)"]
[null,"road","Motorbike - Uncontrolled (US)",null,null,null,null,null,null,null,null,null,null,null,4.4949999999999999E-3,null,null,null,null,1.1874539349766603E-3,null,null,null,null,null,4.3499999999999995E-4,null,null,null,null,1.1491489693322518E-4,null,null,null,null,null,"WRI (2014)"]
[null,"road","Motorbike - Control Unknown (US)",null,null,null,null,null,null,null,null,null,null,null,3.5000000000000005E-3,null,null,null,null,9.2460261900296147E-4,null,null,null,null,null,3.5000000000000005E-4,null,null,null,null,9.2460261900296147E-5,null,null,null,null,null,"WRI (2014)"]
[null,"road","Passenger Car - Petrol - Engine Size <1.4 liter (UK)",null,null,0.27836831780047672,null,null,null,null,0.17297000000000001,null,null,null,null,null,null,null,null,null,null,null,null,null,null,null,null,null,null,null,null,null,null,null,null,null,"WRI (2014)"]
[null,"road","Passenger Car - Petrol - Engine Size 1.4 - 2.0 liters (UK)",null,null,0.34578375881719614,null,null,null,null,0.21486,null,null,null,null,null,null,null,null,null,null,null,null,null,null,null,null,null,null,null,null,null,null,null,null,null,"WRI (2014)"]
[null,"road","Passenger Car - Petrol - Engine Size >2.0 liters (UK)",null,null,0.48178946233409675,null,null,null,null,0.29937000000000002,null,null,null,null,null,null,null,null,null,null,null,null,null,null,null,null,null,null,null,null,null,null,null,null,null,"WRI (2014)"]
[null,"road","Passenger Car - Petrol - Engine Size Unknown (UK)",null,null,0.33910497915094207,null,null,null,null,0.21071000000000001,null,null,null,null,null,null,null,null,null,null,null,null,null,null,null,null,null,null,null,null,null,null,null,null,null,"WRI (2014)"]
[null,"road","Passenger Car - Diesel - Engine Size <1.7 liter (UK)",null,null,0.23364463420404236,null,null,null,null,0.14518,null,null,null,null,null,null,null,null,null,null,null,null,null,null,null,null,null,null,null,null,null,null,null,null,null,"WRI (2014)"]
[null,"road","Passenger Car - Diesel - Engine Size 1.7 - 2.0 liters (UK)",null,null,0.29124307378361719,null,null,null,null,0.18096999999999999,null,null,null,null,null,null,null,null,null,null,null,null,null,null,null,null,null,null,null,null,null,null,null,null,null,"WRI (2014)"]
[null,"road","Passenger Car - Diesel - Engine Size >2.0 liters (UK)",null,null,0.39502970045270863,null,null,null,null,0.24546000000000001,null,null,null,null,null,null,null,null,null,null,null,null,null,null,null,null,null,null,null,null,null,null,null,null,null,"WRI (2014)"]
[null,"road","Passenger Car - Diesel - Engine Size Unknown (UK)",null,null,0.31374170986415523,null,null,null,null,0.19495000000000001,null,null,null,null,null,null,null,null,null,null,null,null,null,null,null,null,null,null,null,null,null,null,null,null,null,"WRI (2014)"]
[null,"road","Passenger Car - Hybrid - Engine Size 1.4 - 2.0 liters (UK)",null,null,0.19173730347891998,null,null,null,null,0.11914,null,null,null,null,null,null,null,null,null,null,null,null,null,null,null,null,null,null,null,null,null,null,null,null,null,"WRI (2014)"]
[null,"road","Passenger Car - Hybrid - Engine Size >2.0 liters (UK)",null,null,0.34964618561213834,null,null,null,null,0.21726000000000001,null,null,null,null,null,null,null,null,null,null,null,null,null,null,null,null,null,null,null,null,null,null,null,null,null,"WRI (2014)"]
[null,"road","Passenger Car - Hybrid - Engine Size Unknown (UK)",null,null,0.26505903880290521,null,null,null,null,0.16470000000000001,null,null,null,null,null,null,null,null,null,null,null,null,null,null,null,null,null,null,null,null,null,null,null,null,null,"WRI (2014)"]
[null,"road","Passenger Car - LPG - Engine Size average (UK)",null,null,0.34470549800360811,null,null,null,null,0.21418999999999999,null,null,null,null,null,null,null,null,null,null,null,null,null,null,null,null,null,null,null,null,null,null,null,null,null,"WRI (2014)"]
[null,"road","Passenger Car - LPG - Engine Size medium (UK)",null,null,0.31119894555748495,null,null,null,null,0.19336999999999999,null,null,null,null,null,null,null,null,null,null,null,null,null,null,null,null,null,null,null,null,null,null,null,null,null,"WRI (2014)"]
[null,"road","Passenger Car - LPG - Engine Size large (UK)",null,null,0.43360568806719335,null,null,null,null,0.26943,null,null,null,null,null,null,null,null,null,null,null,null,null,null,null,null,null,null,null,null,null,null,null,null,null,"WRI (2014)"]
[null,"road","Passenger Car - CNG - Engine Size 1.4 - 2.0 liters (UK)",null,null,0.31119894555748495,null,null,null,null,0.19336999999999999,null,null,null,null,null,null,null,null,null,null,null,null,null,null,null,null,null,null,null,null,null,null,null,null,null,"WRI (2014)"]
[null,"road","Passenger Car - CNG - Engine Size >2.0 liters (UK)",null,null,0.43360568806719335,null,null,null,null,0.26943,null,null,null,null,null,null,null,null,null,null,null,null,null,null,null,null,null,null,null,null,null,null,null,null,null,"WRI (2014)"]
[null,"road","Passenger Car - CNG - Engine Size Unknown (UK)",null,null,0.34470549800360811,null,null,null,null,0.21418999999999999,null,null,null,null,null,null,null,null,null,null,null,null,null,null,null,null,null,null,null,null,null,null,null,null,null,"WRI (2014)"]
[null,"road","Light Goods Vehicle (e.g. Van) - Petrol - Engine Size ≤1.25 tonnes (UK)",null,null,0.31232548670600974,null,null,null,null,0.19406999999999999,null,null,null,null,null,null,null,null,null,null,null,null,null,null,null,null,null,null,null,null,null,null,null,null,null,"WRI (2014)"]
[null,"road","Light Goods Vehicle (e.g. Van) - Diesel - Engine Size ≤3.5 tonnes (UK)",null,null,0.40362360007145492,null,null,null,null,0.25080000000000002,null,null,null,null,null,null,null,null,null,null,null,null,null,null,null,null,null,null,null,null,null,null,null,null,null,"WRI (2014)"]
[null,"road","Light Goods Vehicle (e.g. Van) - LPG - Engine Size ≤3.5 tonnes (UK)",null,null,0.42380478007502764,null,null,null,null,0.26334000000000002,null,null,null,null,null,null,null,null,null,null,null,null,null,null,null,null,null,null,null,null,null,null,null,null,null,"WRI (2014)"]
[null,"road","Light Goods Vehicle (e.g. Van) - CNG - Engine Size ≤3.5 tonnes (UK)",null,null,0.38344242006788215,null,null,null,null,0.23826,null,null,null,null,null,null,null,null,null,null,null,null,null,null,null,null,null,null,null,null,null,null,null,null,null,"WRI (2014)"]
[null,"road","Light Goods Vehicle (e.g. Van) - Fuel Unknown (UK)",null,null,0.40259361959280365,null,null,null,null,0.25015999999999999,null,null,null,null,null,null,null,null,null,null,null,null,null,null,null,null,null,null,null,null,null,null,null,null,null,"WRI (2014)"]
[null,"road","Motorbike - Engine Size ≤125 cc (UK)",null,null,0.13677818887588897,null,null,null,null,8.4989999999999996E-2,null,null,null,null,null,null,null,null,null,null,null,null,null,null,null,null,null,null,null,null,null,null,null,null,null,"WRI (2014)"]
[null,"road","Motorbike - Engine Size >125 and ≤500 cc (UK)",null,null,0.16601997840259683,null,null,null,null,0.10316,null,null,null,null,null,null,null,null,null,null,null,null,null,null,null,null,null,null,null,null,null,null,null,null,null,"WRI (2014)"]
[null,"road","Motorbike - Engine Size >500 cc (UK)",null,null,0.2208664388907754,null,null,null,null,0.13724,null,null,null,null,null,null,null,null,null,null,null,null,null,null,null,null,null,null,null,null,null,null,null,null,null,"WRI (2014)"]
[null,"road","Motorbike - Engine Size Unknown (UK)",null,null,0.18678052242541091,null,null,null,null,0.11606,null,null,null,null,null,null,null,null,null,null,null,null,null,null,null,null,null,null,null,null,null,null,null,null,null,"WRI (2014)"]
[null,"road","HGV - Rigid - Engine Size 3.5 - 7.5 tonnes - 0% Weight Laden (UK)",null,null,0.84913843742305328,null,null,null,null,0.52763000000000004,null,null,null,null,null,null,null,null,null,null,null,null,null,null,null,null,null,null,null,null,null,null,null,null,null,"WRI (2014)"]
[null,"road","HGV - Rigid - Engine Size 3.5 - 7.5 tonnes - 50% Weight Laden (UK)",null,null,0.92297516298636395,null,null,null,null,0.57350999999999996,null,null,null,null,null,null,null,null,null,null,null,null,null,null,null,null,null,null,null,null,null,null,null,null,null,"WRI (2014)"]
[null,"road","HGV - Rigid - Engine Size 3.5 - 7.5 tonnes - 100% Weight Laden (UK)",null,null,0.99681188854967484,null,null,null,null,0.61939,null,null,null,null,null,null,null,null,null,null,null,null,null,null,null,null,null,null,null,null,null,null,null,null,null,"WRI (2014)"]
[null,"road","HGV - Rigid - Engine Size 3.5 - 7.5 tonnes - Default 41% Weight Laden (UK)",null,null,0.90968197743377144,null,null,null,null,0.56525000000000003,null,null,null,null,null,null,null,null,null,null,null,null,null,null,null,null,null,null,null,null,null,null,null,null,null,"WRI (2014)"]
[null,"road","HGV - Rigid - Engine Size 7.5 - 17 tonnes - 0% Weight Laden (UK)",null,null,1.0802724942103832,null,null,null,null,0.67125000000000001,null,null,null,null,null,null,null,null,null,null,null,null,null,null,null,null,null,null,null,null,null,null,null,null,null,"WRI (2014)"]
[null,"road","HGV - Rigid - Engine Size 7.5 - 17 tonnes - 50% Weight Laden (UK)",null,null,1.2345925381133012,null,null,null,null,0.76714000000000004,null,null,null,null,null,null,null,null,null,null,null,null,null,null,null,null,null,null,null,null,null,null,null,null,null,"WRI (2014)"]
[null,"road","HGV - Rigid - Engine Size 7.5 - 17 tonnes - 100% Weight Laden (UK)",null,null,1.3889125820162189,null,null,null,null,0.86302999999999996,null,null,null,null,null,null,null,null,null,null,null,null,null,null,null,null,null,null,null,null,null,null,null,null,null,"WRI (2014)"]
[null,"road","HGV - Rigid - Engine Size 7.5 - 17 tonnes - Default 41% Weight Laden (UK)",null,null,1.2068152520796753,null,null,null,null,0.74987999999999999,null,null,null,null,null,null,null,null,null,null,null,null,null,null,null,null,null,null,null,null,null,null,null,null,null,"WRI (2014)"]
[null,"road","HGV - Rigid - Engine Size >17 tonnes - 0% Weight Laden (UK)",null,null,1.2844822175479704,null,null,null,null,0.79813999999999996,null,null,null,null,null,null,null,null,null,null,null,null,null,null,null,null,null,null,null,null,null,null,null,null,null,"WRI (2014)"]
[null,"road","HGV - Rigid - Engine Size >17 tonnes - 50% Weight Laden (UK)",null,null,1.5664393735787476,null,null,null,null,0.97333999999999998,null,null,null,null,null,null,null,null,null,null,null,null,null,null,null,null,null,null,null,null,null,null,null,null,null,"WRI (2014)"]
[null,"road","HGV - Rigid - Engine Size >17 tonnes - 100% Weight Laden (UK)",null,null,1.8483965296095246,null,null,null,null,1.1485399999999999,null,null,null,null,null,null,null,null,null,null,null,null,null,null,null,null,null,null,null,null,null,null,null,null,null,"WRI (2014)"]
[null,"road","HGV - Rigid - Engine Size >17 tonnes - Default 53% Weight Laden (UK)",null,null,1.5832570235817249,null,null,null,null,0.98379000000000005,null,null,null,null,null,null,null,null,null,null,null,null,null,null,null,null,null,null,null,null,null,null,null,null,null,"WRI (2014)"]
[null,"road","HGV - Rigid - Engine Size Unknown - % Weight Laden (UK)",null,null,1.3341948690878718,null,null,null,null,0.82903000000000004,null,null,null,null,null,null,null,null,null,null,null,null,null,null,null,null,null,null,null,null,null,null,null,null,null,"WRI (2014)"]
[null,"road","HGV - Articulated - Engine Size 3.5 - 33 tonnes - 0% Weight Laden (UK)",null,null,1.1138917007713587,null,null,null,null,0.69213999999999998,null,null,null,null,null,null,null,null,null,null,null,null,null,null,null,null,null,null,null,null,null,null,null,null,null,"WRI (2014)"]
[null,"road","HGV - Articulated - Engine Size 3.5 - 33 tonnes - 50% Weight Laden (UK)",null,null,1.3923726726866879,null,null,null,null,0.86517999999999995,null,null,null,null,null,null,null,null,null,null,null,null,null,null,null,null,null,null,null,null,null,null,null,null,null,"WRI (2014)"]
[null,"road","HGV - Articulated - Engine Size 3.5 - 33 tonnes - 100% Weight Laden (UK)",null,null,1.670853644602017,null,null,null,null,1.0382199999999999,null,null,null,null,null,null,null,null,null,null,null,null,null,null,null,null,null,null,null,null,null,null,null,null,null,"WRI (2014)"]
[null,"road","HGV - Articulated - Engine Size 3.5 - 33 tonnes - Default 45% Weight Laden (UK)",null,null,1.3645310128731465,null,null,null,null,0.84787999999999997,null,null,null,null,null,null,null,null,null,null,null,null,null,null,null,null,null,null,null,null,null,null,null,null,null,"WRI (2014)"]
[null,"road","HGV - Articulated - Engine Size >33 tonnes - 0% Weight Laden (UK)",null,null,1.1232098054141568,null,null,null,null,0.69793000000000005,null,null,null,null,null,null,null,null,null,null,null,null,null,null,null,null,null,null,null,null,null,null,null,null,null,"WRI (2014)"]
[null,"road","HGV - Articulated - Engine Size >33 tonnes - 50% Weight Laden (UK)",null,null,1.4976077094038827,null,null,null,null,0.93057000000000001,null,null,null,null,null,null,null,null,null,null,null,null,null,null,null,null,null,null,null,null,null,null,null,null,null,"WRI (2014)"]
[null,"road","HGV - Articulated - Engine Size >33 tonnes - 100% Weight Laden (UK)",null,null,1.8720056133936087,null,null,null,null,1.1632100000000001,null,null,null,null,null,null,null,null,null,null,null,null,null,null,null,null,null,null,null,null,null,null,null,null,null,"WRI (2014)"]
[null,"road","HGV - Articulated - Engine Size >33 tonnes - Default 61% Weight Laden (UK)",null,null,1.5799739608060241,null,null,null,null,0.98175000000000001,null,null,null,null,null,null,null,null,null,null,null,null,null,null,null,null,null,null,null,null,null,null,null,null,null,"WRI (2014)"]
[null,"road","HGV - Articulated - Engine Size Unknown (UK)",null,null,1.5594548184578938,null,null,null,null,0.96899999999999997,null,null,null,null,null,null,null,null,null,null,null,null,null,null,null,null,null,null,null,null,null,null,null,null,null,"WRI (2014)"]
[null,"road","HGV - Type Unknown (UK)",null,null,1.4407173814033807,null,null,null,null,0.89522000000000002,null,null,null,null,null,null,null,null,null,null,null,null,null,null,null,null,null,null,null,null,null,null,null,null,null,"WRI (2014)"]
[null,"road","Bus - Ethanol (Other)",null,null,1.1119999999999999,null,null,null,null,{"$f":"F257*kilometersTOmiles","v":0.69096455199999995},null,null,null,null,null,null,null,null,null,null,null,null,null,null,null,null,null,null,null,null,null,null,null,null,null,"WRI (2014)"]
[null,"road","Bus - Diesel (Other)",null,null,2.7381081081081082,null,null,null,null,1.7013809732432434,null,null,null,null,null,null,null,null,null,null,null,null,null,null,null,null,null,null,null,null,null,null,null,null,null,"WRI (2014)"]
[null,"road","Bus - Gasoline (Other)",null,null,1.7197469982000002,null,null,null,null,1.0686009120185322,null,null,null,null,null,null,null,null,null,null,null,null,null,null,null,null,null,null,null,null,null,null,null,null,null,"WRI (2014)"]
[null,"road","Passenger Car - Gasoline - Year 1984-1993 (Other)",null,null,0.38216599960000003,null,null,null,null,0.23746686933745162,null,null,null,null,null,null,null,null,null,null,null,null,null,null,null,null,null,null,null,null,null,null,null,null,null,"WRI (2014)"]
[null,"road","Passenger Car - Gasoline - Year 1994 (Other)",null,null,0.38216599960000003,null,null,null,null,0.23746686933745162,null,null,null,null,null,null,null,null,null,null,null,null,null,null,null,null,null,null,null,null,null,null,null,null,null,"WRI (2014)"]
[null,"road","Passenger Car - Gasoline - Year 1995 (Other)",null,null,0.38216599960000003,null,null,null,null,0.23746686933745162,null,null,null,null,null,null,null,null,null,null,null,null,null,null,null,null,null,null,null,null,null,null,null,null,null,"WRI (2014)"]
[null,"road","Passenger Car - Gasoline - Year 1996 (Other)",null,null,0.38216599960000003,null,null,null,null,0.23746686933745162,null,null,null,null,null,null,null,null,null,null,null,null,null,null,null,null,null,null,null,null,null,null,null,null,null,"WRI (2014)"]
[null,"road","Passenger Car - Gasoline - Year 1997 (Other)",null,null,0.38216599960000003,null,null,null,null,0.23746686933745162,null,null,null,null,null,null,null,null,null,null,null,null,null,null,null,null,null,null,null,null,null,null,null,null,null,"WRI (2014)"]
[null,"road","Passenger Car - Gasoline - Year 1998 (Other)",null,null,0.38216599960000003,null,null,null,null,0.23746686933745162,null,null,null,null,null,null,null,null,null,null,null,null,null,null,null,null,null,null,null,null,null,null,null,null,null,"WRI (2014)"]
[null,"road","Passenger Car - Gasoline - Year 1999 (Other)",null,null,0.38216599960000003,null,null,null,null,0.23746686933745162,null,null,null,null,null,null,null,null,null,null,null,null,null,null,null,null,null,null,null,null,null,null,null,null,null,"WRI (2014)"]
[null,"road","Passenger Car - Gasoline - Year 2000 (Other)",null,null,0.38216599960000003,null,null,null,null,0.23746686933745162,null,null,null,null,null,null,null,null,null,null,null,null,null,null,null,null,null,null,null,null,null,null,null,null,null,"WRI (2014)"]
[null,"road","Passenger Car - Gasoline - Year 2001 (Other)",null,null,0.38216599960000003,null,null,null,null,0.23746686933745162,null,null,null,null,null,null,null,null,null,null,null,null,null,null,null,null,null,null,null,null,null,null,null,null,null,"WRI (2014)"]
[null,"road","Passenger Car - Gasoline - Year 2002 (Other)",null,null,0.38216599960000003,null,null,null,null,0.23746686933745162,null,null,null,null,null,null,null,null,null,null,null,null,null,null,null,null,null,null,null,null,null,null,null,null,null,"WRI (2014)"]
[null,"road","Passenger Car - Gasoline - Year 2003 (Other)",null,null,0.38216599960000003,null,null,null,null,0.23746686933745162,null,null,null,null,null,null,null,null,null,null,null,null,null,null,null,null,null,null,null,null,null,null,null,null,null,"WRI (2014)"]
[null,"road","Passenger Car - Gasoline - Year 2004 (Other)",null,null,0.38216599960000003,null,null,null,null,0.23746686933745162,null,null,null,null,null,null,null,null,null,null,null,null,null,null,null,null,null,null,null,null,null,null,null,null,null,"WRI (2014)"]
[null,"road","Passenger Car - Gasoline - Year 2005-present (Other)",null,null,0.38216599960000003,null,null,null,null,0.23746686933745162,null,null,null,null,null,null,null,null,null,null,null,null,null,null,null,null,null,null,null,null,null,null,null,null,null,"WRI (2014)"]
[null,"road","Passenger Car - Diesel - Year 1960-1982 (Other)",null,null,0.4502666666666667,null,null,null,null,0.27978264893333338,null,null,null,null,null,null,null,null,null,null,null,null,null,null,null,null,null,null,null,null,null,null,null,null,null,"WRI (2014)"]
[null,"road","Passenger Car - Diesel - Year 1983-present (Other)",null,null,0.4502666666666667,null,null,null,null,0.27978264893333338,null,null,null,null,null,null,null,null,null,null,null,null,null,null,null,null,null,null,null,null,null,null,null,null,null,"WRI (2014)"]
[null,"road","Light Goods Vehicle - LPG (Other)",null,null,0.37654320987654322,null,null,null,null,0.23397303086419755,null,null,null,null,null,null,null,null,null,null,null,null,null,null,null,null,null,null,null,null,null,null,null,null,null,"WRI (2014)"]
[null,"road","Light Goods Vehicle - Ethanol (Other)",null,null,0.34320987654320989,null,null,null,null,0.21326066419753087,null,null,null,null,null,null,null,null,null,null,null,null,null,null,null,null,null,null,null,null,null,null,null,null,null,"WRI (2014)"]
[null,"road","Light Goods Vehicle - Gasoline - Year 1987-1993 (Other)",null,null,0.53078611055555558,null,null,null,null,0.32981509630201611,null,null,null,null,null,null,null,null,null,null,null,null,null,null,null,null,null,null,null,null,null,null,null,null,null,"WRI (2014)"]
[null,"road","Light Goods Vehicle - Gasoline - Year 1994 (Other)",null,null,0.53078611055555558,null,null,null,null,0.32981509630201611,null,null,null,null,null,null,null,null,null,null,null,null,null,null,null,null,null,null,null,null,null,null,null,null,null,"WRI (2014)"]
[null,"road","Light Goods Vehicle - Gasoline - Year 1995 (Other)",null,null,0.53078611055555558,null,null,null,null,0.32981509630201611,null,null,null,null,null,null,null,null,null,null,null,null,null,null,null,null,null,null,null,null,null,null,null,null,null,"WRI (2014)"]
[null,"road","Light Goods Vehicle - Gasoline - Year 1996 (Other)",null,null,0.53078611055555558,null,null,null,null,0.32981509630201611,null,null,null,null,null,null,null,null,null,null,null,null,null,null,null,null,null,null,null,null,null,null,null,null,null,"WRI (2014)"]
[null,"road","Light Goods Vehicle - Gasoline - Year 1997 (Other)",null,null,0.53078611055555558,null,null,null,null,0.32981509630201611,null,null,null,null,null,null,null,null,null,null,null,null,null,null,null,null,null,null,null,null,null,null,null,null,null,"WRI (2014)"]
[null,"road","Light Goods Vehicle - Gasoline - Year 1998 (Other)",null,null,0.53078611055555558,null,null,null,null,0.32981509630201611,null,null,null,null,null,null,null,null,null,null,null,null,null,null,null,null,null,null,null,null,null,null,null,null,null,"WRI (2014)"]
[null,"road","Light Goods Vehicle - Gasoline - Year 1999 (Other)",null,null,0.53078611055555558,null,null,null,null,0.32981509630201611,null,null,null,null,null,null,null,null,null,null,null,null,null,null,null,null,null,null,null,null,null,null,null,null,null,"WRI (2014)"]
[null,"road","Light Goods Vehicle - Gasoline - Year 2000 (Other)",null,null,0.53078611055555558,null,null,null,null,0.32981509630201611,null,null,null,null,null,null,null,null,null,null,null,null,null,null,null,null,null,null,null,null,null,null,null,null,null,"WRI (2014)"]
[null,"road","Light Goods Vehicle - Gasoline - Year 2001 (Other)",null,null,0.53078611055555558,null,null,null,null,0.32981509630201611,null,null,null,null,null,null,null,null,null,null,null,null,null,null,null,null,null,null,null,null,null,null,null,null,null,"WRI (2014)"]
[null,"road","Light Goods Vehicle - Gasoline - Year 2002 (Other)",null,null,0.53078611055555558,null,null,null,null,0.32981509630201611,null,null,null,null,null,null,null,null,null,null,null,null,null,null,null,null,null,null,null,null,null,null,null,null,null,"WRI (2014)"]
[null,"road","Light Goods Vehicle - Gasoline - Year 2003 (Other)",null,null,0.53078611055555558,null,null,null,null,0.32981509630201611,null,null,null,null,null,null,null,null,null,null,null,null,null,null,null,null,null,null,null,null,null,null,null,null,null,"WRI (2014)"]
[null,"road","Light Goods Vehicle - Gasoline - Year 2004 (Other)",null,null,0.53078611055555558,null,null,null,null,0.32981509630201611,null,null,null,null,null,null,null,null,null,null,null,null,null,null,null,null,null,null,null,null,null,null,null,null,null,"WRI (2014)"]
[null,"road","Light Goods Vehicle - Gasoline - Year 2005-present (Other)",null,null,0.53078611055555558,null,null,null,null,{"$f":"F289*kilometersTOmiles","v":0.32981509630201611},null,null,null,null,null,null,null,null,null,null,null,null,null,null,null,null,null,null,null,null,null,null,null,null,null,"WRI (2014)"]
[null,"road","Light Goods Vehicle - Diesel - Year 1960-1982 (Other)",null,null,0.62537037037037047,null,null,null,null,0.38858701240740745,null,null,null,null,null,null,null,null,null,null,null,null,null,null,null,null,null,null,null,null,null,null,null,null,null,"WRI (2014)"]
[null,"road","Light Goods Vehicle - Diesel - Year 1983-1995 (Other)",null,null,0.62537037037037047,null,null,null,null,0.38858701240740745,null,null,null,null,null,null,null,null,null,null,null,null,null,null,null,null,null,null,null,null,null,null,null,null,null,"WRI (2014)"]
[null,"road","Light Goods Vehicle - Diesel - Year 1996-present (Other)",null,null,0.62537037037037047,null,null,null,null,0.38858701240740745,null,null,null,null,null,null,null,null,null,null,null,null,null,null,null,null,null,null,null,null,null,null,null,null,null,"WRI (2014)"]
[null,"road","Heavy Duty Vehicle - Rigid - Gasoline - Year 1985-1986 (Other)",null,null,0.97712897624999995,null,null,null,null,0.60715960910143874,null,null,null,null,null,null,null,null,null,null,null,null,null,null,null,null,null,null,null,null,null,null,null,null,null,"WRI (2014)"]
[null,"road","Heavy Duty Vehicle - Rigid - Gasoline - Year 1987 (Other)",null,null,0.97712897624999995,null,null,null,null,0.60715960910143874,null,null,null,null,null,null,null,null,null,null,null,null,null,null,null,null,null,null,null,null,null,null,null,null,null,"WRI (2014)"]
[null,"road","Heavy Duty Vehicle - Rigid - Gasoline - Year 1988-1989 (Other)",null,null,0.97712897624999995,null,null,null,null,0.60715960910143874,null,null,null,null,null,null,null,null,null,null,null,null,null,null,null,null,null,null,null,null,null,null,null,null,null,"WRI (2014)"]
[null,"road","Heavy Duty Vehicle - Rigid - Gasoline - Year 1990-1995 (Other)",null,null,0.97712897624999995,null,null,null,null,0.60715960910143874,null,null,null,null,null,null,null,null,null,null,null,null,null,null,null,null,null,null,null,null,null,null,null,null,null,"WRI (2014)"]
[null,"road","Heavy Duty Vehicle - Rigid - Gasoline - Year 1996 (Other)",null,null,0.97712897624999995,null,null,null,null,0.60715960910143874,null,null,null,null,null,null,null,null,null,null,null,null,null,null,null,null,null,null,null,null,null,null,null,null,null,"WRI (2014)"]
[null,"road","Heavy Duty Vehicle - Rigid - Gasoline - Year 1997 (Other)",null,null,0.97712897624999995,null,null,null,null,0.60715960910143874,null,null,null,null,null,null,null,null,null,null,null,null,null,null,null,null,null,null,null,null,null,null,null,null,null,"WRI (2014)"]
[null,"road","Heavy Duty Vehicle - Rigid - Gasoline - Year 1998 (Other)",null,null,0.97712897624999995,null,null,null,null,0.60715960910143874,null,null,null,null,null,null,null,null,null,null,null,null,null,null,null,null,null,null,null,null,null,null,null,null,null,"WRI (2014)"]
[null,"road","Heavy Duty Vehicle - Rigid - Gasoline - Year 1999 (Other)",null,null,0.97712897624999995,null,null,null,null,0.60715960910143874,null,null,null,null,null,null,null,null,null,null,null,null,null,null,null,null,null,null,null,null,null,null,null,null,null,"WRI (2014)"]
[null,"road","Heavy Duty Vehicle - Rigid - Gasoline - Year 2000 (Other)",null,null,0.97712897624999995,null,null,null,null,0.60715960910143874,null,null,null,null,null,null,null,null,null,null,null,null,null,null,null,null,null,null,null,null,null,null,null,null,null,"WRI (2014)"]
[null,"road","Heavy Duty Vehicle - Rigid - Gasoline - Year 2001 (Other)",null,null,0.97712897624999995,null,null,null,null,0.60715960910143874,null,null,null,null,null,null,null,null,null,null,null,null,null,null,null,null,null,null,null,null,null,null,null,null,null,"WRI (2014)"]
[null,"road","Heavy Duty Vehicle - Rigid - Gasoline - Year 2002 (Other)",null,null,0.97712897624999995,null,null,null,null,0.60715960910143874,null,null,null,null,null,null,null,null,null,null,null,null,null,null,null,null,null,null,null,null,null,null,null,null,null,"WRI (2014)"]
[null,"road","Heavy Duty Vehicle - Rigid - Gasoline - Year 2003 (Other)",null,null,0.97712897624999995,null,null,null,null,0.60715960910143874,null,null,null,null,null,null,null,null,null,null,null,null,null,null,null,null,null,null,null,null,null,null,null,null,null,"WRI (2014)"]
[null,"road","Heavy Duty Vehicle - Rigid - Gasoline - Year 2004 (Other)",null,null,0.97712897624999995,null,null,null,null,0.60715960910143874,null,null,null,null,null,null,null,null,null,null,null,null,null,null,null,null,null,null,null,null,null,null,null,null,null,"WRI (2014)"]
[null,"road","Heavy Duty Vehicle - Rigid - Gasoline - Year 2005-present (Other)",null,null,0.97712897624999995,null,null,null,null,0.60715960910143874,null,null,null,null,null,null,null,null,null,null,null,null,null,null,null,null,null,null,null,null,null,null,null,null,null,"WRI (2014)"]
[null,"road","Heavy Duty Vehicle - Rigid - Diesel - Year 1960-present (Other)",null,null,1.1512499999999999,null,null,null,null,0.71535336374999992,null,null,null,null,null,null,null,null,null,null,null,null,null,null,null,null,null,null,null,null,null,null,null,null,null,"WRI (2014)"]
[null,"road","Heavy Duty Vehicle - Rigid - LNG (Other)",null,null,0.50681818181818172,null,null,null,null,0.31492212045454537,null,null,null,null,null,null,null,null,null,null,null,null,null,null,null,null,null,null,null,null,null,null,null,null,null,"WRI (2014)"]
[null,"road","Heavy Duty Vehicle - Rigid - LPG (Other)",null,null,0.69318181818181812,null,null,null,null,0.43072307954545452,null,null,null,null,null,null,null,null,null,null,null,null,null,null,null,null,null,null,null,null,null,null,null,null,null,"WRI (2014)"]
[null,"road","Heavy Duty Vehicle - Rigid - Ethanol (Other)",null,null,0.63181818181818172,null,null,null,null,0.39259349545454542,null,null,null,null,null,null,null,null,null,null,null,null,null,null,null,null,null,null,null,null,null,null,null,null,null,"WRI (2014)"]
[null,"road","Heavy Duty Vehicle - Articulated - Gasoline - Year 1985-1986 (Other)",null,null,1.4574127103389831,null,null,null,null,0.90559399323604428,null,null,null,null,null,null,null,null,null,null,null,null,null,null,null,null,null,null,null,null,null,null,null,null,null,"WRI (2014)"]
[null,"road","Heavy Duty Vehicle - Articulated - Gasoline - Year 1987 (Other)",null,null,1.4574127103389831,null,null,null,null,0.90559399323604428,null,null,null,null,null,null,null,null,null,null,null,null,null,null,null,null,null,null,null,null,null,null,null,null,null,"WRI (2014)"]
[null,"road","Heavy Duty Vehicle - Articulated - Gasoline - Year 1988-1989 (Other)",null,null,1.4574127103389831,null,null,null,null,0.90559399323604428,null,null,null,null,null,null,null,null,null,null,null,null,null,null,null,null,null,null,null,null,null,null,null,null,null,"WRI (2014)"]
[null,"road","Heavy Duty Vehicle - Articulated - Gasoline - Year 1990-1995 (Other)",null,null,1.4574127103389831,null,null,null,null,0.90559399323604428,null,null,null,null,null,null,null,null,null,null,null,null,null,null,null,null,null,null,null,null,null,null,null,null,null,"WRI (2014)"]
[null,"road","Heavy Duty Vehicle - Articulated - Gasoline - Year 1996 (Other)",null,null,1.4574127103389831,null,null,null,null,0.90559399323604428,null,null,null,null,null,null,null,null,null,null,null,null,null,null,null,null,null,null,null,null,null,null,null,null,null,"WRI (2014)"]
[null,"road","Heavy Duty Vehicle - Articulated - Gasoline - Year 1997 (Other)",null,null,1.4574127103389831,null,null,null,null,0.90559399323604428,null,null,null,null,null,null,null,null,null,null,null,null,null,null,null,null,null,null,null,null,null,null,null,null,null,"WRI (2014)"]
[null,"road","Heavy Duty Vehicle - Articulated - Gasoline - Year 1998 (Other)",null,null,1.4574127103389831,null,null,null,null,0.90559399323604428,null,null,null,null,null,null,null,null,null,null,null,null,null,null,null,null,null,null,null,null,null,null,null,null,null,"WRI (2014)"]
[null,"road","Heavy Duty Vehicle - Articulated - Gasoline - Year 1999 (Other)",null,null,1.4574127103389831,null,null,null,null,0.90559399323604428,null,null,null,null,null,null,null,null,null,null,null,null,null,null,null,null,null,null,null,null,null,null,null,null,null,"WRI (2014)"]
[null,"road","Heavy Duty Vehicle - Articulated - Gasoline - Year 2000 (Other)",null,null,1.4574127103389831,null,null,null,null,0.90559399323604428,null,null,null,null,null,null,null,null,null,null,null,null,null,null,null,null,null,null,null,null,null,null,null,null,null,"WRI (2014)"]
[null,"road","Heavy Duty Vehicle - Articulated - Gasoline - Year 2001 (Other)",null,null,1.4574127103389831,null,null,null,null,0.90559399323604428,null,null,null,null,null,null,null,null,null,null,null,null,null,null,null,null,null,null,null,null,null,null,null,null,null,"WRI (2014)"]
[null,"road","Heavy Duty Vehicle - Articulated - Gasoline - Year 2002 (Other)",null,null,1.4574127103389831,null,null,null,null,{"$f":"F321*kilometersTOmiles","v":0.90559399323604428},null,null,null,null,null,null,null,null,null,null,null,null,null,null,null,null,null,null,null,null,null,null,null,null,null,"WRI (2014)"]
[null,"road","Heavy Duty Vehicle - Articulated - Gasoline - Year 2003 (Other)",null,null,1.4574127103389831,null,null,null,null,0.90559399323604428,null,null,null,null,null,null,null,null,null,null,null,null,null,null,null,null,null,null,null,null,null,null,null,null,null,"WRI (2014)"]
[null,"road","Heavy Duty Vehicle - Articulated - Gasoline - Year 2004 (Other)",null,null,1.4574127103389831,null,null,null,null,0.90559399323604428,null,null,null,null,null,null,null,null,null,null,null,null,null,null,null,null,null,null,null,null,null,null,null,null,null,"WRI (2014)"]
[null,"road","Heavy Duty Vehicle - Articulated - Gasoline - Year 2005-present (Other)",null,null,1.4574127103389831,null,null,null,null,0.90559399323604428,null,null,null,null,null,null,null,null,null,null,null,null,null,null,null,null,null,null,null,null,null,null,null,null,null,"WRI (2014)"]
[null,"road","Heavy Duty Vehicle - Articulated - Diesel - Year 1960-present (Other)",null,null,1.7171186440677966,null,null,null,null,1.0669677289830508,null,null,null,null,null,null,null,null,null,null,null,null,null,null,null,null,null,null,null,null,null,null,null,null,null,"WRI (2014)"]
[null,"road","Heavy Duty Vehicle - Articulated - LNG (Other)",null,null,0.75593220338983047,null,null,null,null,0.46971434915254234,null,null,null,null,null,null,null,null,null,null,null,null,null,null,null,null,null,null,null,null,null,null,null,null,null,"WRI (2014)"]
[null,"road","Heavy Duty Vehicle - Articulated - LPG (Other)",null,null,1.0338983050847457,null,null,null,null,0.64243442372881354,null,null,null,null,null,null,null,null,null,null,null,null,null,null,null,null,null,null,null,null,null,null,null,null,null,"WRI (2014)"]
[null,"road","Heavy Duty Vehicle - Articulated - Ethanol (Other)",null,null,0.94237288135593211,null,null,null,null,0.5855631796610169,null,null,null,null,null,null,null,null,null,null,null,null,null,null,null,null,null,null,null,null,null,null,null,null,null,"WRI (2014)"]
[null,"road","Motorbike - Non-Catalyst Control (Other)",null,null,0.20261999999999999,null,null,null,null,0.12590219202,null,null,null,null,null,null,null,null,null,null,null,null,null,null,null,null,null,null,null,null,null,null,null,null,null,"WRI (2014)"]
[null,"road","Motorbike - Uncontrolled (Other)",null,null,0.20261999999999999,null,null,null,null,0.12590219202,null,null,null,null,null,null,null,null,null,null,null,null,null,null,null,null,null,null,null,null,null,null,null,null,null,"WRI (2014)"]
[null,"road","Motorbike - Control Unknown (Other)",null,null,0.20261999999999999,null,null,null,null,0.12590219202,null,null,null,null,null,null,null,null,null,null,null,null,null,null,null,null,null,null,null,null,null,null,null,null,null,"WRI (2014)"]
[null,"road","Bus - Ethanol (US)",null,null,1.1119999999999999,null,null,null,null,0.69096455199999995,null,null,null,null,null,null,null,null,null,null,null,null,null,null,null,null,null,null,null,null,null,null,null,null,null,"WRI (2014)"]
[null,"road","Bus - Diesel (US)",null,null,2.7432432432432434,null,null,null,null,1.7045717972972974,null,null,null,null,null,null,null,null,null,null,null,null,null,null,null,null,null,null,null,null,null,null,null,null,null,"WRI (2014)"]
[null,"road","Bus - Gasoline (US)",null,null,1.762,null,null,null,null,1.094855702,null,null,null,null,null,null,null,null,null,null,null,null,null,null,null,null,null,null,null,null,null,null,null,null,null,"WRI (2014)"]
[null,"road","Passenger Car - Gasoline - Year 1984-1993 (US)",null,null,0.3915555555555556,null,null,null,null,0.24330126711111114,null,null,null,null,null,null,null,null,null,null,null,null,null,null,null,null,null,null,null,null,null,null,null,null,null,"WRI (2014)"]
[null,"road","Passenger Car - Gasoline - Year 1994 (US)",null,null,0.3915555555555556,null,null,null,null,0.24330126711111114,null,null,null,null,null,null,null,null,null,null,null,null,null,null,null,null,null,null,null,null,null,null,null,null,null,"WRI (2014)"]
[null,"road","Passenger Car - Gasoline - Year 1995 (US)",null,null,0.3915555555555556,null,null,null,null,0.24330126711111114,null,null,null,null,null,null,null,null,null,null,null,null,null,null,null,null,null,null,null,null,null,null,null,null,null,"WRI (2014)"]
[null,"road","Passenger Car - Gasoline - Year 1996 (US)",null,null,0.3915555555555556,null,null,null,null,0.24330126711111114,null,null,null,null,null,null,null,null,null,null,null,null,null,null,null,null,null,null,null,null,null,null,null,null,null,"WRI (2014)"]
[null,"road","Passenger Car - Gasoline - Year 1997 (US)",null,null,0.3915555555555556,null,null,null,null,0.24330126711111114,null,null,null,null,null,null,null,null,null,null,null,null,null,null,null,null,null,null,null,null,null,null,null,null,null,"WRI (2014)"]
[null,"road","Passenger Car - Gasoline - Year 1998 (US)",null,null,0.3915555555555556,null,null,null,null,0.24330126711111114,null,null,null,null,null,null,null,null,null,null,null,null,null,null,null,null,null,null,null,null,null,null,null,null,null,"WRI (2014)"]
[null,"road","Passenger Car - Gasoline - Year 1999 (US)",null,null,0.3915555555555556,null,null,null,null,0.24330126711111114,null,null,null,null,null,null,null,null,null,null,null,null,null,null,null,null,null,null,null,null,null,null,null,null,null,"WRI (2014)"]
[null,"road","Passenger Car - Gasoline - Year 2000 (US)",null,null,0.3915555555555556,null,null,null,null,0.24330126711111114,null,null,null,null,null,null,null,null,null,null,null,null,null,null,null,null,null,null,null,null,null,null,null,null,null,"WRI (2014)"]
[null,"road","Passenger Car - Gasoline - Year 2001 (US)",null,null,0.3915555555555556,null,null,null,null,0.24330126711111114,null,null,null,null,null,null,null,null,null,null,null,null,null,null,null,null,null,null,null,null,null,null,null,null,null,"WRI (2014)"]
[null,"road","Passenger Car - Gasoline - Year 2002 (US)",null,null,0.3915555555555556,null,null,null,null,0.24330126711111114,null,null,null,null,null,null,null,null,null,null,null,null,null,null,null,null,null,null,null,null,null,null,null,null,null,"WRI (2014)"]
[null,"road","Passenger Car - Gasoline - Year 2003 (US)",null,null,0.3915555555555556,null,null,null,null,0.24330126711111114,null,null,null,null,null,null,null,null,null,null,null,null,null,null,null,null,null,null,null,null,null,null,null,null,null,"WRI (2014)"]
[null,"road","Passenger Car - Gasoline - Year 2004 (US)",null,null,0.3915555555555556,null,null,null,null,0.24330126711111114,null,null,null,null,null,null,null,null,null,null,null,null,null,null,null,null,null,null,null,null,null,null,null,null,null,"WRI (2014)"]
[null,"road","Passenger Car - Gasoline - Year 2005-present (US)",null,null,0.3915555555555556,null,null,null,null,0.24330126711111114,null,null,null,null,null,null,null,null,null,null,null,null,null,null,null,null,null,null,null,null,null,null,null,null,null,"WRI (2014)"]
[null,"road","Passenger Car - Diesel - Year 1960-1982 (US)",null,null,0.45111111111111113,null,null,null,null,0.28030736222222224,null,null,null,null,null,null,null,null,null,null,null,null,null,null,null,null,null,null,null,null,null,null,null,null,null,"WRI (2014)"]
[null,"road","Passenger Car - Diesel - Year 1983-present (US)",null,null,0.45111111111111113,null,null,null,null,0.28030736222222224,null,null,null,null,null,null,null,null,null,null,null,null,null,null,null,null,null,null,null,null,null,null,null,null,null,"WRI (2014)"]
[null,"road","Light Goods Vehicle - LPG (US)",null,null,0.35740740740740745,null,null,null,null,0.22208259814814818,null,null,null,null,null,null,null,null,null,null,null,null,null,null,null,null,null,null,null,null,null,null,null,null,null,"WRI (2014)"]
[null,"road","Light Goods Vehicle - Ethanol (US)",null,null,0.34320987654320989,null,null,null,null,0.21326066419753087,null,null,null,null,null,null,null,null,null,null,null,null,null,null,null,null,null,null,null,null,null,null,null,null,null,"WRI (2014)"]
[null,"road","Light Goods Vehicle - Gasoline - Year 1987-1993 (US)",null,null,0.54382716049382718,null,null,null,null,0.33791842654320992,null,null,null,null,null,null,null,null,null,null,null,null,null,null,null,null,null,null,null,null,null,null,null,null,null,"WRI (2014)"]
[null,"road","Light Goods Vehicle - Gasoline - Year 1994 (US)",null,null,0.54382716049382718,null,null,null,null,{"$f":"F353*kilometersTOmiles","v":0.33791842654320992},null,null,null,null,null,null,null,null,null,null,null,null,null,null,null,null,null,null,null,null,null,null,null,null,null,"WRI (2014)"]
[null,"road","Light Goods Vehicle - Gasoline - Year 1995 (US)",null,null,0.54382716049382718,null,null,null,null,0.33791842654320992,null,null,null,null,null,null,null,null,null,null,null,null,null,null,null,null,null,null,null,null,null,null,null,null,null,"WRI (2014)"]
[null,"road","Light Goods Vehicle - Gasoline - Year 1996 (US)",null,null,0.54382716049382718,null,null,null,null,0.33791842654320992,null,null,null,null,null,null,null,null,null,null,null,null,null,null,null,null,null,null,null,null,null,null,null,null,null,"WRI (2014)"]
[null,"road","Light Goods Vehicle - Gasoline - Year 1997 (US)",null,null,0.54382716049382718,null,null,null,null,0.33791842654320992,null,null,null,null,null,null,null,null,null,null,null,null,null,null,null,null,null,null,null,null,null,null,null,null,null,"WRI (2014)"]
[null,"road","Light Goods Vehicle - Gasoline - Year 1998 (US)",null,null,0.54382716049382718,null,null,null,null,0.33791842654320992,null,null,null,null,null,null,null,null,null,null,null,null,null,null,null,null,null,null,null,null,null,null,null,null,null,"WRI (2014)"]
[null,"road","Light Goods Vehicle - Gasoline - Year 1999 (US)",null,null,0.54382716049382718,null,null,null,null,0.33791842654320992,null,null,null,null,null,null,null,null,null,null,null,null,null,null,null,null,null,null,null,null,null,null,null,null,null,"WRI (2014)"]
[null,"road","Light Goods Vehicle - Gasoline - Year 2000 (US)",null,null,0.54382716049382718,null,null,null,null,0.33791842654320992,null,null,null,null,null,null,null,null,null,null,null,null,null,null,null,null,null,null,null,null,null,null,null,null,null,"WRI (2014)"]
[null,"road","Light Goods Vehicle - Gasoline - Year 2001 (US)",null,null,0.54382716049382718,null,null,null,null,0.33791842654320992,null,null,null,null,null,null,null,null,null,null,null,null,null,null,null,null,null,null,null,null,null,null,null,null,null,"WRI (2014)"]
[null,"road","Light Goods Vehicle - Gasoline - Year 2002 (US)",null,null,0.54382716049382718,null,null,null,null,0.33791842654320992,null,null,null,null,null,null,null,null,null,null,null,null,null,null,null,null,null,null,null,null,null,null,null,null,null,"WRI (2014)"]
[null,"road","Light Goods Vehicle - Gasoline - Year 2003 (US)",null,null,0.54382716049382718,null,null,null,null,0.33791842654320992,null,null,null,null,null,null,null,null,null,null,null,null,null,null,null,null,null,null,null,null,null,null,null,null,null,"WRI (2014)"]
[null,"road","Light Goods Vehicle - Gasoline - Year 2004 (US)",null,null,0.54382716049382718,null,null,null,null,0.33791842654320992,null,null,null,null,null,null,null,null,null,null,null,null,null,null,null,null,null,null,null,null,null,null,null,null,null,"WRI (2014)"]
[null,"road","Light Goods Vehicle - Gasoline - Year 2005-present (US)",null,null,0.54382716049382718,null,null,null,null,0.33791842654320992,null,null,null,null,null,null,null,null,null,null,null,null,null,null,null,null,null,null,null,null,null,null,null,null,null,"WRI (2014)"]
[null,"road","Light Goods Vehicle - Diesel - Year 1960-1982 (US)",null,null,0.62654320987654322,null,null,null,null,0.38931578086419755,null,null,null,null,null,null,null,null,null,null,null,null,null,null,null,null,null,null,null,null,null,null,null,null,null,"WRI (2014)"]
[null,"road","Light Goods Vehicle - Diesel - Year 1983-1995 (US)",null,null,0.62654320987654322,null,null,null,null,0.38931578086419755,null,null,null,null,null,null,null,null,null,null,null,null,null,null,null,null,null,null,null,null,null,null,null,null,null,"WRI (2014)"]
[null,"road","Light Goods Vehicle - Diesel - Year 1996-present (US)",null,null,0.62654320987654322,null,null,null,null,0.38931578086419755,null,null,null,null,null,null,null,null,null,null,null,null,null,null,null,null,null,null,null,null,null,null,null,null,null,"WRI (2014)"]
[null,"road","Heavy Duty Vehicle - Rigid - Gasoline - Year 1985-1986 (US)",null,null,1.0011363636363637,null,null,null,null,0.62207710340909095,null,null,null,null,null,null,null,null,null,null,null,null,null,null,null,null,null,null,null,null,null,null,null,null,null,"WRI (2014)"]
[null,"road","Heavy Duty Vehicle - Rigid - Gasoline - Year 1987 (US)",null,null,1.0011363636363637,null,null,null,null,0.62207710340909095,null,null,null,null,null,null,null,null,null,null,null,null,null,null,null,null,null,null,null,null,null,null,null,null,null,"WRI (2014)"]
[null,"road","Heavy Duty Vehicle - Rigid - Gasoline - Year 1988-1989 (US)",null,null,1.0011363636363637,null,null,null,null,0.62207710340909095,null,null,null,null,null,null,null,null,null,null,null,null,null,null,null,null,null,null,null,null,null,null,null,null,null,"WRI (2014)"]
[null,"road","Heavy Duty Vehicle - Rigid - Gasoline - Year 1990-1995 (US)",null,null,1.0011363636363637,null,null,null,null,0.62207710340909095,null,null,null,null,null,null,null,null,null,null,null,null,null,null,null,null,null,null,null,null,null,null,null,null,null,"WRI (2014)"]
[null,"road","Heavy Duty Vehicle - Rigid - Gasoline - Year 1996 (US)",null,null,1.0011363636363637,null,null,null,null,0.62207710340909095,null,null,null,null,null,null,null,null,null,null,null,null,null,null,null,null,null,null,null,null,null,null,null,null,null,"WRI (2014)"]
[null,"road","Heavy Duty Vehicle - Rigid - Gasoline - Year 1997 (US)",null,null,1.0011363636363637,null,null,null,null,0.62207710340909095,null,null,null,null,null,null,null,null,null,null,null,null,null,null,null,null,null,null,null,null,null,null,null,null,null,"WRI (2014)"]
[null,"road","Heavy Duty Vehicle - Rigid - Gasoline - Year 1998 (US)",null,null,1.0011363636363637,null,null,null,null,0.62207710340909095,null,null,null,null,null,null,null,null,null,null,null,null,null,null,null,null,null,null,null,null,null,null,null,null,null,"WRI (2014)"]
[null,"road","Heavy Duty Vehicle - Rigid - Gasoline - Year 1999 (US)",null,null,1.0011363636363637,null,null,null,null,0.62207710340909095,null,null,null,null,null,null,null,null,null,null,null,null,null,null,null,null,null,null,null,null,null,null,null,null,null,"WRI (2014)"]
[null,"road","Heavy Duty Vehicle - Rigid - Gasoline - Year 2000 (US)",null,null,1.0011363636363637,null,null,null,null,0.62207710340909095,null,null,null,null,null,null,null,null,null,null,null,null,null,null,null,null,null,null,null,null,null,null,null,null,null,"WRI (2014)"]
[null,"road","Heavy Duty Vehicle - Rigid - Gasoline - Year 2001 (US)",null,null,1.0011363636363637,null,null,null,null,0.62207710340909095,null,null,null,null,null,null,null,null,null,null,null,null,null,null,null,null,null,null,null,null,null,null,null,null,null,"WRI (2014)"]
[null,"road","Heavy Duty Vehicle - Rigid - Gasoline - Year 2002 (US)",null,null,1.0011363636363637,null,null,null,null,0.62207710340909095,null,null,null,null,null,null,null,null,null,null,null,null,null,null,null,null,null,null,null,null,null,null,null,null,null,"WRI (2014)"]
[null,"road","Heavy Duty Vehicle - Rigid - Gasoline - Year 2003 (US)",null,null,1.0011363636363637,null,null,null,null,0.62207710340909095,null,null,null,null,null,null,null,null,null,null,null,null,null,null,null,null,null,null,null,null,null,null,null,null,null,"WRI (2014)"]
[null,"road","Heavy Duty Vehicle - Rigid - Gasoline - Year 2004 (US)",null,null,1.0011363636363637,null,null,null,null,0.62207710340909095,null,null,null,null,null,null,null,null,null,null,null,null,null,null,null,null,null,null,null,null,null,null,null,null,null,"WRI (2014)"]
[null,"road","Heavy Duty Vehicle - Rigid - Gasoline - Year 2005-present (US)",null,null,1.0011363636363637,null,null,null,null,0.62207710340909095,null,null,null,null,null,null,null,null,null,null,null,null,null,null,null,null,null,null,null,null,null,null,null,null,null,"WRI (2014)"]
[null,"road","Heavy Duty Vehicle - Rigid - Diesel - Year 1960-present (US)",null,null,1.1534090909090908,null,null,null,null,0.71669496022727264,null,null,null,null,null,null,null,null,null,null,null,null,null,null,null,null,null,null,null,null,null,null,null,null,null,"WRI (2014)"]
[null,"road","Heavy Duty Vehicle - Rigid - LNG (US)",null,null,0.50681818181818172,null,null,null,null,0.31492212045454537,null,null,null,null,null,null,null,null,null,null,null,null,null,null,null,null,null,null,null,null,null,null,null,null,null,"WRI (2014)"]
[null,"road","Heavy Duty Vehicle - Rigid - LPG (US)",null,null,0.65795454545454546,null,null,null,null,0.40883387386363634,null,null,null,null,null,null,null,null,null,null,null,null,null,null,null,null,null,null,null,null,null,null,null,null,null,"WRI (2014)"]
[null,"road","Heavy Duty Vehicle - Rigid - Ethanol (US)",null,null,0.63181818181818172,null,null,null,null,{"$f":"F385*kilometersTOmiles","v":0.39259349545454542},null,null,null,null,null,null,null,null,null,null,null,null,null,null,null,null,null,null,null,null,null,null,null,null,null,"WRI (2014)"]
[null,"road","Heavy Duty Vehicle - Articulated - Gasoline - Year 1985-1986 (US)",null,null,1.4932203389830507,null,null,null,null,0.9278438152542372,null,null,null,null,null,null,null,null,null,null,null,null,null,null,null,null,null,null,null,null,null,null,null,null,null,"WRI (2014)"]
[null,"road","Heavy Duty Vehicle - Articulated - Gasoline - Year 1987 (US)",null,null,1.4932203389830507,null,null,null,null,0.9278438152542372,null,null,null,null,null,null,null,null,null,null,null,null,null,null,null,null,null,null,null,null,null,null,null,null,null,"WRI (2014)"]
[null,"road","Heavy Duty Vehicle - Articulated - Gasoline - Year 1988-1989 (US)",null,null,1.4932203389830507,null,null,null,null,0.9278438152542372,null,null,null,null,null,null,null,null,null,null,null,null,null,null,null,null,null,null,null,null,null,null,null,null,null,"WRI (2014)"]
[null,"road","Heavy Duty Vehicle - Articulated - Gasoline - Year 1990-1995 (US)",null,null,1.4932203389830507,null,null,null,null,0.9278438152542372,null,null,null,null,null,null,null,null,null,null,null,null,null,null,null,null,null,null,null,null,null,null,null,null,null,"WRI (2014)"]
[null,"road","Heavy Duty Vehicle - Articulated - Gasoline - Year 1996 (US)",null,null,1.4932203389830507,null,null,null,null,0.9278438152542372,null,null,null,null,null,null,null,null,null,null,null,null,null,null,null,null,null,null,null,null,null,null,null,null,null,"WRI (2014)"]
[null,"road","Heavy Duty Vehicle - Articulated - Gasoline - Year 1997 (US)",null,null,1.4932203389830507,null,null,null,null,0.9278438152542372,null,null,null,null,null,null,null,null,null,null,null,null,null,null,null,null,null,null,null,null,null,null,null,null,null,"WRI (2014)"]
[null,"road","Heavy Duty Vehicle - Articulated - Gasoline - Year 1998 (US)",null,null,1.4932203389830507,null,null,null,null,0.9278438152542372,null,null,null,null,null,null,null,null,null,null,null,null,null,null,null,null,null,null,null,null,null,null,null,null,null,"WRI (2014)"]
[null,"road","Heavy Duty Vehicle - Articulated - Gasoline - Year 1999 (US)",null,null,1.4932203389830507,null,null,null,null,0.9278438152542372,null,null,null,null,null,null,null,null,null,null,null,null,null,null,null,null,null,null,null,null,null,null,null,null,null,"WRI (2014)"]
[null,"road","Heavy Duty Vehicle - Articulated - Gasoline - Year 2000 (US)",null,null,1.4932203389830507,null,null,null,null,0.9278438152542372,null,null,null,null,null,null,null,null,null,null,null,null,null,null,null,null,null,null,null,null,null,null,null,null,null,"WRI (2014)"]
[null,"road","Heavy Duty Vehicle - Articulated - Gasoline - Year 2001 (US)",null,null,1.4932203389830507,null,null,null,null,0.9278438152542372,null,null,null,null,null,null,null,null,null,null,null,null,null,null,null,null,null,null,null,null,null,null,null,null,null,"WRI (2014)"]
[null,"road","Heavy Duty Vehicle - Articulated - Gasoline - Year 2002 (US)",null,null,1.4932203389830507,null,null,null,null,0.9278438152542372,null,null,null,null,null,null,null,null,null,null,null,null,null,null,null,null,null,null,null,null,null,null,null,null,null,"WRI (2014)"]
[null,"road","Heavy Duty Vehicle - Articulated - Gasoline - Year 2003 (US)",null,null,1.4932203389830507,null,null,null,null,0.9278438152542372,null,null,null,null,null,null,null,null,null,null,null,null,null,null,null,null,null,null,null,null,null,null,null,null,null,"WRI (2014)"]
[null,"road","Heavy Duty Vehicle - Articulated - Gasoline - Year 2004 (US)",null,null,1.4932203389830507,null,null,null,null,0.9278438152542372,null,null,null,null,null,null,null,null,null,null,null,null,null,null,null,null,null,null,null,null,null,null,null,null,null,"WRI (2014)"]
[null,"road","Heavy Duty Vehicle - Articulated - Gasoline - Year 2005-present (US)",null,null,1.4932203389830507,null,null,null,null,0.9278438152542372,null,null,null,null,null,null,null,null,null,null,null,null,null,null,null,null,null,null,null,null,null,null,null,null,null,"WRI (2014)"]
[null,"road","Heavy Duty Vehicle - Articulated - Diesel - Year 1960-present (US)",null,null,1.7203389830508473,null,null,null,null,1.0689687542372881,null,null,null,null,null,null,null,null,null,null,null,null,null,null,null,null,null,null,null,null,null,null,null,null,null,"WRI (2014)"]
[null,"road","Heavy Duty Vehicle - Articulated - LNG (US)",null,null,0.75593220338983047,null,null,null,null,0.46971434915254234,null,null,null,null,null,null,null,null,null,null,null,null,null,null,null,null,null,null,null,null,null,null,null,null,null,"WRI (2014)"]
[null,"road","Heavy Duty Vehicle - Articulated - LPG (US)",null,null,0.98135593220338979,null,null,null,null,0.60978611694915252,null,null,null,null,null,null,null,null,null,null,null,null,null,null,null,null,null,null,null,null,null,null,null,null,null,"WRI (2014)"]
[null,"road","Heavy Duty Vehicle - Articulated - Ethanol (US)",null,null,0.94237288135593211,null,null,null,null,0.5855631796610169,null,null,null,null,null,null,null,null,null,null,null,null,null,null,null,null,null,null,null,null,null,null,null,null,null,"WRI (2014)"]
[null,"road","Motorbike - Non-Catalyst Control (US)",null,null,0.20300000000000001,null,null,null,null,0.126138313,null,null,null,null,null,null,null,null,null,null,null,null,null,null,null,null,null,null,null,null,null,null,null,null,null,"WRI (2014)"]
[null,"road","Motorbike - Uncontrolled (US)",null,null,0.20300000000000001,null,null,null,null,0.126138313,null,null,null,null,null,null,null,null,null,null,null,null,null,null,null,null,null,null,null,null,null,null,null,null,null,"WRI (2014)"]
[null,"road","Motorbike - Control Unknown (US)",null,null,0.20300000000000001,null,null,null,null,0.126138313,null,null,null,null,null,null,null,null,null,null,null,null,null,null,null,null,null,null,null,null,null,null,null,null,null,"WRI (2014)"]
[null,"sea","Ship and Boat - Residual Fuel Oil (UK)",null,null,null,null,null,null,null,null,null,null,null,8.5999999999999998E-4,null,null,null,null,{"$f":"O407/USGallonsTOlitres","v":2.271880720978705E-4},null,null,null,null,null,2.9999999999999997E-4,null,null,null,null,{"$f":"Z407/USGallonsTOlitres","v":7.9251653057396684E-5},null,null,null,null,null,"WRI (2014)"]
[null,"sea","Ship and Boat - Diesel Fuel (UK)",null,null,null,null,null,null,null,null,null,null,null,7.3999999999999999E-4,null,null,null,null,1.9548741087491183E-4,null,null,null,null,null,2.6000000000000003E-4,null,null,null,null,6.8684765983077133E-5,null,null,null,null,null,"WRI (2014)"]
[null,"sea","Ship and Boat - Gasoline (UK)",null,null,null,null,null,null,null,null,null,null,null,6.4000000000000005E-4,null,null,null,null,1.6907019318911293E-4,null,null,null,null,null,2.2000000000000001E-4,null,null,null,null,5.8117878908757574E-5,null,null,null,null,null,"WRI (2014)"]
[null,"sea","Ship and Boat - Residual Fuel Oil (US)",null,null,null,null,null,null,null,null,null,null,null,8.5999999999999998E-4,null,null,null,null,2.271880720978705E-4,null,null,null,null,null,2.9999999999999997E-4,null,null,null,null,7.9251653057396684E-5,null,null,null,null,null,"WRI (2014)"]
[null,"sea","Ship and Boat - Diesel Fuel (US)",null,null,null,null,null,null,null,null,null,null,null,7.3999999999999999E-4,null,null,null,null,1.9548741087491183E-4,null,null,null,null,null,2.6000000000000003E-4,null,null,null,null,6.8684765983077133E-5,null,null,null,null,null,"WRI (2014)"]
[null,"sea","Ship and Boat - Gasoline (US)",null,null,null,null,null,null,null,null,null,null,null,6.4000000000000005E-4,null,null,null,null,1.6907019318911293E-4,null,null,null,null,null,2.2000000000000001E-4,null,null,null,null,5.8117878908757574E-5,null,null,null,null,null,"WRI (2014)"]
[null,"transport fuels","Jet Fuel (Other)",9.4280000000000008,null,null,null,null,null,null,null,null,null,null,null,null,null,null,null,null,null,null,null,null,null,null,null,null,null,null,null,null,null,null,null,null,"WRI (2014)"]
[null,"transport fuels","Aviation Gasoline (Other)",8.3330000000000002,null,null,null,null,null,null,null,null,null,null,null,null,null,null,null,null,null,null,null,null,null,null,null,null,null,null,null,null,null,null,null,null,"WRI (2014)"]
[null,"transport fuels","Gasoline/Petrol (Other)",8.5987349910000006,null,null,null,null,null,null,null,null,null,null,null,null,null,null,null,null,null,null,null,null,null,null,null,null,null,null,null,null,null,null,null,null,"WRI (2014)"]
[null,"transport fuels","On-Road Diesel Fuel (Other)",10.131,null,null,null,null,null,null,null,null,null,null,null,null,null,null,null,null,null,null,null,null,null,null,null,null,null,null,null,null,null,null,null,null,"WRI (2014)"]
[null,"transport fuels","Residual Fuel Oil (3s 5 and 6) (Other)",11.125,null,null,null,null,null,null,null,null,null,null,null,null,null,null,null,null,null,null,null,null,null,null,null,null,null,null,null,null,null,null,null,null,"WRI (2014)"]
[null,"transport fuels","LPG (Other)",6.1,null,null,null,null,null,null,null,null,null,null,null,null,null,null,null,null,null,null,null,null,null,null,null,null,null,null,null,null,null,null,null,null,"WRI (2014)"]
[null,"transport fuels","CNG (Other)",null,5.2999999999999999E-2,null,null,null,null,null,null,null,null,null,null,null,null,null,null,null,null,null,null,null,null,null,null,null,null,null,null,null,null,null,null,null,"WRI (2014)"]
[null,"transport fuels","LNG (Other)",4.46,null,null,null,null,null,null,null,null,null,null,null,null,null,null,null,null,null,null,null,null,null,null,null,null,null,null,null,null,null,null,null,null,"WRI (2014)"]
[null,"transport fuels","Ethanol (Other)",5.56,null,null,null,null,null,null,null,null,null,null,null,null,null,null,null,null,null,null,null,null,null,null,null,null,null,null,null,null,null,null,null,null,"WRI (2014)"]
[null,"transport fuels","100% Biodiesel (Other)",9.4600000000000009,null,null,null,null,null,null,null,null,null,null,null,null,null,null,null,null,null,null,null,null,null,null,null,null,null,null,null,null,null,null,null,null,"WRI (2014)"]
[null,"transport fuels","E85 Ethanol/Gasoline (Other)",1.2898102490000001,null,null,null,null,null,null,null,null,null,null,null,null,null,null,null,null,null,null,null,null,null,null,null,null,null,null,null,null,null,null,null,null,"WRI (2014)"]
[null,"transport fuels","B20 Biodiesel/Diesel (Other)",8.104417776,null,null,null,null,null,null,null,null,null,null,null,null,null,null,null,null,null,null,null,null,null,null,null,null,null,null,null,null,null,null,null,null,"WRI (2014)"]
[null,"transport fuels","Jet Fuel (UK)",9.5460499999999993,null,null,null,null,null,null,null,null,null,null,null,null,null,null,null,null,null,null,null,null,null,null,null,null,null,null,null,null,null,null,null,null,"WRI (2014)"]
[null,"transport fuels","Aviation Gasoline (UK)",8.3729499999999994,null,null,null,null,null,null,null,null,null,null,null,null,null,null,null,null,null,null,null,null,null,null,null,null,null,null,null,null,null,null,null,null,"WRI (2014)"]
[null,"transport fuels","Gasoline/Petrol (UK)",8.71326,null,null,null,null,null,null,null,null,null,null,null,null,null,null,null,null,null,null,null,null,null,null,null,null,null,null,null,null,null,null,null,null,"WRI (2014)"]
[null,"transport fuels","On-Road Diesel Fuel (UK)",9.9984099999999998,null,null,null,null,null,null,null,null,null,null,null,null,null,null,null,null,null,null,null,null,null,null,null,null,null,null,null,null,null,null,null,null,"WRI (2014)"]
[null,"transport fuels","Residual Fuel Oil (3s 5 and 6) (UK)",9.5767132723415997,null,null,null,null,null,null,null,null,null,null,null,null,null,null,null,null,null,null,null,null,null,null,null,null,null,null,null,null,null,null,null,null,"WRI (2014)"]
[null,"transport fuels","LPG (UK)",5.6410206405167997,null,null,null,null,null,null,null,null,null,null,null,null,null,null,null,null,null,null,null,null,null,null,null,null,null,null,null,null,null,null,null,null,"WRI (2014)"]
[null,"transport fuels","CNG (UK)",null,5.7284980656408503E-2,null,null,null,null,null,null,null,null,null,null,null,null,null,null,null,null,null,null,null,null,null,null,null,null,null,null,null,null,null,null,null,"WRI (2014)"]
[null,"transport fuels","LNG (UK)",4.6454573413247999,null,null,null,null,null,null,null,null,null,null,null,null,null,null,null,null,null,null,null,null,null,null,null,null,null,null,null,null,null,null,null,null,"WRI (2014)"]
[null,"transport fuels","Ethanol (UK)",5.56,null,null,null,null,null,null,null,null,null,null,null,null,null,null,null,null,null,null,null,null,null,null,null,null,null,null,null,null,null,null,null,null,"WRI (2014)"]
[null,"transport fuels","100% Biodiesel (UK)",9.4600000000000009,null,null,null,null,null,null,null,null,null,null,null,null,null,null,null,null,null,null,null,null,null,null,null,null,null,null,null,null,null,null,null,null,"WRI (2014)"]
[null,"transport fuels","E85 Ethanol/Gasoline (UK)",1.306989,null,null,null,null,null,null,null,null,null,null,null,null,null,null,null,null,null,null,null,null,null,null,null,null,null,null,null,null,null,null,null,null,"WRI (2014)"]
[null,"transport fuels","B20 Biodiesel/Diesel (UK)",7.9987279999999998,null,null,null,null,null,null,null,null,null,null,null,null,null,null,null,null,null,null,null,null,null,null,null,null,null,null,null,null,null,null,null,null,"WRI (2014)"]
[null,"transport fuels","Jet Fuel (US)",9.57,null,null,null,null,null,null,null,null,null,null,null,null,null,null,null,null,null,null,null,null,null,null,null,null,null,null,null,null,null,null,null,null,"WRI (2014)"]
[null,"transport fuels","Aviation Gasoline (US)",8.32,null,null,null,null,null,null,null,null,null,null,null,null,null,null,null,null,null,null,null,null,null,null,null,null,null,null,null,null,null,null,null,null,"WRI (2014)"]
[null,"transport fuels","Gasoline/Petrol (US)",8.81,null,null,null,null,null,null,null,null,null,null,null,null,null,null,null,null,null,null,null,null,null,null,null,null,null,null,null,null,null,null,null,null,"WRI (2014)"]
[null,"transport fuels","On-Road Diesel Fuel (US)",10.15,null,null,null,null,null,null,null,null,null,null,null,null,null,null,null,null,null,null,null,null,null,null,null,null,null,null,null,null,null,null,null,null,"WRI (2014)"]
[null,"transport fuels","Residual Fuel Oil (3s 5 and 6) (US)",11.8,null,null,null,null,null,null,null,null,null,null,null,null,null,null,null,null,null,null,null,null,null,null,null,null,null,null,null,null,null,null,null,null,"WRI (2014)"]
[null,"transport fuels","LPG (US)",5.79,null,null,null,null,null,null,null,null,null,null,null,null,null,null,null,null,null,null,null,null,null,null,null,null,null,null,null,null,null,null,null,null,"WRI (2014)"]
[null,"transport fuels","CNG (US)",null,5.3999999999999999E-2,null,null,null,null,null,null,null,null,null,null,null,null,null,null,null,null,null,null,null,null,null,null,null,null,null,null,null,null,null,null,null,"WRI (2014)"]
[null,"transport fuels","LNG (US)",4.46,null,null,null,null,null,null,null,null,null,null,null,null,null,null,null,null,null,null,null,null,null,null,null,null,null,null,null,null,null,null,null,null,"WRI (2014)"]
[null,"transport fuels","Ethanol (US)",5.56,null,null,null,null,null,null,null,null,null,null,null,null,null,null,null,null,null,null,null,null,null,null,null,null,null,null,null,null,null,null,null,null,"WRI (2014)"]
[null,"transport fuels","100% Biodiesel (US)",9.4600000000000009,null,null,null,null,null,null,null,null,null,null,null,null,null,null,null,null,null,null,null,null,null,null,null,null,null,null,null,null,null,null,null,null,"WRI (2014)"]
[null,"transport fuels","E85 Ethanol/Gasoline (US)",1.3215000000000001,null,null,null,null,null,null,null,null,null,null,null,null,null,null,null,null,null,null,null,null,null,null,null,null,null,null,null,null,null,null,null,null,"WRI (2014)"]
[null,"transport fuels","B20 Biodiesel/Diesel (US)",8.120000000000001,null,null,null,null,null,null,null,null,null,null,null,null,null,null,null,null,null,null,null,null,null,null,null,null,null,null,null,null,null,null,null,null,"WRI (2014)"]
[null,"custom",{"$f":"'Custom Emission Factors'!B46","v":"custom mobile EF 1"},{"$f":"'Custom Emission Factors'!C46","v":0},{"$f":"'Custom Emission Factors'!D46","v":0},{"$f":"'Custom Emission Factors'!E46","v":0},{"$f":"'Custom Emission Factors'!F46","v":0},{"$f":"'Custom Emission Factors'!G46","v":0},{"$f":"'Custom Emission Factors'!H46","v":0},{"$f":"'Custom Emission Factors'!I46","v":0},{"$f":"'Custom Emission Factors'!J46","v":0},{"$f":"'Custom Emission Factors'!K46","v":0},{"$f":"'Custom Emission Factors'!L46","v":0},{"$f":"'Custom Emission Factors'!M46","v":0},{"$f":"'Custom Emission Factors'!N46","v":0},{"$f":"'Custom Emission Factors'!O46","v":0},{"$f":"'Custom Emission Factors'!P46","v":0},{"$f":"'Custom Emission Factors'!Q46","v":0},{"$f":"'Custom Emission Factors'!R46","v":0},{"$f":"'Custom Emission Factors'!S46","v":0},{"$f":"'Custom Emission Factors'!T46","v":0},{"$f":"'Custom Emission Factors'!U46","v":0},{"$f":"'Custom Emission Factors'!V46","v":0},{"$f":"'Custom Emission Factors'!W46","v":0},{"$f":"'Custom Emission Factors'!X46","v":0},{"$f":"'Custom Emission Factors'!Y46","v":0},{"$f":"'Custom Emission Factors'!Z46","v":0},{"$f":"'Custom Emission Factors'!AA46","v":0},{"$f":"'Custom Emission Factors'!AB46","v":0},{"$f":"'Custom Emission Factors'!AC46","v":0},{"$f":"'Custom Emission Factors'!AD46","v":0},{"$f":"'Custom Emission Factors'!AE46","v":0},{"$f":"'Custom Emission Factors'!AF46","v":0},{"$f":"'Custom Emission Factors'!AG46","v":0},{"$f":"'Custom Emission Factors'!AH46","v":0},{"$f":"'Custom Emission Factors'!AI46","v":0},{"$f":"'Custom Emission Factors'!AK46","v":"reference 1"}]
[null,"custom",{"$f":"'Custom Emission Factors'!B47","v":"custom mobile EF 2"},{"$f":"'Custom Emission Factors'!C47","v":0},{"$f":"'Custom Emission Factors'!D47","v":0},{"$f":"'Custom Emission Factors'!E47","v":0},{"$f":"'Custom Emission Factors'!F47","v":0},{"$f":"'Custom Emission Factors'!G47","v":0},{"$f":"'Custom Emission Factors'!H47","v":0},{"$f":"'Custom Emission Factors'!I47","v":0},{"$f":"'Custom Emission Factors'!J47","v":0},{"$f":"'Custom Emission Factors'!K47","v":0},{"$f":"'Custom Emission Factors'!L47","v":0},{"$f":"'Custom Emission Factors'!M47","v":0},{"$f":"'Custom Emission Factors'!N47","v":0},{"$f":"'Custom Emission Factors'!O47","v":0},{"$f":"'Custom Emission Factors'!P47","v":0},{"$f":"'Custom Emission Factors'!Q47","v":0},{"$f":"'Custom Emission Factors'!R47","v":0},{"$f":"'Custom Emission Factors'!S47","v":0},{"$f":"'Custom Emission Factors'!T47","v":0},{"$f":"'Custom Emission Factors'!U47","v":0},{"$f":"'Custom Emission Factors'!V47","v":0},{"$f":"'Custom Emission Factors'!W47","v":0},{"$f":"'Custom Emission Factors'!X47","v":0},{"$f":"'Custom Emission Factors'!Y47","v":0},{"$f":"'Custom Emission Factors'!Z47","v":0},{"$f":"'Custom Emission Factors'!AA47","v":0},{"$f":"'Custom Emission Factors'!AB47","v":0},{"$f":"'Custom Emission Factors'!AC47","v":0},{"$f":"'Custom Emission Factors'!AD47","v":0},{"$f":"'Custom Emission Factors'!AE47","v":0},{"$f":"'Custom Emission Factors'!AF47","v":0},{"$f":"'Custom Emission Factors'!AG47","v":0},{"$f":"'Custom Emission Factors'!AH47","v":0},{"$f":"'Custom Emission Factors'!AI47","v":0},{"$f":"'Custom Emission Factors'!AK47","v":0}]
[null,"custom",{"$f":"'Custom Emission Factors'!B48","v":"custom mobile EF 3"},{"$f":"'Custom Emission Factors'!C48","v":0},{"$f":"'Custom Emission Factors'!D48","v":0},{"$f":"'Custom Emission Factors'!E48","v":0},{"$f":"'Custom Emission Factors'!F48","v":0},{"$f":"'Custom Emission Factors'!G48","v":0},{"$f":"'Custom Emission Factors'!H48","v":0},{"$f":"'Custom Emission Factors'!I48","v":0},{"$f":"'Custom Emission Factors'!J48","v":0},{"$f":"'Custom Emission Factors'!K48","v":0},{"$f":"'Custom Emission Factors'!L48","v":0},{"$f":"'Custom Emission Factors'!M48","v":0},{"$f":"'Custom Emission Factors'!N48","v":0},{"$f":"'Custom Emission Factors'!O48","v":0},{"$f":"'Custom Emission Factors'!P48","v":0},{"$f":"'Custom Emission Factors'!Q48","v":0},{"$f":"'Custom Emission Factors'!R48","v":0},{"$f":"'Custom Emission Factors'!S48","v":0},{"$f":"'Custom Emission Factors'!T48","v":0},{"$f":"'Custom Emission Factors'!U48","v":0},{"$f":"'Custom Emission Factors'!V48","v":0},{"$f":"'Custom Emission Factors'!W48","v":0},{"$f":"'Custom Emission Factors'!X48","v":0},{"$f":"'Custom Emission Factors'!Y48","v":0},{"$f":"'Custom Emission Factors'!Z48","v":0},{"$f":"'Custom Emission Factors'!AA48","v":0},{"$f":"'Custom Emission Factors'!AB48","v":0},{"$f":"'Custom Emission Factors'!AC48","v":0},{"$f":"'Custom Emission Factors'!AD48","v":0},{"$f":"'Custom Emission Factors'!AE48","v":0},{"$f":"'Custom Emission Factors'!AF48","v":0},{"$f":"'Custom Emission Factors'!AG48","v":0},{"$f":"'Custom Emission Factors'!AH48","v":0},{"$f":"'Custom Emission Factors'!AI48","v":0},{"$f":"'Custom Emission Factors'!AK48","v":0}]
[null,"custom",{"$f":"'Custom Emission Factors'!B49","v":"custom mobile EF 4"},{"$f":"'Custom Emission Factors'!C49","v":0},{"$f":"'Custom Emission Factors'!D49","v":0},{"$f":"'Custom Emission Factors'!E49","v":0},{"$f":"'Custom Emission Factors'!F49","v":0},{"$f":"'Custom Emission Factors'!G49","v":0},{"$f":"'Custom Emission Factors'!H49","v":0},{"$f":"'Custom Emission Factors'!I49","v":0},{"$f":"'Custom Emission Factors'!J49","v":0},{"$f":"'Custom Emission Factors'!K49","v":0},{"$f":"'Custom Emission Factors'!L49","v":0},{"$f":"'Custom Emission Factors'!M49","v":0},{"$f":"'Custom Emission Factors'!N49","v":0},{"$f":"'Custom Emission Factors'!O49","v":0},{"$f":"'Custom Emission Factors'!P49","v":0},{"$f":"'Custom Emission Factors'!Q49","v":0},{"$f":"'Custom Emission Factors'!R49","v":0},{"$f":"'Custom Emission Factors'!S49","v":0},{"$f":"'Custom Emission Factors'!T49","v":0},{"$f":"'Custom Emission Factors'!U49","v":0},{"$f":"'Custom Emission Factors'!V49","v":0},{"$f":"'Custom Emission Factors'!W49","v":0},{"$f":"'Custom Emission Factors'!X49","v":0},{"$f":"'Custom Emission Factors'!Y49","v":0},{"$f":"'Custom Emission Factors'!Z49","v":0},{"$f":"'Custom Emission Factors'!AA49","v":0},{"$f":"'Custom Emission Factors'!AB49","v":0},{"$f":"'Custom Emission Factors'!AC49","v":0},{"$f":"'Custom Emission Factors'!AD49","v":0},{"$f":"'Custom Emission Factors'!AE49","v":0},{"$f":"'Custom Emission Factors'!AF49","v":0},{"$f":"'Custom Emission Factors'!AG49","v":0},{"$f":"'Custom Emission Factors'!AH49","v":0},{"$f":"'Custom Emission Factors'!AI49","v":0},{"$f":"'Custom Emission Factors'!AK49","v":0}]
[null,"custom",{"$f":"'Custom Emission Factors'!B50","v":"custom mobile EF 5"},{"$f":"'Custom Emission Factors'!C50","v":0},{"$f":"'Custom Emission Factors'!D50","v":0},{"$f":"'Custom Emission Factors'!E50","v":0},{"$f":"'Custom Emission Factors'!F50","v":0},{"$f":"'Custom Emission Factors'!G50","v":0},{"$f":"'Custom Emission Factors'!H50","v":0},{"$f":"'Custom Emission Factors'!I50","v":0},{"$f":"'Custom Emission Factors'!J50","v":0},{"$f":"'Custom Emission Factors'!K50","v":0},{"$f":"'Custom Emission Factors'!L50","v":0},{"$f":"'Custom Emission Factors'!M50","v":0},{"$f":"'Custom Emission Factors'!N50","v":0},{"$f":"'Custom Emission Factors'!O50","v":0},{"$f":"'Custom Emission Factors'!P50","v":0},{"$f":"'Custom Emission Factors'!Q50","v":0},{"$f":"'Custom Emission Factors'!R50","v":0},{"$f":"'Custom Emission Factors'!S50","v":0},{"$f":"'Custom Emission Factors'!T50","v":0},{"$f":"'Custom Emission Factors'!U50","v":0},{"$f":"'Custom Emission Factors'!V50","v":0},{"$f":"'Custom Emission Factors'!W50","v":0},{"$f":"'Custom Emission Factors'!X50","v":0},{"$f":"'Custom Emission Factors'!Y50","v":0},{"$f":"'Custom Emission Factors'!Z50","v":0},{"$f":"'Custom Emission Factors'!AA50","v":0},{"$f":"'Custom Emission Factors'!AB50","v":0},{"$f":"'Custom Emission Factors'!AC50","v":0},{"$f":"'Custom Emission Factors'!AD50","v":0},{"$f":"'Custom Emission Factors'!AE50","v":0},{"$f":"'Custom Emission Factors'!AF50","v":0},{"$f":"'Custom Emission Factors'!AG50","v":0},{"$f":"'Custom Emission Factors'!AH50","v":0},{"$f":"'Custom Emission Factors'!AI50","v":0},{"$f":"'Custom Emission Factors'!AK50","v":0}]
[null,"custom",{"$f":"'Custom Emission Factors'!B51","v":"custom mobile EF 6"},{"$f":"'Custom Emission Factors'!C51","v":0},{"$f":"'Custom Emission Factors'!D51","v":0},{"$f":"'Custom Emission Factors'!E51","v":0},{"$f":"'Custom Emission Factors'!F51","v":0},{"$f":"'Custom Emission Factors'!G51","v":0},{"$f":"'Custom Emission Factors'!H51","v":0},{"$f":"'Custom Emission Factors'!I51","v":0},{"$f":"'Custom Emission Factors'!J51","v":0},{"$f":"'Custom Emission Factors'!K51","v":0},{"$f":"'Custom Emission Factors'!L51","v":0},{"$f":"'Custom Emission Factors'!M51","v":0},{"$f":"'Custom Emission Factors'!N51","v":0},{"$f":"'Custom Emission Factors'!O51","v":0},{"$f":"'Custom Emission Factors'!P51","v":0},{"$f":"'Custom Emission Factors'!Q51","v":0},{"$f":"'Custom Emission Factors'!R51","v":0},{"$f":"'Custom Emission Factors'!S51","v":0},{"$f":"'Custom Emission Factors'!T51","v":0},{"$f":"'Custom Emission Factors'!U51","v":0},{"$f":"'Custom Emission Factors'!V51","v":0},{"$f":"'Custom Emission Factors'!W51","v":0},{"$f":"'Custom Emission Factors'!X51","v":0},{"$f":"'Custom Emission Factors'!Y51","v":0},{"$f":"'Custom Emission Factors'!Z51","v":0},{"$f":"'Custom Emission Factors'!AA51","v":0},{"$f":"'Custom Emission Factors'!AB51","v":0},{"$f":"'Custom Emission Factors'!AC51","v":0},{"$f":"'Custom Emission Factors'!AD51","v":0},{"$f":"'Custom Emission Factors'!AE51","v":0},{"$f":"'Custom Emission Factors'!AF51","v":0},{"$f":"'Custom Emission Factors'!AG51","v":0},{"$f":"'Custom Emission Factors'!AH51","v":0},{"$f":"'Custom Emission Factors'!AI51","v":0},{"$f":"'Custom Emission Factors'!AK51","v":0}]
[null,"custom",{"$f":"'Custom Emission Factors'!B52","v":"custom mobile EF 7"},{"$f":"'Custom Emission Factors'!C52","v":0},{"$f":"'Custom Emission Factors'!D52","v":0},{"$f":"'Custom Emission Factors'!E52","v":0},{"$f":"'Custom Emission Factors'!F52","v":0},{"$f":"'Custom Emission Factors'!G52","v":0},{"$f":"'Custom Emission Factors'!H52","v":0},{"$f":"'Custom Emission Factors'!I52","v":0},{"$f":"'Custom Emission Factors'!J52","v":0},{"$f":"'Custom Emission Factors'!K52","v":0},{"$f":"'Custom Emission Factors'!L52","v":0},{"$f":"'Custom Emission Factors'!M52","v":0},{"$f":"'Custom Emission Factors'!N52","v":0},{"$f":"'Custom Emission Factors'!O52","v":0},{"$f":"'Custom Emission Factors'!P52","v":0},{"$f":"'Custom Emission Factors'!Q52","v":0},{"$f":"'Custom Emission Factors'!R52","v":0},{"$f":"'Custom Emission Factors'!S52","v":0},{"$f":"'Custom Emission Factors'!T52","v":0},{"$f":"'Custom Emission Factors'!U52","v":0},{"$f":"'Custom Emission Factors'!V52","v":0},{"$f":"'Custom Emission Factors'!W52","v":0},{"$f":"'Custom Emission Factors'!X52","v":0},{"$f":"'Custom Emission Factors'!Y52","v":0},{"$f":"'Custom Emission Factors'!Z52","v":0},{"$f":"'Custom Emission Factors'!AA52","v":0},{"$f":"'Custom Emission Factors'!AB52","v":0},{"$f":"'Custom Emission Factors'!AC52","v":0},{"$f":"'Custom Emission Factors'!AD52","v":0},{"$f":"'Custom Emission Factors'!AE52","v":0},{"$f":"'Custom Emission Factors'!AF52","v":0},{"$f":"'Custom Emission Factors'!AG52","v":0},{"$f":"'Custom Emission Factors'!AH52","v":0},{"$f":"'Custom Emission Factors'!AI52","v":0},{"$f":"'Custom Emission Factors'!AK52","v":0}]
[null,"custom",{"$f":"'Custom Emission Factors'!B53","v":"custom mobile EF 8"},{"$f":"'Custom Emission Factors'!C53","v":0},{"$f":"'Custom Emission Factors'!D53","v":0},{"$f":"'Custom Emission Factors'!E53","v":0},{"$f":"'Custom Emission Factors'!F53","v":0},{"$f":"'Custom Emission Factors'!G53","v":0},{"$f":"'Custom Emission Factors'!H53","v":0},{"$f":"'Custom Emission Factors'!I53","v":0},{"$f":"'Custom Emission Factors'!J53","v":0},{"$f":"'Custom Emission Factors'!K53","v":0},{"$f":"'Custom Emission Factors'!L53","v":0},{"$f":"'Custom Emission Factors'!M53","v":0},{"$f":"'Custom Emission Factors'!N53","v":0},{"$f":"'Custom Emission Factors'!O53","v":0},{"$f":"'Custom Emission Factors'!P53","v":0},{"$f":"'Custom Emission Factors'!Q53","v":0},{"$f":"'Custom Emission Factors'!R53","v":0},{"$f":"'Custom Emission Factors'!S53","v":0},{"$f":"'Custom Emission Factors'!T53","v":0},{"$f":"'Custom Emission Factors'!U53","v":0},{"$f":"'Custom Emission Factors'!V53","v":0},{"$f":"'Custom Emission Factors'!W53","v":0},{"$f":"'Custom Emission Factors'!X53","v":0},{"$f":"'Custom Emission Factors'!Y53","v":0},{"$f":"'Custom Emission Factors'!Z53","v":0},{"$f":"'Custom Emission Factors'!AA53","v":0},{"$f":"'Custom Emission Factors'!AB53","v":0},{"$f":"'Custom Emission Factors'!AC53","v":0},{"$f":"'Custom Emission Factors'!AD53","v":0},{"$f":"'Custom Emission Factors'!AE53","v":0},{"$f":"'Custom Emission Factors'!AF53","v":0},{"$f":"'Custom Emission Factors'!AG53","v":0},{"$f":"'Custom Emission Factors'!AH53","v":0},{"$f":"'Custom Emission Factors'!AI53","v":0},{"$f":"'Custom Emission Factors'!AK53","v":0}]
[null,"custom",{"$f":"'Custom Emission Factors'!B54","v":"custom mobile EF 9"},{"$f":"'Custom Emission Factors'!C54","v":0},{"$f":"'Custom Emission Factors'!D54","v":0},{"$f":"'Custom Emission Factors'!E54","v":0},{"$f":"'Custom Emission Factors'!F54","v":0},{"$f":"'Custom Emission Factors'!G54","v":0},{"$f":"'Custom Emission Factors'!H54","v":0},{"$f":"'Custom Emission Factors'!I54","v":0},{"$f":"'Custom Emission Factors'!J54","v":0},{"$f":"'Custom Emission Factors'!K54","v":0},{"$f":"'Custom Emission Factors'!L54","v":0},{"$f":"'Custom Emission Factors'!M54","v":0},{"$f":"'Custom Emission Factors'!N54","v":0},{"$f":"'Custom Emission Factors'!O54","v":0},{"$f":"'Custom Emission Factors'!P54","v":0},{"$f":"'Custom Emission Factors'!Q54","v":0},{"$f":"'Custom Emission Factors'!R54","v":0},{"$f":"'Custom Emission Factors'!S54","v":0},{"$f":"'Custom Emission Factors'!T54","v":0},{"$f":"'Custom Emission Factors'!U54","v":0},{"$f":"'Custom Emission Factors'!V54","v":0},{"$f":"'Custom Emission Factors'!W54","v":0},{"$f":"'Custom Emission Factors'!X54","v":0},{"$f":"'Custom Emission Factors'!Y54","v":0},{"$f":"'Custom Emission Factors'!Z54","v":0},{"$f":"'Custom Emission Factors'!AA54","v":0},{"$f":"'Custom Emission Factors'!AB54","v":0},{"$f":"'Custom Emission Factors'!AC54","v":0},{"$f":"'Custom Emission Factors'!AD54","v":0},{"$f":"'Custom Emission Factors'!AE54","v":0},{"$f":"'Custom Emission Factors'!AF54","v":0},{"$f":"'Custom Emission Factors'!AG54","v":0},{"$f":"'Custom Emission Factors'!AH54","v":0},{"$f":"'Custom Emission Factors'!AI54","v":0},{"$f":"'Custom Emission Factors'!AK54","v":0}]
[null,"custom",{"$f":"'Custom Emission Factors'!B55","v":"custom mobile EF 10"},{"$f":"'Custom Emission Factors'!C55","v":0},{"$f":"'Custom Emission Factors'!D55","v":0},{"$f":"'Custom Emission Factors'!E55","v":0},{"$f":"'Custom Emission Factors'!F55","v":0},{"$f":"'Custom Emission Factors'!G55","v":0},{"$f":"'Custom Emission Factors'!H55","v":0},{"$f":"'Custom Emission Factors'!I55","v":0},{"$f":"'Custom Emission Factors'!J55","v":0},{"$f":"'Custom Emission Factors'!K55","v":0},{"$f":"'Custom Emission Factors'!L55","v":0},{"$f":"'Custom Emission Factors'!M55","v":0},{"$f":"'Custom Emission Factors'!N55","v":0},{"$f":"'Custom Emission Factors'!O55","v":0},{"$f":"'Custom Emission Factors'!P55","v":0},{"$f":"'Custom Emission Factors'!Q55","v":0},{"$f":"'Custom Emission Factors'!R55","v":0},{"$f":"'Custom Emission Factors'!S55","v":0},{"$f":"'Custom Emission Factors'!T55","v":0},{"$f":"'Custom Emission Factors'!U55","v":0},{"$f":"'Custom Emission Factors'!V55","v":0},{"$f":"'Custom Emission Factors'!W55","v":0},{"$f":"'Custom Emission Factors'!X55","v":0},{"$f":"'Custom Emission Factors'!Y55","v":0},{"$f":"'Custom Emission Factors'!Z55","v":0},{"$f":"'Custom Emission Factors'!AA55","v":0},{"$f":"'Custom Emission Factors'!AB55","v":0},{"$f":"'Custom Emission Factors'!AC55","v":0},{"$f":"'Custom Emission Factors'!AD55","v":0},{"$f":"'Custom Emission Factors'!AE55","v":0},{"$f":"'Custom Emission Factors'!AF55","v":0},{"$f":"'Custom Emission Factors'!AG55","v":0},{"$f":"'Custom Emission Factors'!AH55","v":0},{"$f":"'Custom Emission Factors'!AI55","v":0},{"$f":"'Custom Emission Factors'!AK55","v":0}]
[null,"custom",{"$f":"'Custom Emission Factors'!B56","v":"custom mobile EF 11"},{"$f":"'Custom Emission Factors'!C56","v":0},{"$f":"'Custom Emission Factors'!D56","v":0},{"$f":"'Custom Emission Factors'!E56","v":0},{"$f":"'Custom Emission Factors'!F56","v":0},{"$f":"'Custom Emission Factors'!G56","v":0},{"$f":"'Custom Emission Factors'!H56","v":0},{"$f":"'Custom Emission Factors'!I56","v":0},{"$f":"'Custom Emission Factors'!J56","v":0},{"$f":"'Custom Emission Factors'!K56","v":0},{"$f":"'Custom Emission Factors'!L56","v":0},{"$f":"'Custom Emission Factors'!M56","v":0},{"$f":"'Custom Emission Factors'!N56","v":0},{"$f":"'Custom Emission Factors'!O56","v":0},{"$f":"'Custom Emission Factors'!P56","v":0},{"$f":"'Custom Emission Factors'!Q56","v":0},{"$f":"'Custom Emission Factors'!R56","v":0},{"$f":"'Custom Emission Factors'!S56","v":0},{"$f":"'Custom Emission Factors'!T56","v":0},{"$f":"'Custom Emission Factors'!U56","v":0},{"$f":"'Custom Emission Factors'!V56","v":0},{"$f":"'Custom Emission Factors'!W56","v":0},{"$f":"'Custom Emission Factors'!X56","v":0},{"$f":"'Custom Emission Factors'!Y56","v":0},{"$f":"'Custom Emission Factors'!Z56","v":0},{"$f":"'Custom Emission Factors'!AA56","v":0},{"$f":"'Custom Emission Factors'!AB56","v":0},{"$f":"'Custom Emission Factors'!AC56","v":0},{"$f":"'Custom Emission Factors'!AD56","v":0},{"$f":"'Custom Emission Factors'!AE56","v":0},{"$f":"'Custom Emission Factors'!AF56","v":0},{"$f":"'Custom Emission Factors'!AG56","v":0},{"$f":"'Custom Emission Factors'!AH56","v":0},{"$f":"'Custom Emission Factors'!AI56","v":0},{"$f":"'Custom Emission Factors'!AK56","v":0}]
[null,"custom",{"$f":"'Custom Emission Factors'!B57","v":"custom mobile EF 12"},{"$f":"'Custom Emission Factors'!C57","v":0},{"$f":"'Custom Emission Factors'!D57","v":0},{"$f":"'Custom Emission Factors'!E57","v":0},{"$f":"'Custom Emission Factors'!F57","v":0},{"$f":"'Custom Emission Factors'!G57","v":0},{"$f":"'Custom Emission Factors'!H57","v":0},{"$f":"'Custom Emission Factors'!I57","v":0},{"$f":"'Custom Emission Factors'!J57","v":0},{"$f":"'Custom Emission Factors'!K57","v":0},{"$f":"'Custom Emission Factors'!L57","v":0},{"$f":"'Custom Emission Factors'!M57","v":0},{"$f":"'Custom Emission Factors'!N57","v":0},{"$f":"'Custom Emission Factors'!O57","v":0},{"$f":"'Custom Emission Factors'!P57","v":0},{"$f":"'Custom Emission Factors'!Q57","v":0},{"$f":"'Custom Emission Factors'!R57","v":0},{"$f":"'Custom Emission Factors'!S57","v":0},{"$f":"'Custom Emission Factors'!T57","v":0},{"$f":"'Custom Emission Factors'!U57","v":0},{"$f":"'Custom Emission Factors'!V57","v":0},{"$f":"'Custom Emission Factors'!W57","v":0},{"$f":"'Custom Emission Factors'!X57","v":0},{"$f":"'Custom Emission Factors'!Y57","v":0},{"$f":"'Custom Emission Factors'!Z57","v":0},{"$f":"'Custom Emission Factors'!AA57","v":0},{"$f":"'Custom Emission Factors'!AB57","v":0},{"$f":"'Custom Emission Factors'!AC57","v":0},{"$f":"'Custom Emission Factors'!AD57","v":0},{"$f":"'Custom Emission Factors'!AE57","v":0},{"$f":"'Custom Emission Factors'!AF57","v":0},{"$f":"'Custom Emission Factors'!AG57","v":0},{"$f":"'Custom Emission Factors'!AH57","v":0},{"$f":"'Custom Emission Factors'!AI57","v":0},{"$f":"'Custom Emission Factors'!AK57","v":0}]
[null,"custom",{"$f":"'Custom Emission Factors'!B58","v":"custom mobile EF 13"},{"$f":"'Custom Emission Factors'!C58","v":0},{"$f":"'Custom Emission Factors'!D58","v":0},{"$f":"'Custom Emission Factors'!E58","v":0},{"$f":"'Custom Emission Factors'!F58","v":0},{"$f":"'Custom Emission Factors'!G58","v":0},{"$f":"'Custom Emission Factors'!H58","v":0},{"$f":"'Custom Emission Factors'!I58","v":0},{"$f":"'Custom Emission Factors'!J58","v":0},{"$f":"'Custom Emission Factors'!K58","v":0},{"$f":"'Custom Emission Factors'!L58","v":0},{"$f":"'Custom Emission Factors'!M58","v":0},{"$f":"'Custom Emission Factors'!N58","v":0},{"$f":"'Custom Emission Factors'!O58","v":0},{"$f":"'Custom Emission Factors'!P58","v":0},{"$f":"'Custom Emission Factors'!Q58","v":0},{"$f":"'Custom Emission Factors'!R58","v":0},{"$f":"'Custom Emission Factors'!S58","v":0},{"$f":"'Custom Emission Factors'!T58","v":0},{"$f":"'Custom Emission Factors'!U58","v":0},{"$f":"'Custom Emission Factors'!V58","v":0},{"$f":"'Custom Emission Factors'!W58","v":0},{"$f":"'Custom Emission Factors'!X58","v":0},{"$f":"'Custom Emission Factors'!Y58","v":0},{"$f":"'Custom Emission Factors'!Z58","v":0},{"$f":"'Custom Emission Factors'!AA58","v":0},{"$f":"'Custom Emission Factors'!AB58","v":0},{"$f":"'Custom Emission Factors'!AC58","v":0},{"$f":"'Custom Emission Factors'!AD58","v":0},{"$f":"'Custom Emission Factors'!AE58","v":0},{"$f":"'Custom Emission Factors'!AF58","v":0},{"$f":"'Custom Emission Factors'!AG58","v":0},{"$f":"'Custom Emission Factors'!AH58","v":0},{"$f":"'Custom Emission Factors'!AI58","v":0},{"$f":"'Custom Emission Factors'!AK58","v":0}]
[null,"custom",{"$f":"'Custom Emission Factors'!B59","v":"custom mobile EF 14"},{"$f":"'Custom Emission Factors'!C59","v":0},{"$f":"'Custom Emission Factors'!D59","v":0},{"$f":"'Custom Emission Factors'!E59","v":0},{"$f":"'Custom Emission Factors'!F59","v":0},{"$f":"'Custom Emission Factors'!G59","v":0},{"$f":"'Custom Emission Factors'!H59","v":0},{"$f":"'Custom Emission Factors'!I59","v":0},{"$f":"'Custom Emission Factors'!J59","v":0},{"$f":"'Custom Emission Factors'!K59","v":0},{"$f":"'Custom Emission Factors'!L59","v":0},{"$f":"'Custom Emission Factors'!M59","v":0},{"$f":"'Custom Emission Factors'!N59","v":0},{"$f":"'Custom Emission Factors'!O59","v":0},{"$f":"'Custom Emission Factors'!P59","v":0},{"$f":"'Custom Emission Factors'!Q59","v":0},{"$f":"'Custom Emission Factors'!R59","v":0},{"$f":"'Custom Emission Factors'!S59","v":0},{"$f":"'Custom Emission Factors'!T59","v":0},{"$f":"'Custom Emission Factors'!U59","v":0},{"$f":"'Custom Emission Factors'!V59","v":0},{"$f":"'Custom Emission Factors'!W59","v":0},{"$f":"'Custom Emission Factors'!X59","v":0},{"$f":"'Custom Emission Factors'!Y59","v":0},{"$f":"'Custom Emission Factors'!Z59","v":0},{"$f":"'Custom Emission Factors'!AA59","v":0},{"$f":"'Custom Emission Factors'!AB59","v":0},{"$f":"'Custom Emission Factors'!AC59","v":0},{"$f":"'Custom Emission Factors'!AD59","v":0},{"$f":"'Custom Emission Factors'!AE59","v":0},{"$f":"'Custom Emission Factors'!AF59","v":0},{"$f":"'Custom Emission Factors'!AG59","v":0},{"$f":"'Custom Emission Factors'!AH59","v":0},{"$f":"'Custom Emission Factors'!AI59","v":0},{"$f":"'Custom Emission Factors'!AK59","v":0}]
[null,"custom",{"$f":"'Custom Emission Factors'!B60","v":"custom mobile EF 15"},{"$f":"'Custom Emission Factors'!C60","v":0},{"$f":"'Custom Emission Factors'!D60","v":0},{"$f":"'Custom Emission Factors'!E60","v":0},{"$f":"'Custom Emission Factors'!F60","v":0},{"$f":"'Custom Emission Factors'!G60","v":0},{"$f":"'Custom Emission Factors'!H60","v":0},{"$f":"'Custom Emission Factors'!I60","v":0},{"$f":"'Custom Emission Factors'!J60","v":0},{"$f":"'Custom Emission Factors'!K60","v":0},{"$f":"'Custom Emission Factors'!L60","v":0},{"$f":"'Custom Emission Factors'!M60","v":0},{"$f":"'Custom Emission Factors'!N60","v":0},{"$f":"'Custom Emission Factors'!O60","v":0},{"$f":"'Custom Emission Factors'!P60","v":0},{"$f":"'Custom Emission Factors'!Q60","v":0},{"$f":"'Custom Emission Factors'!R60","v":0},{"$f":"'Custom Emission Factors'!S60","v":0},{"$f":"'Custom Emission Factors'!T60","v":0},{"$f":"'Custom Emission Factors'!U60","v":0},{"$f":"'Custom Emission Factors'!V60","v":0},{"$f":"'Custom Emission Factors'!W60","v":0},{"$f":"'Custom Emission Factors'!X60","v":0},{"$f":"'Custom Emission Factors'!Y60","v":0},{"$f":"'Custom Emission Factors'!Z60","v":0},{"$f":"'Custom Emission Factors'!AA60","v":0},{"$f":"'Custom Emission Factors'!AB60","v":0},{"$f":"'Custom Emission Factors'!AC60","v":0},{"$f":"'Custom Emission Factors'!AD60","v":0},{"$f":"'Custom Emission Factors'!AE60","v":0},{"$f":"'Custom Emission Factors'!AF60","v":0},{"$f":"'Custom Emission Factors'!AG60","v":0},{"$f":"'Custom Emission Factors'!AH60","v":0},{"$f":"'Custom Emission Factors'!AI60","v":0},{"$f":"'Custom Emission Factors'!AK60","v":0}]
[null,"custom",{"$f":"'Custom Emission Factors'!B61","v":"custom mobile EF 16"},{"$f":"'Custom Emission Factors'!C61","v":0},{"$f":"'Custom Emission Factors'!D61","v":0},{"$f":"'Custom Emission Factors'!E61","v":0},{"$f":"'Custom Emission Factors'!F61","v":0},{"$f":"'Custom Emission Factors'!G61","v":0},{"$f":"'Custom Emission Factors'!H61","v":0},{"$f":"'Custom Emission Factors'!I61","v":0},{"$f":"'Custom Emission Factors'!J61","v":0},{"$f":"'Custom Emission Factors'!K61","v":0},{"$f":"'Custom Emission Factors'!L61","v":0},{"$f":"'Custom Emission Factors'!M61","v":0},{"$f":"'Custom Emission Factors'!N61","v":0},{"$f":"'Custom Emission Factors'!O61","v":0},{"$f":"'Custom Emission Factors'!P61","v":0},{"$f":"'Custom Emission Factors'!Q61","v":0},{"$f":"'Custom Emission Factors'!R61","v":0},{"$f":"'Custom Emission Factors'!S61","v":0},{"$f":"'Custom Emission Factors'!T61","v":0},{"$f":"'Custom Emission Factors'!U61","v":0},{"$f":"'Custom Emission Factors'!V61","v":0},{"$f":"'Custom Emission Factors'!W61","v":0},{"$f":"'Custom Emission Factors'!X61","v":0},{"$f":"'Custom Emission Factors'!Y61","v":0},{"$f":"'Custom Emission Factors'!Z61","v":0},{"$f":"'Custom Emission Factors'!AA61","v":0},{"$f":"'Custom Emission Factors'!AB61","v":0},{"$f":"'Custom Emission Factors'!AC61","v":0},{"$f":"'Custom Emission Factors'!AD61","v":0},{"$f":"'Custom Emission Factors'!AE61","v":0},{"$f":"'Custom Emission Factors'!AF61","v":0},{"$f":"'Custom Emission Factors'!AG61","v":0},{"$f":"'Custom Emission Factors'!AH61","v":0},{"$f":"'Custom Emission Factors'!AI61","v":0},{"$f":"'Custom Emission Factors'!AK61","v":0}]
[null,"custom",{"$f":"'Custom Emission Factors'!B62","v":"custom mobile EF 17"},{"$f":"'Custom Emission Factors'!C62","v":0},{"$f":"'Custom Emission Factors'!D62","v":0},{"$f":"'Custom Emission Factors'!E62","v":0},{"$f":"'Custom Emission Factors'!F62","v":0},{"$f":"'Custom Emission Factors'!G62","v":0},{"$f":"'Custom Emission Factors'!H62","v":0},{"$f":"'Custom Emission Factors'!I62","v":0},{"$f":"'Custom Emission Factors'!J62","v":0},{"$f":"'Custom Emission Factors'!K62","v":0},{"$f":"'Custom Emission Factors'!L62","v":0},{"$f":"'Custom Emission Factors'!M62","v":0},{"$f":"'Custom Emission Factors'!N62","v":0},{"$f":"'Custom Emission Factors'!O62","v":0},{"$f":"'Custom Emission Factors'!P62","v":0},{"$f":"'Custom Emission Factors'!Q62","v":0},{"$f":"'Custom Emission Factors'!R62","v":0},{"$f":"'Custom Emission Factors'!S62","v":0},{"$f":"'Custom Emission Factors'!T62","v":0},{"$f":"'Custom Emission Factors'!U62","v":0},{"$f":"'Custom Emission Factors'!V62","v":0},{"$f":"'Custom Emission Factors'!W62","v":0},{"$f":"'Custom Emission Factors'!X62","v":0},{"$f":"'Custom Emission Factors'!Y62","v":0},{"$f":"'Custom Emission Factors'!Z62","v":0},{"$f":"'Custom Emission Factors'!AA62","v":0},{"$f":"'Custom Emission Factors'!AB62","v":0},{"$f":"'Custom Emission Factors'!AC62","v":0},{"$f":"'Custom Emission Factors'!AD62","v":0},{"$f":"'Custom Emission Factors'!AE62","v":0},{"$f":"'Custom Emission Factors'!AF62","v":0},{"$f":"'Custom Emission Factors'!AG62","v":0},{"$f":"'Custom Emission Factors'!AH62","v":0},{"$f":"'Custom Emission Factors'!AI62","v":0},{"$f":"'Custom Emission Factors'!AK62","v":0}]
[null,"custom",{"$f":"'Custom Emission Factors'!B63","v":"custom mobile EF 18"},{"$f":"'Custom Emission Factors'!C63","v":0},{"$f":"'Custom Emission Factors'!D63","v":0},{"$f":"'Custom Emission Factors'!E63","v":0},{"$f":"'Custom Emission Factors'!F63","v":0},{"$f":"'Custom Emission Factors'!G63","v":0},{"$f":"'Custom Emission Factors'!H63","v":0},{"$f":"'Custom Emission Factors'!I63","v":0},{"$f":"'Custom Emission Factors'!J63","v":0},{"$f":"'Custom Emission Factors'!K63","v":0},{"$f":"'Custom Emission Factors'!L63","v":0},{"$f":"'Custom Emission Factors'!M63","v":0},{"$f":"'Custom Emission Factors'!N63","v":0},{"$f":"'Custom Emission Factors'!O63","v":0},{"$f":"'Custom Emission Factors'!P63","v":0},{"$f":"'Custom Emission Factors'!Q63","v":0},{"$f":"'Custom Emission Factors'!R63","v":0},{"$f":"'Custom Emission Factors'!S63","v":0},{"$f":"'Custom Emission Factors'!T63","v":0},{"$f":"'Custom Emission Factors'!U63","v":0},{"$f":"'Custom Emission Factors'!V63","v":0},{"$f":"'Custom Emission Factors'!W63","v":0},{"$f":"'Custom Emission Factors'!X63","v":0},{"$f":"'Custom Emission Factors'!Y63","v":0},{"$f":"'Custom Emission Factors'!Z63","v":0},{"$f":"'Custom Emission Factors'!AA63","v":0},{"$f":"'Custom Emission Factors'!AB63","v":0},{"$f":"'Custom Emission Factors'!AC63","v":0},{"$f":"'Custom Emission Factors'!AD63","v":0},{"$f":"'Custom Emission Factors'!AE63","v":0},{"$f":"'Custom Emission Factors'!AF63","v":0},{"$f":"'Custom Emission Factors'!AG63","v":0},{"$f":"'Custom Emission Factors'!AH63","v":0},{"$f":"'Custom Emission Factors'!AI63","v":0},{"$f":"'Custom Emission Factors'!AK63","v":0}]
[null,"custom",{"$f":"'Custom Emission Factors'!B64","v":"custom mobile EF 19"},{"$f":"'Custom Emission Factors'!C64","v":0},{"$f":"'Custom Emission Factors'!D64","v":0},{"$f":"'Custom Emission Factors'!E64","v":0},{"$f":"'Custom Emission Factors'!F64","v":0},{"$f":"'Custom Emission Factors'!G64","v":0},{"$f":"'Custom Emission Factors'!H64","v":0},{"$f":"'Custom Emission Factors'!I64","v":0},{"$f":"'Custom Emission Factors'!J64","v":0},{"$f":"'Custom Emission Factors'!K64","v":0},{"$f":"'Custom Emission Factors'!L64","v":0},{"$f":"'Custom Emission Factors'!M64","v":0},{"$f":"'Custom Emission Factors'!N64","v":0},{"$f":"'Custom Emission Factors'!O64","v":0},{"$f":"'Custom Emission Factors'!P64","v":0},{"$f":"'Custom Emission Factors'!Q64","v":0},{"$f":"'Custom Emission Factors'!R64","v":0},{"$f":"'Custom Emission Factors'!S64","v":0},{"$f":"'Custom Emission Factors'!T64","v":0},{"$f":"'Custom Emission Factors'!U64","v":0},{"$f":"'Custom Emission Factors'!V64","v":0},{"$f":"'Custom Emission Factors'!W64","v":0},{"$f":"'Custom Emission Factors'!X64","v":0},{"$f":"'Custom Emission Factors'!Y64","v":0},{"$f":"'Custom Emission Factors'!Z64","v":0},{"$f":"'Custom Emission Factors'!AA64","v":0},{"$f":"'Custom Emission Factors'!AB64","v":0},{"$f":"'Custom Emission Factors'!AC64","v":0},{"$f":"'Custom Emission Factors'!AD64","v":0},{"$f":"'Custom Emission Factors'!AE64","v":0},{"$f":"'Custom Emission Factors'!AF64","v":0},{"$f":"'Custom Emission Factors'!AG64","v":0},{"$f":"'Custom Emission Factors'!AH64","v":0},{"$f":"'Custom Emission Factors'!AI64","v":0},{"$f":"'Custom Emission Factors'!AK64","v":0}]
[null,"custom",{"$f":"'Custom Emission Factors'!B65","v":"custom mobile EF 20"},{"$f":"'Custom Emission Factors'!C65","v":0},{"$f":"'Custom Emission Factors'!D65","v":0},{"$f":"'Custom Emission Factors'!E65","v":0},{"$f":"'Custom Emission Factors'!F65","v":0},{"$f":"'Custom Emission Factors'!G65","v":0},{"$f":"'Custom Emission Factors'!H65","v":0},{"$f":"'Custom Emission Factors'!I65","v":0},{"$f":"'Custom Emission Factors'!J65","v":0},{"$f":"'Custom Emission Factors'!K65","v":0},{"$f":"'Custom Emission Factors'!L65","v":0},{"$f":"'Custom Emission Factors'!M65","v":0},{"$f":"'Custom Emission Factors'!N65","v":0},{"$f":"'Custom Emission Factors'!O65","v":0},{"$f":"'Custom Emission Factors'!P65","v":0},{"$f":"'Custom Emission Factors'!Q65","v":0},{"$f":"'Custom Emission Factors'!R65","v":0},{"$f":"'Custom Emission Factors'!S65","v":0},{"$f":"'Custom Emission Factors'!T65","v":0},{"$f":"'Custom Emission Factors'!U65","v":0},{"$f":"'Custom Emission Factors'!V65","v":0},{"$f":"'Custom Emission Factors'!W65","v":0},{"$f":"'Custom Emission Factors'!X65","v":0},{"$f":"'Custom Emission Factors'!Y65","v":0},{"$f":"'Custom Emission Factors'!Z65","v":0},{"$f":"'Custom Emission Factors'!AA65","v":0},{"$f":"'Custom Emission Factors'!AB65","v":0},{"$f":"'Custom Emission Factors'!AC65","v":0},{"$f":"'Custom Emission Factors'!AD65","v":0},{"$f":"'Custom Emission Factors'!AE65","v":0},{"$f":"'Custom Emission Factors'!AF65","v":0},{"$f":"'Custom Emission Factors'!AG65","v":0},{"$f":"'Custom Emission Factors'!AH65","v":0},{"$f":"'Custom Emission Factors'!AI65","v":0},{"$f":"'Custom Emission Factors'!AK65","v":"reference 20"}]
[null,"other"]
[null,"other"]
[null,"other"]
[null,"other"]
[null,"other"]
[null,"other"]
[null,"other"]
[null,"other"]
[null,"other"]
[null,"other"]
[null,"other"]
[null,"other"]
[null,"other"]
[null,"other"]
[null,"other"]
[null,"other"]
[null,"other"]
[null,"other"]
[null,"other"]
[null,"other"]
[null,"other"]
[null,"other"]
[null,"other"]
[null,"other"]
[null,"other"]
[null,"other"]
[null,"other"]
[null,"other"]
[null,"other"]
[null,"other"]
[null,"other"]
[null,"other"]
[null,"other"]
[null,"other"]
[null,"other"]
[null,"other"]
[null,"other"]
[null,"other"]
[null,"other"]
[null,"other"]
[null,"other"]
[null,"other"]
[null,"other"]
[null,"other"]
[null,"other"]
[null,"other"]
[null,"other"]
[null,"other"]
[null,"other"]
[null,"other"]
[null,"other"]
[null,"other"]
[null,"other"]
[null,"other"]
[null,"other"]
[null,"other"]
[null,"other"]
[null,"other"]
[null,"other"]
[null,"other"]
[null,"other"]
[null,"other"]
[null,"other"]
[null,"other"]
[null,"other"]
[null,"other"]

{"sheet":"Transport Freight","index":18,"n_rows":101,"n_cols":9,"rows_kept":101,"cut":false,"hidden":true,"merged":[[3,1,3,6],[86,1,86,6]]}
[]
[]
[]
[null,"Table 14. CO2 Emission Factors by Weight Distance (i.e. Freight Transport)"]
[]
[null,"Vehicle and Size","Region","CO2","CO2 Unit - Numerator","CO2 Unit - Denominator"]
[null,"Air - Domestic","Other",1.9607300000000001,"Kilogram","Tonne Kilometer",{"$f":" B7 & \" (\" & C7 & \")\"","v":"Air - Domestic (Other)"}]
[null,"Air - Short Haul","Other",1.4738899999999999,"Kilogram","Tonne Kilometer",{"$f":" B8 & \" (\" & C8 & \")\"","v":"Air - Short Haul (Other)"}]
[null,"Air - Long Haul","Other",0.61324000000000001,"Kilogram","Tonne Kilometer","Air - Long Haul (Other)"]
[null,"Rail","Other",2.52E-2,"Kilogram","Short Ton Mile","Rail (Other)"]
[null,"Road Vehicle - HGV - Rigid - Engine Size 3.5 - 7.5 tonnes","Other",0.29699999999999999,"Kilogram","Short Ton Mile","Road Vehicle - HGV - Rigid - Engine Size 3.5 - 7.5 tonnes (Other)"]
[null,"Road Vehicle - HGV - Rigid - Engine Size 7.5 - 17 tonnes","Other",0.29699999999999999,"Kilogram","Short Ton Mile",{"$f":" B12 & \" (\" & C12 & \")\"","v":"Road Vehicle - HGV - Rigid - Engine Size 7.5 - 17 tonnes (Other)"}]
[null,"Road Vehicle - HGV - Rigid - Engine Size >17 tonnes","Other",0.29699999999999999,"Kilogram","Short Ton Mile","Road Vehicle - HGV - Rigid - Engine Size >17 tonnes (Other)"]
[null,"Road Vehicle - HGV - Rigid - Engine Size Unknown","Other",0.29699999999999999,"Kilogram","Short Ton Mile","Road Vehicle - HGV - Rigid - Engine Size Unknown (Other)"]
[null,"Road Vehicle - HGV - Articulated - Engine Size 3.5 - 33 tonnes","Other",0.29699999999999999,"Kilogram","Short Ton Mile","Road Vehicle - HGV - Articulated - Engine Size 3.5 - 33 tonnes (Other)"]
[null,"Road Vehicle - HGV - Articulated - Engine Size >33 tonnes","Other",0.29699999999999999,"Kilogram","Short Ton Mile","Road Vehicle - HGV - Articulated - Engine Size >33 tonnes (Other)"]
[null,"Road Vehicle - HGV - Articulated - Engine Size Unknown","Other",0.29699999999999999,"Kilogram","Short Ton Mile","Road Vehicle - HGV - Articulated - Engine Size Unknown (Other)"]
[null,"Road Vehicle - HGV - Type Unknown","Other",0.29699999999999999,"Kilogram","Short Ton Mile","Road Vehicle - HGV - Type Unknown (Other)",{"$f":"3*4","v":12}]
[null,"Road Vehicle - Light Goods Vehicle - Petro - Engine Size ≤1.25 tonnes","Other",0.29699999999999999,"Kilogram","Short Ton Mile","Road Vehicle - Light Goods Vehicle - Petro - Engine Size ≤1.25 tonnes (Other)"]
[null,"Road Vehicle - Light Goods Vehicle - Diesel - Engine Size ≤3.5 tonnes","Other",0.29699999999999999,"Kilogram","Short Ton Mile","Road Vehicle - Light Goods Vehicle - Diesel - Engine Size ≤3.5 tonnes (Other)"]
[null,"Road Vehicle - Light Goods Vehicle - LPG or CNG - Engine Size ≤3.5 tonnes","Other",0.29699999999999999,"Kilogram","Short Ton Mile","Road Vehicle - Light Goods Vehicle - LPG or CNG - Engine Size ≤3.5 tonnes (Other)"]
[null,"Road Vehicle - Light Goods Vehicle - Fuel Unknown","Other",0.29699999999999999,"Kilogram","Short Ton Mile"]
[null,"Watercraft - Large RoPax Ferry","Other",4.8000000000000001E-2,"Kilogram","Tonne Kilometer"]
[null,"Watercraft - Shipping - Small Tanker (844 tonnes deadweight)","Other",4.8000000000000001E-2,"Kilogram","Short Ton Mile"]
[null,"Watercraft - Shipping - Large Tanker (18371 tonnes deadweight)","Other",4.8000000000000001E-2,"Kilogram","Short Ton Mile"]
[null,"Watercraft - Shipping - Very Large Tanker (100000 tonnes deadweight)","Other",4.8000000000000001E-2,"Kilogram","Short Ton Mile"]
[null,"Watercraft - Shipping - Small Bulk Carrier (1720 tonnes deadweight)","Other",4.8000000000000001E-2,"Kilogram","Short Ton Mile"]
[null,"Watercraft - Shipping - Large Bulk Carrier (14201 tonnes deadweight)","Other",4.8000000000000001E-2,"Kilogram","Short Ton Mile"]
[null,"Watercraft - Shipping - Very Large Bulk Carrier (70000 tonnes deadweight)","Other",4.8000000000000001E-2,"Kilogram","Short Ton Mile"]
[null,"Watercraft - Shipping - Small Container Vessel (2500 tonnes deadweight)","Other",4.8000000000000001E-2,"Kilogram","Short Ton Mile"]
[null,"Watercraft - Shipping - Large Container Vessel (20000 tonnes deadweight)","Other",4.8000000000000001E-2,"Kilogram","Short Ton Mile"]
[null,"Air - Domestic","UK",1.9607300000000001,"Kilogram","Tonne Kilometer"]
[null,"Air - Short Haul","UK",1.4738899999999999,"Kilogram","Tonne Kilometer"]
[null,"Air - Long Haul","UK",0.61324000000000001,"Kilogram","Tonne Kilometer"]
[null,"Rail","UK",2.8500000000000001E-2,"Kilogram","Tonne Kilometer"]
[null,"Road Vehicle - HGV - Rigid - Engine Size 3.5 - 7.5 tonnes","UK",0.65946000000000005,"Kilogram","Tonne Kilometer"]
[null,"Road Vehicle - HGV - Rigid - Engine Size 7.5 - 17 tonnes","UK",0.41243000000000002,"Kilogram","Tonne Kilometer"]
[null,"Road Vehicle - HGV - Rigid - Engine Size >17 tonnes","UK",0.20027,"Kilogram","Tonne Kilometer"]
[null,"Road Vehicle - HGV - Rigid - Engine Size Unknown","UK",0.25114999999999998,"Kilogram","Tonne Kilometer"]
[null,"Road Vehicle - HGV - Articulated - Engine Size 3.5 - 33 tonnes","UK",0.15262000000000001,"Kilogram","Tonne Kilometer"]
[null,"Road Vehicle - HGV - Articulated - Engine Size >33 tonnes","UK",8.6779999999999996E-2,"Kilogram","Tonne Kilometer"]
[null,"Road Vehicle - HGV - Articulated - Engine Size Unknown","UK",8.8690000000000005E-2,"Kilogram","Tonne Kilometer"]
[null,"Road Vehicle - HGV - Type Unknown","UK",0.12427000000000001,"Kilogram","Tonne Kilometer"]
[null,"Road Vehicle - Light Goods Vehicle - Petrol - Engine Size < 1.305 tonnes","UK",1.173514123485599,"Kilogram","Tonne Kilometer"]
[null,"Road Vehicle - Light Goods Vehicle - Petrol - Engine Size 1.305 - 1.74 tonnes","UK",0.82063338590271184,"Kilogram","Tonne Kilometer"]
[null,"Road Vehicle - Light Goods Vehicle - Petrol - Engine Size 1.74 - 3.5 tonnes","UK",0.49600663249155191,"Kilogram","Tonne Kilometer"]
[null,"Road Vehicle - Light Goods Vehicle - Diesel - Engine Size < 1.305 tonnes","UK",0.94952000000000003,"Kilogram","Tonne Kilometer"]
[null,"Road Vehicle - Light Goods Vehicle - Diesel - Engine Size 1.305 - 1.74 tonnes","UK",0.87385999999999997,"Kilogram","Tonne Kilometer"]
[null,"Road Vehicle - Light Goods Vehicle - Diesel - Engine Size 1.74 - 3.5 tonnes","UK",0.52197000000000005,"Kilogram","Tonne Kilometer"]
[null,"Road Vehicle - Light Goods Vehicle - LPG or CNG - Engine Size ≤3.5 tonnes","UK",0.61741999999999997,"Kilogram","Tonne Kilometer"]
[null,"Road Vehicle - Light Goods Vehicle - Fuel and Engine Size Unknown","UK",0.58650999999999998,"Kilogram","Tonne Kilometer"]
[null,"Watercraft - Large RoPax Ferry","UK",4.9500000000000002E-2,"Kilogram","Tonne Kilometer"]
[null,"Watercraft - Shipping - Small Tanker (844 tonnes deadweight)","UK",3.3300000000000003E-2,"Kilogram","Tonne Kilometer"]
[null,"Watercraft - Shipping - Large Tanker (18371 tonnes deadweight)","UK",9.1000000000000004E-3,"Kilogram","Tonne Kilometer"]
[null,"Watercraft - Shipping - Very Large Tanker (100000 tonnes deadweight)","UK",5.8999999999999999E-3,"Kilogram","Tonne Kilometer"]
[null,"Watercraft - Shipping - Small Bulk Carrier (1720 tonnes deadweight)","UK",2.92E-2,"Kilogram","Tonne Kilometer"]
[null,"Watercraft - Shipping - Large Bulk Carrier (14201 tonnes deadweight)","UK",7.9000000000000008E-3,"Kilogram","Tonne Kilometer"]
[null,"Watercraft - Shipping - Very Large Bulk Carrier (70000 tonnes deadweight)","UK",4.1000000000000003E-3,"Kilogram","Tonne Kilometer"]
[null,"Watercraft - Shipping - Small Container Vessel (2500 tonnes deadweight)","UK",0.02,"Kilogram","Tonne Kilometer"]
[null,"Watercraft - Shipping - Large Container Vessel (20000 tonnes deadweight)","UK",1.2500000000000001E-2,"Kilogram","Tonne Kilometer"]
[null,"Air - Domestic","US",1.5269999999999999,"Kilogram","Short Ton Mile"]
[null,"Air - Short Haul","US",1.5269999999999999,"Kilogram","Short Ton Mile"]
[null,"Air - Long Haul","US",1.5269999999999999,"Kilogram","Short Ton Mile"]
[null,"Rail","US",2.52E-2,"Kilogram","Short Ton Mile"]
[null,"Road Vehicle - HGV - Rigid - Engine Size 3.5 - 7.5 tonnes","US",0.29699999999999999,"Kilogram","Short Ton Mile"]
[null,"Road Vehicle - HGV - Rigid - Engine Size 7.5 - 17 tonnes","US",0.29699999999999999,"Kilogram","Short Ton Mile"]
[null,"Road Vehicle - HGV - Rigid - Engine Size >17 tonnes","US",0.29699999999999999,"Kilogram","Short Ton Mile"]
[null,"Road Vehicle - HGV - Rigid - Engine Size Unknown","US",0.29699999999999999,"Kilogram","Short Ton Mile"]
[null,"Road Vehicle - HGV - Articulated - Engine Size 3.5 - 33 tonnes","US",0.29699999999999999,"Kilogram","Short Ton Mile"]
[null,"Road Vehicle - HGV - Articulated - Engine Size >33 tonnes","US",0.29699999999999999,"Kilogram","Short Ton Mile"]
[null,"Road Vehicle - HGV - Articulated - Engine Size Unknown","US",0.29699999999999999,"Kilogram","Short Ton Mile"]
[null,"Road Vehicle - HGV - Type Unknown","US",0.29699999999999999,"Kilogram","Short Ton Mile"]
[null,"Road Vehicle - Light Goods Vehicle - Petro - Engine Size ≤1.25 tonnes","US",0.29699999999999999,"Kilogram","Short Ton Mile"]
[null,"Road Vehicle - Light Goods Vehicle - Diesel - Engine Size ≤3.5 tonnes","US",0.29699999999999999,"Kilogram","Short Ton Mile"]
[null,"Road Vehicle - Light Goods Vehicle - LPG or CNG - Engine Size ≤3.5 tonnes","US",0.29699999999999999,"Kilogram","Short Ton Mile"]
[null,"Road Vehicle - Light Goods Vehicle - Fuel Unknown","US",0.29699999999999999,"Kilogram","Short Ton Mile"]
[null,"Watercraft - Large RoPax Ferry","US",4.8000000000000001E-2,"Kilogram","Short Ton Mile"]
[null,"Watercraft - Shipping - Small Tanker (844 tonnes deadweight)","US",4.8000000000000001E-2,"Kilogram","Short Ton Mile"]
[null,"Watercraft - Shipping - Large Tanker (18371 tonnes deadweight)","US",4.8000000000000001E-2,"Kilogram","Short Ton Mile"]
[null,"Watercraft - Shipping - Very Large Tanker (100000 tonnes deadweight)","US",4.8000000000000001E-2,"Kilogram","Short Ton Mile"]
[null,"Watercraft - Shipping - Small Bulk Carrier (1720 tonnes deadweight)","US",4.8000000000000001E-2,"Kilogram","Short Ton Mile"]
[null,"Watercraft - Shipping - Large Bulk Carrier (14201 tonnes deadweight)","US",4.8000000000000001E-2,"Kilogram","Short Ton Mile"]
[null,"Watercraft - Shipping - Very Large Bulk Carrier (70000 tonnes deadweight)","US",4.8000000000000001E-2,"Kilogram","Short Ton Mile"]
[null,"Watercraft - Shipping - Small Container Vessel (2500 tonnes deadweight)","US",4.8000000000000001E-2,"Kilogram","Short Ton Mile"]
[null,"Watercraft - Shipping - Large Container Vessel (20000 tonnes deadweight)","US",4.8000000000000001E-2,"Kilogram","Short Ton Mile"]
[]
[null,"Table 15. CH4 and N2O Emission Factors by Weight Distance (i.e. Freight Transport)"]
[]
[null,"Vehicle Type","Region","CH4","CH4 Unit - Numerator","CH4 Unit - Denominator","N2O","N2O Unit - Numerator","N2O Unit - Denominator"]
[null,"Aircraft","UK",4.1700000000000001E-2,"Gram","Short Ton Mile",4.7899999999999998E-2,"Gram","Short Ton Mile"]
[null,"Rail","UK",2E-3,"Gram","Short Ton Mile",5.9999999999999995E-4,"Gram","Short Ton Mile"]
[null,"HGV and Light Goods Vehicle","UK",3.5000000000000001E-3,"Gram","Short Ton Mile",2.7000000000000001E-3,"Gram","Short Ton Mile"]
[null,"Waterborne Craft","UK",4.1000000000000003E-3,"Gram","Short Ton Mile",1.4E-3,"Gram","Short Ton Mile"]
[null,"Aircraft","US",4.1700000000000001E-2,"Gram","Short Ton Mile",4.7899999999999998E-2,"Gram","Short Ton Mile"]
[null,"Rail","US",2E-3,"Gram","Short Ton Mile",5.9999999999999995E-4,"Gram","Short Ton Mile"]
[null,"HGV and Light Goods Vehicle","US",3.5000000000000001E-3,"Gram","Short Ton Mile",2.7000000000000001E-3,"Gram","Short Ton Mile"]
[null,"Waterborne Craft","US",4.1000000000000003E-3,"Gram","Short Ton Mile",1.4E-3,"Gram","Short Ton Mile"]
[null,"Aircraft","Other",4.1700000000000001E-2,"Gram","Short Ton Mile",4.7899999999999998E-2,"Gram","Short Ton Mile"]
[null,"Rail","Other",2E-3,"Gram","Short Ton Mile",5.9999999999999995E-4,"Gram","Short Ton Mile"]
[null,"HGV and Light Goods Vehicle","Other",3.5000000000000001E-3,"Gram","Short Ton Mile",2.7000000000000001E-3,"Gram","Short Ton Mile"]
[null,"Waterborne Craft","Other",4.1000000000000003E-3,"Gram","Short Ton Mile",1.4E-3,"Gram","Short Ton Mile"]

{"sheet":"Unit Conversions","index":19,"n_rows":5,"n_cols":5,"rows_kept":5,"cut":false,"hidden":false,"merged":[]}
[]
[null,null,"from units","to units","x conversion"]
[null,null,"USGallons","litres",3.7854100000000002]
[null,null,"kilometers","miles",0.62137100000000001]
[null,null,"miles","kilometers",1.60934]

{"sheet":"Causal Chain","index":20,"n_rows":20,"n_cols":11,"rows_kept":20,"cut":false,"hidden":false,"merged":[]}
[null,null,"This causal chain is automatically generated from the various effects listed on the 'Identify Effects and Map Causal Chain' page. "]
[null,"Causal Chain","You can add or delete the various effects on this page by clicking on the relevant colored boxes in the chain below. You can then return to the 'Identify Effects' page to complete the Effect details."]
[]
[null,null,"KEY:","inputs and activities","short name","intermediate effect","short name","GHG effect","short name","non-GHG effect","short name"]
[]
[]
[null,"Policy/Action","Stage 1","Stage 2","Stage 1","Stage 2"]
[]
[]
[null,"Example policy/action short name"]
[]
[null,null,"input"]
[]
[null,null,null,"activity 1"]
[]
[null,null,null,null,"intermediate effect 1 (1st stage)"]
[]
[null,null,null,null,null,"example effect 1"]
[]
[null,null,null,"activity 2a"]

{"sheet":"effects data","index":21,"n_rows":13,"n_cols":19,"rows_kept":13,"cut":false,"hidden":false,"merged":[]}
[null,null,null,null,null,null,null,null,"effects_table lookup col",4]
[null,"summary_effects_table",null,null,null,null,null,null,null,null,""]
[null,"Effect Type","Colum for stage","Parent","Child","Parent short name",null,null,null,"FirstStageIn","SecondStageIn","ThirdStageIn","FourthStageIn","FifthStageIn"]
["effects_list",null,6,null,null,null,null,null,null,"First stage","Second stage","Third stage","Fourth stage","Fifth stage","Sixth stage","Seventh stage","Eighth stage","Ninth stage","Tenth stage"]
[{"$f":"policy_action_short_name","v":"Example policy/action short name"},"Effect type","Stage",null,"ID"]
["input","input",null,"Example policy/action short name","input17",null,null,null,null,{"$f":"IF(C6=$J$4,IFERROR(VLOOKUP(E6,effects_table,$J$1,FALSE),\"\"),\"\")","v":""},{"$f":"IF(C6=$K$4,IFERROR(VLOOKUP(E6,effects_table,$J$1,FALSE),\"\"),\"\")","v":""},{"$f":"IF(C6=$L$4,IFERROR(VLOOKUP(E6,effects_table,$J$1,FALSE),\"\"),\"\")","v":""},{"$f":"IF(C6=$M$4,IFERROR(VLOOKUP(E6,effects_table,$J$1,FALSE),\"\"),\"\")","v":""},{"$f":"IF(C6=$N$4,IFERROR(VLOOKUP(E6,effects_table,$J$1,FALSE),\"\"),\"\")","v":""},{"$f":"IF(C6=$O$4,IFERROR(VLOOKUP(E6,effects_table,$J$1,FALSE),\"\"),\"\")","v":""},{"$f":"IF(C6=$P$4,IFERROR(VLOOKUP(E6,effects_table,$J$1,FALSE),\"\"),\"\")","v":""},{"$f":"IF(C6=$Q$4,IFERROR(VLOOKUP(E6,effects_table,$J$1,FALSE),\"\"),\"\")","v":""},{"$f":"IF(C6=$R$4,IFERROR(VLOOKUP(E6,effects_table,$J$1,FALSE),\"\"),\"\")","v":""},{"$f":"IF(C6=$S$4,IFERROR(VLOOKUP(E6,effects_table,$J$1,FALSE),\"\"),\"\")","v":""}]
["activity 1","activity",null,"input","activ18",null,null,null,null,"","","","","","","","","",""]
["activity 2","activity",null,"input","activ19",null,null,null,null,"","","","","","","","","",""]
["intermediate effect 1 (1st stage)","intermediate effect",null,"activity 1","inter20",null,null,null,null,"","","","","","","","","",""]
["intermediate effect 2 (1st stage)","intermediate effect","Sixth stage","activity 2","examp21",null,null,null,null,"","","","","","example intermediate effect 2 (first stage)","","","",""]
["example effect 1","GHG effect",null,"intermediate effect 1 (1st stage)","examp22",null,null,null,null,"[select]","[select]","[select]","[select]","[select]","Sixth stage","[select]","[select]","[select]","[select]"]
["example effect 2","GHG effect",null,"intermediate effect 2 (1st stage)","examp23",null,null,null,null,null,null,null,null,null,"example intermediate effect 2 (first stage)"]
["example non-GHG effect","non-GHG effect",null,"intermediate effect 2 (1st stage)","examp24",null,null,null,null,null,null,null,null,null,"[select]"]

{"sheet":"References","index":22,"n_rows":869,"n_cols":17,"rows_kept":869,"cut":false,"hidden":false,"merged":[]}
[]
[null,null,null,null,null,null,null,null,"Optional information, to be completed where relevant"]
[null,"Short description","Author(s)/Editor(s)","Year","Title","Edition","Place of publication","Publisher","Journal","Volume","Issue","URL ","Access date","Chapter ","Page(s)","Table(s)","Other details"]
[null,"[empty]"]
[null,"WRI (2014)","World Resources Institute",2014,"Emission Factors from Cross-Sector Tools","2014-04-01","http://www.ghgprotocol.org/calculation-tools/all-tools","WRI",null,null,null,"http://www.ghgprotocol.org/calculation-tools/all-tools","2016-02-01"]
[null,"reference 1"]
[null,"reference 2"]
[null,"reference 3"]
[null,"reference 4"]
[null,"reference 5"]
[null,"reference 6"]
[null,"reference 7"]
[null,"reference 8"]
[null,"reference 9"]
[null,"reference 10"]
[null,"reference 11"]
[null,"reference 12"]
[null,"reference 13"]
[null,"reference 14"]
[null,"reference 15"]
[null,"reference 16"]
[null,"reference 17"]
[null,"reference 18"]
[null,"reference 19"]
[null,"reference 20"]
[null,"reference 21"]
[null,"reference 22"]
[null,"reference 23"]
[null,"reference 24"]
[null,"reference 25"]
[null,"reference 26"]
[null,"reference 27"]
[null,"reference 28"]
[null,"reference 29"]
[null,"reference 30"]
[null,"reference 31"]
[null,"reference 32"]
[null,"reference 33"]
[null,"reference 34"]
[null,"reference 35"]
[null,"reference 36"]
[null,"reference 37"]
[null,"reference 38"]
[null,"reference 39"]
[null,"reference 40"]
[null,"reference 41"]
[null,"reference 42"]
[null,"reference 43"]
[null,"reference 44"]
[null,"reference 45"]
[null,"reference 46"]
[null,"reference 47"]
[null,"reference 48"]
[null,"reference 49"]
[null,"reference 50"]
[null,"reference 51"]
[null,"reference 52"]
[null,"reference 53"]
[null,"reference 54"]
[null,"reference 55"]
[null,"reference 56"]
[null,"reference 57"]
[null,"reference 58"]
[null,"reference 59"]
[null,"reference 60"]
[null,"reference 61"]
[null,"reference 62"]
[null,"reference 63"]
[null,"reference 64"]
[null,"reference 65"]
[null,"reference 66"]
[null,"reference 67"]
[null,"reference 68"]
[null,"reference 69"]
[null,"reference 70"]
[null,"reference 71"]
[null,"reference 72"]
[null,"reference 73"]
[null,"reference 74"]
[null,"reference 75"]
[null,"reference 76"]
[null,"reference 77"]
[null,"reference 78"]
[null,"reference 79"]
[null,"reference 80"]
[null,"reference 81"]
[null,"reference 82"]
[null,"reference 83"]
[null,"reference 84"]
[null,"reference 85"]
[null,"reference 86"]
[null,"reference 87"]
[null,"reference 88"]
[null,"reference 89"]
[null,"reference 90"]
[null,"reference 91"]
[null,"reference 92"]
[null,"reference 93"]
[null,"reference 94"]
[null,"reference 95"]
[null,"reference 96"]
[null,"reference 97"]
[null,"reference 98"]
[null,"reference 99"]
[null,"reference 100"]
[null,"reference 101"]
[null,"reference 102"]
[null,"reference 103"]
[null,"reference 104"]
[null,"reference 105"]
[null,"reference 106"]
[null,"reference 107"]
[null,"reference 108"]
[null,"reference 109"]
[null,"reference 110"]
[null,"reference 111"]
[null,"reference 112"]
[null,"reference 113"]
[null,"reference 114"]
[null,"reference 115"]
[null,"reference 116"]
[null,"reference 117"]
[null,"reference 118"]
[null,"reference 119"]
[null,"reference 120"]
[null,"reference 121"]
[null,"reference 122"]
[null,"reference 123"]
[null,"reference 124"]
[null,"reference 125"]
[null,"reference 126"]
[null,"reference 127"]
[null,"reference 128"]
[null,"reference 129"]
[null,"reference 130"]
[null,"reference 131"]
[null,"reference 132"]
[null,"reference 133"]
[null,"reference 134"]
[null,"reference 135"]
[null,"reference 136"]
[null,"reference 137"]
[null,"reference 138"]
[null,"reference 139"]
[null,"reference 140"]
[null,"reference 141"]
[null,"reference 142"]
[null,"reference 143"]
[null,"reference 144"]
[null,"reference 145"]
[null,"reference 146"]
[null,"reference 147"]
[null,"reference 148"]
[null,"reference 149"]
[null,"reference 150"]
[null,"reference 151"]
[null,"reference 152"]
[null,"reference 153"]
[null,"reference 154"]
[null,"reference 155"]
[null,"reference 156"]
[null,"reference 157"]
[null,"reference 158"]
[null,"reference 159"]
[null,"reference 160"]
[null,"reference 161"]
[null,"reference 162"]
[null,"reference 163"]
[null,"reference 164"]
[null,"reference 165"]
[null,"reference 166"]
[null,"reference 167"]
[null,"reference 168"]
[null,"reference 169"]
[null,"reference 170"]
[null,"reference 171"]
[null,"reference 172"]
[null,"reference 173"]
[null,"reference 174"]
[null,"reference 175"]
[null,"reference 176"]
[null,"reference 177"]
[null,"reference 178"]
[null,"reference 179"]
[null,"reference 180"]
[null,"reference 181"]
[null,"reference 182"]
[null,"reference 183"]
[null,"reference 184"]
[null,"reference 185"]
[null,"reference 186"]
[null,"reference 187"]
[null,"reference 188"]
[null,"reference 189"]
[null,"reference 190"]
[null,"reference 191"]
[null,"reference 192"]
[null,"reference 193"]
[null,"reference 194"]
[null,"reference 195"]
[null,"reference 196"]
[null,"reference 197"]
[null,"reference 198"]
[null,"reference 199"]
[null,"reference 200"]
[null,"reference 201"]
[null,"reference 202"]
[null,"reference 203"]
[null,"reference 204"]
[null,"reference 205"]
[null,"reference 206"]
[null,"reference 207"]
[null,"reference 208"]
[null,"reference 209"]
[null,"reference 210"]
[null,"reference 211"]
[null,"reference 212"]
[null,"reference 213"]
[null,"reference 214"]
[null,"reference 215"]
[null,"reference 216"]
[null,"reference 217"]
[null,"reference 218"]
[null,"reference 219"]
[null,"reference 220"]
[null,"reference 221"]
[null,"reference 222"]
[null,"reference 223"]
[null,"reference 224"]
[null,"reference 225"]
[null,"reference 226"]
[null,"reference 227"]
[null,"reference 228"]
[null,"reference 229"]
[null,"reference 230"]
[null,"reference 231"]
[null,"reference 232"]
[null,"reference 233"]
[null,"reference 234"]
[null,"reference 235"]
[null,"reference 236"]
[null,"reference 237"]
[null,"reference 238"]
[null,"reference 239"]
[null,"reference 240"]
[null,"reference 241"]
[null,"reference 242"]
[null,"reference 243"]
[null,"reference 244"]
[null,"reference 245"]
[null,"reference 246"]
[null,"reference 247"]
[null,"reference 248"]
[null,"reference 249"]
[null,"reference 250"]
[null,"reference 251"]
[null,"reference 252"]
[null,"reference 253"]
[null,"reference 254"]
[null,"reference 255"]
[null,"reference 256"]
[null,"reference 257"]
[null,"reference 258"]
[null,"reference 259"]
[null,"reference 260"]
[null,"reference 261"]
[null,"reference 262"]
[null,"reference 263"]
[null,"reference 264"]
[null,"reference 265"]
[null,"reference 266"]
[null,"reference 267"]
[null,"reference 268"]
[null,"reference 269"]
[null,"reference 270"]
[null,"reference 271"]
[null,"reference 272"]
[null,"reference 273"]
[null,"reference 274"]
[null,"reference 275"]
[null,"reference 276"]
[null,"reference 277"]
[null,"reference 278"]
[null,"reference 279"]
[null,"reference 280"]
[null,"reference 281"]
[null,"reference 282"]
[null,"reference 283"]
[null,"reference 284"]
[null,"reference 285"]
[null,"reference 286"]
[null,"reference 287"]
[null,"reference 288"]
[null,"reference 289"]
[null,"reference 290"]
[null,"reference 291"]
[null,"reference 292"]
[null,"reference 293"]
[null,"reference 294"]
[null,"reference 295"]
[null,"reference 296"]
[null,"reference 297"]
[null,"reference 298"]
[null,"reference 299"]
[null,"reference 300"]
[null,"reference 301"]
[null,"reference 302"]
[null,"reference 303"]
[null,"reference 304"]
[null,"reference 305"]
[null,"reference 306"]
[null,"reference 307"]
[null,"reference 308"]
[null,"reference 309"]
[null,"reference 310"]
[null,"reference 311"]
[null,"reference 312"]
[null,"reference 313"]
[null,"reference 314"]
[null,"reference 315"]
[null,"reference 316"]
[null,"reference 317"]
[null,"reference 318"]
[null,"reference 319"]
[null,"reference 320"]
[null,"reference 321"]
[null,"reference 322"]
[null,"reference 323"]
[null,"reference 324"]
[null,"reference 325"]
[null,"reference 326"]
[null,"reference 327"]
[null,"reference 328"]
[null,"reference 329"]
[null,"reference 330"]
[null,"reference 331"]
[null,"reference 332"]
[null,"reference 333"]
[null,"reference 334"]
[null,"reference 335"]
[null,"reference 336"]
[null,"reference 337"]
[null,"reference 338"]
[null,"reference 339"]
[null,"reference 340"]
[null,"reference 341"]
[null,"reference 342"]
[null,"reference 343"]
[null,"reference 344"]
[null,"reference 345"]
[null,"reference 346"]
[null,"reference 347"]
[null,"reference 348"]
[null,"reference 349"]
[null,"reference 350"]
[null,"reference 351"]
[null,"reference 352"]
[null,"reference 353"]
[null,"reference 354"]
[null,"reference 355"]
[null,"reference 356"]
[null,"reference 357"]
[null,"reference 358"]
[null,"reference 359"]
[null,"reference 360"]
[null,"reference 361"]
[null,"reference 362"]
[null,"reference 363"]
[null,"reference 364"]
[null,"reference 365"]
[null,"reference 366"]
[null,"reference 367"]
[null,"reference 368"]
[null,"reference 369"]
[null,"reference 370"]
[null,"reference 371"]
[null,"reference 372"]
[null,"reference 373"]
[null,"reference 374"]
[null,"reference 375"]
[null,"reference 376"]
[null,"reference 377"]
[null,"reference 378"]
[null,"reference 379"]
[null,"reference 380"]
[null,"reference 381"]
[null,"reference 382"]
[null,"reference 383"]
[null,"reference 384"]
[null,"reference 385"]
[null,"reference 386"]
[null,"reference 387"]
[null,"reference 388"]
[null,"reference 389"]
[null,"reference 390"]
[null,"reference 391"]
[null,"reference 392"]
[null,"reference 393"]
[null,"reference 394"]
[null,"reference 395"]
[null,"reference 396"]
[null,"reference 397"]
[null,"reference 398"]
[null,"reference 399"]
[null,"reference 400"]
[null,"reference 401"]
[null,"reference 402"]
[null,"reference 403"]
[null,"reference 404"]
[null,"reference 405"]
[null,"reference 406"]
[null,"reference 407"]
[null,"reference 408"]
[null,"reference 409"]
[null,"reference 410"]
[null,"reference 411"]
[null,"reference 412"]
[null,"reference 413"]
[null,"reference 414"]
[null,"reference 415"]
[null,"reference 416"]
[null,"reference 417"]
[null,"reference 418"]
[null,"reference 419"]
[null,"reference 420"]
[null,"reference 421"]
[null,"reference 422"]
[null,"reference 423"]
[null,"reference 424"]
[null,"reference 425"]
[null,"reference 426"]
[null,"reference 427"]
[null,"reference 428"]
[null,"reference 429"]
[null,"reference 430"]
[null,"reference 431"]
[null,"reference 432"]
[null,"reference 433"]
[null,"reference 434"]
[null,"reference 435"]
[null,"reference 436"]
[null,"reference 437"]
[null,"reference 438"]
[null,"reference 439"]
[null,"reference 440"]
[null,"reference 441"]
[null,"reference 442"]
[null,"reference 443"]
[null,"reference 444"]
[null,"reference 445"]
[null,"reference 446"]
[null,"reference 447"]
[null,"reference 448"]
[null,"reference 449"]
[null,"reference 450"]
[null,"reference 451"]
[null,"reference 452"]
[null,"reference 453"]
[null,"reference 454"]
[null,"reference 455"]
[null,"reference 456"]
[null,"reference 457"]
[null,"reference 458"]
[null,"reference 459"]
[null,"reference 460"]
[null,"reference 461"]
[null,"reference 462"]
[null,"reference 463"]
[null,"reference 464"]
[null,"reference 465"]
[null,"reference 466"]
[null,"reference 467"]
[null,"reference 468"]
[null,"reference 469"]
[null,"reference 470"]
[null,"reference 471"]
[null,"reference 472"]
[null,"reference 473"]
[null,"reference 474"]
[null,"reference 475"]
[null,"reference 476"]
[null,"reference 477"]
[null,"reference 478"]
[null,"reference 479"]
[null,"reference 480"]
[null,"reference 481"]
[null,"reference 482"]
[null,"reference 483"]
[null,"reference 484"]
[null,"reference 485"]
[null,"reference 486"]
[null,"reference 487"]
[null,"reference 488"]
[null,"reference 489"]
[null,"reference 490"]
[null,"reference 491"]
[null,"reference 492"]
[null,"reference 493"]
[null,"reference 494"]
[null,"reference 495"]
[null,"reference 496"]
[null,"reference 497"]
[null,"reference 498"]
[null,"reference 499"]
[null,"reference 500"]
[null,"reference 501"]
[null,"reference 502"]
[null,"reference 503"]
[null,"reference 504"]
[null,"reference 505"]
[null,"reference 506"]
[null,"reference 507"]
[null,"reference 508"]
[null,"reference 509"]
[null,"reference 510"]
[null,"reference 511"]
[null,"reference 512"]
[null,"reference 513"]
[null,"reference 514"]
[null,"reference 515"]
[null,"reference 516"]
[null,"reference 517"]
[null,"reference 518"]
[null,"reference 519"]
[null,"reference 520"]
[null,"reference 521"]
[null,"reference 522"]
[null,"reference 523"]
[null,"reference 524"]
[null,"reference 525"]
[null,"reference 526"]
[null,"reference 527"]
[null,"reference 528"]
[null,"reference 529"]
[null,"reference 530"]
[null,"reference 531"]
[null,"reference 532"]
[null,"reference 533"]
[null,"reference 534"]
[null,"reference 535"]
[null,"reference 536"]
[null,"reference 537"]
[null,"reference 538"]
[null,"reference 539"]
[null,"reference 540"]
[null,"reference 541"]
[null,"reference 542"]
[null,"reference 543"]
[null,"reference 544"]
[null,"reference 545"]
[null,"reference 546"]
[null,"reference 547"]
[null,"reference 548"]
[null,"reference 549"]
[null,"reference 550"]
[null,"reference 551"]
[null,"reference 552"]
[null,"reference 553"]
[null,"reference 554"]
[null,"reference 555"]
[null,"reference 556"]
[null,"reference 557"]
[null,"reference 558"]
[null,"reference 559"]
[null,"reference 560"]
[null,"reference 561"]
[null,"reference 562"]
[null,"reference 563"]
[null,"reference 564"]
[null,"reference 565"]
[null,"reference 566"]
[null,"reference 567"]
[null,"reference 568"]
[null,"reference 569"]
[null,"reference 570"]
[null,"reference 571"]
[null,"reference 572"]
[null,"reference 573"]
[null,"reference 574"]
[null,"reference 575"]
[null,"reference 576"]
[null,"reference 577"]
[null,"reference 578"]
[null,"reference 579"]
[null,"reference 580"]
[null,"reference 581"]
[null,"reference 582"]
[null,"reference 583"]
[null,"reference 584"]
[null,"reference 585"]
[null,"reference 586"]
[null,"reference 587"]
[null,"reference 588"]
[null,"reference 589"]
[null,"reference 590"]
[null,"reference 591"]
[null,"reference 592"]
[null,"reference 593"]
[null,"reference 594"]
[null,"reference 595"]
[null,"reference 596"]
[null,"reference 597"]
[null,"reference 598"]
[null,"reference 599"]
[null,"reference 600"]
[null,"reference 601"]
[null,"reference 602"]
[null,"reference 603"]
[null,"reference 604"]
[null,"reference 605"]
[null,"reference 606"]
[null,"reference 607"]
[null,"reference 608"]
[null,"reference 609"]
[null,"reference 610"]
[null,"reference 611"]
[null,"reference 612"]
[null,"reference 613"]
[null,"reference 614"]
[null,"reference 615"]
[null,"reference 616"]
[null,"reference 617"]
[null,"reference 618"]
[null,"reference 619"]
[null,"reference 620"]
[null,"reference 621"]
[null,"reference 622"]
[null,"reference 623"]
[null,"reference 624"]
[null,"reference 625"]
[null,"reference 626"]
[null,"reference 627"]
[null,"reference 628"]
[null,"reference 629"]
[null,"reference 630"]
[null,"reference 631"]
[null,"reference 632"]
[null,"reference 633"]
[null,"reference 634"]
[null,"reference 635"]
[null,"reference 636"]
[null,"reference 637"]
[null,"reference 638"]
[null,"reference 639"]
[null,"reference 640"]
[null,"reference 641"]
[null,"reference 642"]
[null,"reference 643"]
[null,"reference 644"]
[null,"reference 645"]
[null,"reference 646"]
[null,"reference 647"]
[null,"reference 648"]
[null,"reference 649"]
[null,"reference 650"]
[null,"reference 651"]
[null,"reference 652"]
[null,"reference 653"]
[null,"reference 654"]
[null,"reference 655"]
[null,"reference 656"]
[null,"reference 657"]
[null,"reference 658"]
[null,"reference 659"]
[null,"reference 660"]
[null,"reference 661"]
[null,"reference 662"]
[null,"reference 663"]
[null,"reference 664"]
[null,"reference 665"]
[null,"reference 666"]
[null,"reference 667"]
[null,"reference 668"]
[null,"reference 669"]
[null,"reference 670"]
[null,"reference 671"]
[null,"reference 672"]
[null,"reference 673"]
[null,"reference 674"]
[null,"reference 675"]
[null,"reference 676"]
[null,"reference 677"]
[null,"reference 678"]
[null,"reference 679"]
[null,"reference 680"]
[null,"reference 681"]
[null,"reference 682"]
[null,"reference 683"]
[null,"reference 684"]
[null,"reference 685"]
[null,"reference 686"]
[null,"reference 687"]
[null,"reference 688"]
[null,"reference 689"]
[null,"reference 690"]
[null,"reference 691"]
[null,"reference 692"]
[null,"reference 693"]
[null,"reference 694"]
[null,"reference 695"]
[null,"reference 696"]
[null,"reference 697"]
[null,"reference 698"]
[null,"reference 699"]
[null,"reference 700"]
[null,"reference 701"]
[null,"reference 702"]
[null,"reference 703"]
[null,"reference 704"]
[null,"reference 705"]
[null,"reference 706"]
[null,"reference 707"]
[null,"reference 708"]
[null,"reference 709"]
[null,"reference 710"]
[null,"reference 711"]
[null,"reference 712"]
[null,"reference 713"]
[null,"reference 714"]
[null,"reference 715"]
[null,"reference 716"]
[null,"reference 717"]
[null,"reference 718"]
[null,"reference 719"]
[null,"reference 720"]
[null,"reference 721"]
[null,"reference 722"]
[null,"reference 723"]
[null,"reference 724"]
[null,"reference 725"]
[null,"reference 726"]
[null,"reference 727"]
[null,"reference 728"]
[null,"reference 729"]
[null,"reference 730"]
[null,"reference 731"]
[null,"reference 732"]
[null,"reference 733"]
[null,"reference 734"]
[null,"reference 735"]
[null,"reference 736"]
[null,"reference 737"]
[null,"reference 738"]
[null,"reference 739"]
[null,"reference 740"]
[null,"reference 741"]
[null,"reference 742"]
[null,"reference 743"]
[null,"reference 744"]
[null,"reference 745"]
[null,"reference 746"]
[null,"reference 747"]
[null,"reference 748"]
[null,"reference 749"]
[null,"reference 750"]
[null,"reference 751"]
[null,"reference 752"]
[null,"reference 753"]
[null,"reference 754"]
[null,"reference 755"]
[null,"reference 756"]
[null,"reference 757"]
[null,"reference 758"]
[null,"reference 759"]
[null,"reference 760"]
[null,"reference 761"]
[null,"reference 762"]
[null,"reference 763"]
[null,"reference 764"]
[null,"reference 765"]
[null,"reference 766"]
[null,"reference 767"]
[null,"reference 768"]
[null,"reference 769"]
[null,"reference 770"]
[null,"reference 771"]
[null,"reference 772"]
[null,"reference 773"]
[null,"reference 774"]
[null,"reference 775"]
[null,"reference 776"]
[null,"reference 777"]
[null,"reference 778"]
[null,"reference 779"]
[null,"reference 780"]
[null,"reference 781"]
[null,"reference 782"]
[null,"reference 783"]
[null,"reference 784"]
[null,"reference 785"]
[null,"reference 786"]
[null,"reference 787"]
[null,"reference 788"]
[null,"reference 789"]
[null,"reference 790"]
[null,"reference 791"]
[null,"reference 792"]
[null,"reference 793"]
[null,"reference 794"]
[null,"reference 795"]
[null,"reference 796"]
[null,"reference 797"]
[null,"reference 798"]
[null,"reference 799"]
[null,"reference 800"]
[null,"reference 801"]
[null,"reference 802"]
[null,"reference 803"]
[null,"reference 804"]
[null,"reference 805"]
[null,"reference 806"]
[null,"reference 807"]
[null,"reference 808"]
[null,"reference 809"]
[null,"reference 810"]
[null,"reference 811"]
[null,"reference 812"]
[null,"reference 813"]
[null,"reference 814"]
[null,"reference 815"]
[null,"reference 816"]
[null,"reference 817"]
[null,"reference 818"]
[null,"reference 819"]
[null,"reference 820"]
[null,"reference 821"]
[null,"reference 822"]
[null,"reference 823"]
[null,"reference 824"]
[null,"reference 825"]
[null,"reference 826"]
[null,"reference 827"]
[null,"reference 828"]
[null,"reference 829"]
[null,"reference 830"]
[null,"reference 831"]
[null,"reference 832"]
[null,"reference 833"]
[null,"reference 834"]
[null,"reference 835"]
[null,"reference 836"]
[null,"reference 837"]
[null,"reference 838"]
[null,"reference 839"]
[null,"reference 840"]
[null,"reference 841"]
[null,"reference 842"]
[null,"reference 843"]
[null,"reference 844"]
[null,"reference 845"]
[null,"reference 846"]
[null,"reference 847"]
[null,"reference 848"]
[null,"reference 849"]
[null,"reference 850"]
[null,"reference 851"]
[null,"reference 852"]
[null,"reference 853"]
[null,"reference 854"]
[null,"reference 855"]
[null,"reference 856"]
[null,"reference 857"]
[null,"reference 858"]
[null,"reference 859"]
[null,"reference 860"]
[null,"reference 861"]
[null,"reference 862"]
[null,"reference 863"]
[null,"reference 864"]